BEGIN:VCALENDAR
VERSION:2.0
PRODID:-//Gethsemane United Methodist Church - ECPv6.15.12.2//NONSGML v1.0//EN
CALSCALE:GREGORIAN
METHOD:PUBLISH
X-ORIGINAL-URL:https://gethsemaneumc.org
X-WR-CALDESC:Events for Gethsemane United Methodist Church
REFRESH-INTERVAL;VALUE=DURATION:PT1H
X-Robots-Tag:noindex
X-PUBLISHED-TTL:PT1H
BEGIN:VTIMEZONE
TZID:America/New_York
BEGIN:DAYLIGHT
TZOFFSETFROM:-0500
TZOFFSETTO:-0400
TZNAME:EDT
DTSTART:20250309T070000
END:DAYLIGHT
BEGIN:STANDARD
TZOFFSETFROM:-0400
TZOFFSETTO:-0500
TZNAME:EST
DTSTART:20251102T060000
END:STANDARD
BEGIN:DAYLIGHT
TZOFFSETFROM:-0500
TZOFFSETTO:-0400
TZNAME:EDT
DTSTART:20260308T070000
END:DAYLIGHT
BEGIN:STANDARD
TZOFFSETFROM:-0400
TZOFFSETTO:-0500
TZNAME:EST
DTSTART:20261101T060000
END:STANDARD
BEGIN:DAYLIGHT
TZOFFSETFROM:-0500
TZOFFSETTO:-0400
TZNAME:EDT
DTSTART:20270314T070000
END:DAYLIGHT
BEGIN:STANDARD
TZOFFSETFROM:-0400
TZOFFSETTO:-0500
TZNAME:EST
DTSTART:20271107T060000
END:STANDARD
END:VTIMEZONE
BEGIN:VEVENT
DTSTART;TZID=America/New_York:20260117T100000
DTEND;TZID=America/New_York:20260117T120000
DTSTAMP:20260425T122833
CREATED:20251012T134130Z
LAST-MODIFIED:20260116T205142Z
UID:41412-1768644000-1768651200@gethsemaneumc.org
SUMMARY:United Methodist Women Meeting/ZOOM
DESCRIPTION:
URL:https://gethsemaneumc.org/event/united-methodist-women-meeting-zoom-25/
LOCATION:GUMC – Fellowship Hall
END:VEVENT
BEGIN:VEVENT
DTSTART;TZID=America/New_York:20260117T100000
DTEND;TZID=America/New_York:20260117T120000
DTSTAMP:20260425T122833
CREATED:20251015T135327Z
LAST-MODIFIED:20260116T205142Z
UID:41429-1768644000-1768651200@gethsemaneumc.org
SUMMARY:UNITED WOMEN OF FAITH
DESCRIPTION:
URL:https://gethsemaneumc.org/event/united-women-of-faith-35/
END:VEVENT
END:VCALENDAR