BEGIN:VCALENDAR
VERSION:2.0
PRODID:-//Gethsemane United Methodist Church - ECPv6.15.12.2//NONSGML v1.0//EN
CALSCALE:GREGORIAN
METHOD:PUBLISH
X-WR-CALNAME:Gethsemane United Methodist Church
X-ORIGINAL-URL:https://gethsemaneumc.org
X-WR-CALDESC:Events for Gethsemane United Methodist Church
REFRESH-INTERVAL;VALUE=DURATION:PT1H
X-Robots-Tag:noindex
X-PUBLISHED-TTL:PT1H
BEGIN:VTIMEZONE
TZID:America/New_York
BEGIN:DAYLIGHT
TZOFFSETFROM:-0500
TZOFFSETTO:-0400
TZNAME:EDT
DTSTART:20250309T070000
END:DAYLIGHT
BEGIN:STANDARD
TZOFFSETFROM:-0400
TZOFFSETTO:-0500
TZNAME:EST
DTSTART:20251102T060000
END:STANDARD
BEGIN:DAYLIGHT
TZOFFSETFROM:-0500
TZOFFSETTO:-0400
TZNAME:EDT
DTSTART:20260308T070000
END:DAYLIGHT
BEGIN:STANDARD
TZOFFSETFROM:-0400
TZOFFSETTO:-0500
TZNAME:EST
DTSTART:20261101T060000
END:STANDARD
BEGIN:DAYLIGHT
TZOFFSETFROM:-0500
TZOFFSETTO:-0400
TZNAME:EDT
DTSTART:20270314T070000
END:DAYLIGHT
BEGIN:STANDARD
TZOFFSETFROM:-0400
TZOFFSETTO:-0500
TZNAME:EST
DTSTART:20271107T060000
END:STANDARD
END:VTIMEZONE
BEGIN:VEVENT
DTSTART;TZID=America/New_York:20260308T124500
DTEND;TZID=America/New_York:20260308T161500
DTSTAMP:20260425T072820
CREATED:20260211T205307Z
LAST-MODIFIED:20260307T235922Z
UID:42415-1772973900-1772986500@gethsemaneumc.org
SUMMARY:Centering Black Women in Endometriosis Care: A Solutions Roundtable
DESCRIPTION:Endo Black\, Inc. is hosting the Black & Endo Roundtable\, a first-of-its-kind solutions-focused convening designed specifically to address endometriosis among Black women and identify clear next steps for collective progress. By aligning lived experience with institutional influence\, this convening seeks to contribute to more equitable outcomes in endometriosis diagnosis\, treatment\, research inclusion\, and policy advancement. \nDespite years of advocacy around endometriosis\, Black women remain largely invisible in dominant narratives\, funding priorities\, and clinical solutions. This roundtable represents a first-of-its-kind effort to intentionally and exclusively center Black women—ensuring solutions are built with us\, not for us. A post-roundtable summary will capture themes\, recommendations\, and next steps to support continued collaboration and accountability. \nFor more information\, contact lauren.kornegay (at) endoblack.org
URL:https://gethsemaneumc.org/event/centering-black-women-in-endometriosis-care-a-solutions-roundtable/
LOCATION:Gethsemane United Methodist – Food Distribution Center\, 910 Addison Rd S\, Capitol Heights\, MD 20743\, USA\, Gethsemane United Methodist Church-1-Fellowship Hall (200)
END:VEVENT
END:VCALENDAR