BEGIN:VCALENDAR
VERSION:2.0
PRODID:-//Gethsemane United Methodist Church - ECPv6.15.12.2//NONSGML v1.0//EN
CALSCALE:GREGORIAN
METHOD:PUBLISH
X-WR-CALNAME:Gethsemane United Methodist Church
X-ORIGINAL-URL:https://gethsemaneumc.org
X-WR-CALDESC:Events for Gethsemane United Methodist Church
REFRESH-INTERVAL;VALUE=DURATION:PT1H
X-Robots-Tag:noindex
X-PUBLISHED-TTL:PT1H
BEGIN:VTIMEZONE
TZID:America/New_York
BEGIN:DAYLIGHT
TZOFFSETFROM:-0500
TZOFFSETTO:-0400
TZNAME:EDT
DTSTART:20250309T070000
END:DAYLIGHT
BEGIN:STANDARD
TZOFFSETFROM:-0400
TZOFFSETTO:-0500
TZNAME:EST
DTSTART:20251102T060000
END:STANDARD
BEGIN:DAYLIGHT
TZOFFSETFROM:-0500
TZOFFSETTO:-0400
TZNAME:EDT
DTSTART:20260308T070000
END:DAYLIGHT
BEGIN:STANDARD
TZOFFSETFROM:-0400
TZOFFSETTO:-0500
TZNAME:EST
DTSTART:20261101T060000
END:STANDARD
BEGIN:DAYLIGHT
TZOFFSETFROM:-0500
TZOFFSETTO:-0400
TZNAME:EDT
DTSTART:20270314T070000
END:DAYLIGHT
BEGIN:STANDARD
TZOFFSETFROM:-0400
TZOFFSETTO:-0500
TZNAME:EST
DTSTART:20271107T060000
END:STANDARD
END:VTIMEZONE
BEGIN:VEVENT
DTSTART;TZID=America/New_York:20260316T190000
DTEND;TZID=America/New_York:20260316T200000
DTSTAMP:20260425T073324
CREATED:20260310T015133Z
LAST-MODIFIED:20260316T022149Z
UID:42645-1773687600-1773691200@gethsemaneumc.org
SUMMARY:Mass Choir rehearsal
DESCRIPTION:Join with Google Meet: https://meet.google.com/rph-zibz-nwt\nOr dial: (US) +1 518-519-0096 PIN: 221094178#\nMore phone numbers: https://tel.meet/rph-zibz-nwt?pin=3998244768316&hs=7\nLearn more about Meet at: https://support.google.com/a/users/answer/9282720
URL:https://gethsemaneumc.org/event/mass-choir-rehearsal-2/
LOCATION:Gethsemane United Methodist Church-1-Sanctuary (500)
END:VEVENT
END:VCALENDAR