BEGIN:VCALENDAR
VERSION:2.0
PRODID:-//Gethsemane United Methodist Church - ECPv6.15.12.2//NONSGML v1.0//EN
CALSCALE:GREGORIAN
METHOD:PUBLISH
X-ORIGINAL-URL:https://gethsemaneumc.org
X-WR-CALDESC:Events for Gethsemane United Methodist Church
REFRESH-INTERVAL;VALUE=DURATION:PT1H
X-Robots-Tag:noindex
X-PUBLISHED-TTL:PT1H
BEGIN:VTIMEZONE
TZID:America/New_York
BEGIN:DAYLIGHT
TZOFFSETFROM:-0500
TZOFFSETTO:-0400
TZNAME:EDT
DTSTART:20240310T070000
END:DAYLIGHT
BEGIN:STANDARD
TZOFFSETFROM:-0400
TZOFFSETTO:-0500
TZNAME:EST
DTSTART:20241103T060000
END:STANDARD
BEGIN:DAYLIGHT
TZOFFSETFROM:-0500
TZOFFSETTO:-0400
TZNAME:EDT
DTSTART:20250309T070000
END:DAYLIGHT
BEGIN:STANDARD
TZOFFSETFROM:-0400
TZOFFSETTO:-0500
TZNAME:EST
DTSTART:20251102T060000
END:STANDARD
BEGIN:DAYLIGHT
TZOFFSETFROM:-0500
TZOFFSETTO:-0400
TZNAME:EDT
DTSTART:20260308T070000
END:DAYLIGHT
BEGIN:STANDARD
TZOFFSETFROM:-0400
TZOFFSETTO:-0500
TZNAME:EST
DTSTART:20261101T060000
END:STANDARD
END:VTIMEZONE
BEGIN:VEVENT
DTSTART;TZID=America/New_York:20250703T190000
DTEND;TZID=America/New_York:20250703T193000
DTSTAMP:20260426T002633
CREATED:20250404T042154Z
LAST-MODIFIED:20250419T045212Z
UID:40225-1751569200-1751571000@gethsemaneumc.org
SUMMARY:Pre-Sunday Coordination Meeting
DESCRIPTION:30 minute Conference Call/video to review a rundown of this Sunday’s upcoming worship service and discuss upcoming worship/communication events. You can join the meeting via video call by clicking on the link below OR dial in using the number and PIN. Please respond to the email or accept the invite..Thanks! \nJoin Hangouts Meetmeet.google.com/ozt-xtpx-ozr \nMeeting IDmeet.google.com/ozt-xtpx-ozr \nPhone Numbers‎(‪US‬)‪+1 224-999-1751‬ \nEvent will include a link to view full list of phone numbers for all supported countries.PIN: ‪432 230 524#‬This phone number has been selected based on the conference creator’s Country setting. Learn more \nAccess Worship Files Here – https://drive.google.com/drive/u/2/folders/0AI4GQDIZbEt0Uk9PVA\nJoin with Google Meet: https://meet.google.com/ozt-xtpx-ozr\nOr dial: (US) +1 224-999-1751 PIN: 432230524#\nLearn more about Meet at: https://support.google.com/a/users/answer/9282720
URL:https://gethsemaneumc.org/event/pre-sunday-coordination-meeting-125/
ORGANIZER;CN="rparquet@gethsemaneumc.org":MAILTO:rparquet@gethsemaneumc.org
END:VEVENT
BEGIN:VEVENT
DTSTART;TZID=America/New_York:20250703T190000
DTEND;TZID=America/New_York:20250703T200000
DTSTAMP:20260426T002633
CREATED:20250404T042154Z
LAST-MODIFIED:20250703T092219Z
UID:40226-1751569200-1751572800@gethsemaneumc.org
SUMMARY:Men's Bible Study
DESCRIPTION:Join with Google Meet: https://meet.google.com/bmk-kydf-pny\nOr dial: (US) +1 724-370-0553 PIN: 326785976#\nMore phone numbers: https://tel.meet/bmk-kydf-pny?pin=5864913000926&hs=7\nLearn more about Meet at: https://support.google.com/a/users/answer/9282720
URL:https://gethsemaneumc.org/event/mens-bible-study-196/
ORGANIZER;CN="gmen@gethsemaneumc.org":MAILTO:gmen@gethsemaneumc.org
END:VEVENT
BEGIN:VEVENT
DTSTART;TZID=America/New_York:20250703T193000
DTEND;TZID=America/New_York:20250703T203000
DTSTAMP:20260426T002633
CREATED:20250420T045154Z
LAST-MODIFIED:20250703T092219Z
UID:40362-1751571000-1751574600@gethsemaneumc.org
SUMMARY:Pre-Sunday Coordination Meeting
DESCRIPTION:30 minute Conference Call/video to review a rundown of this Sunday’s upcoming worship service \nJoin Hangouts Meetmeet.google.com/ozt-xtpx-ozr \nMeeting IDmeet.google.com/ozt-xtpx-ozr \nPhone Numbers‎(‪US‬)‪+1 224-999-1751‬ \nEvent will include a link to view full list of phone numbers for all supported countries.PIN: ‪432 230 524#‬This phone number has been selected based on the conference creator’s Country setting. Learn more \nAccess Worship Files Here – https://drive.google.com/drive/u/2/folders/0AI4GQDIZbEt0Uk9PVA\nJoin with Google Meet: https://meet.google.com/ozt-xtpx-ozr\nOr dial: (US) +1 224-999-1751 PIN: 432230524#\nLearn more about Meet at: https://support.google.com/a/users/answer/9282720
URL:https://gethsemaneumc.org/event/pre-sunday-coordination-meeting-138/
ORGANIZER;CN="rparquet@gethsemaneumc.org":MAILTO:rparquet@gethsemaneumc.org
END:VEVENT
BEGIN:VEVENT
DTSTART;TZID=America/New_York:20250706T100000
DTEND;TZID=America/New_York:20250706T120000
DTSTAMP:20260426T002633
CREATED:20230706T123447Z
LAST-MODIFIED:20240219T110432Z
UID:27871-1751796000-1751803200@gethsemaneumc.org
SUMMARY:Sunday Worship Service
DESCRIPTION:Join with Google Meet: https://meet.google.com/kgx-ydwy-nnw\nOr dial: (US) +1 650-667-3903 PIN: 458295612#\nMore phone numbers: https://tel.meet/kgx-ydwy-nnw?pin=8959722004571&hs=7\nLearn more about Meet at: https://support.google.com/a/users/answer/9282720
URL:https://gethsemaneumc.org/event/sunday-worship-service-126/
LOCATION:Gethsemane United Methodist Church-1-Sanctuary (500)
END:VEVENT
BEGIN:VEVENT
DTSTART;TZID=America/New_York:20250706T114000
DTEND;TZID=America/New_York:20250706T120000
DTSTAMP:20260426T002633
CREATED:20230706T123446Z
LAST-MODIFIED:20240219T110432Z
UID:27870-1751802000-1751803200@gethsemaneumc.org
SUMMARY:Holy Communion
DESCRIPTION:
URL:https://gethsemaneumc.org/event/holy-communion-57/
END:VEVENT
BEGIN:VEVENT
DTSTART;TZID=America/New_York:20250706T120000
DTEND;TZID=America/New_York:20250706T133000
DTSTAMP:20260426T002633
CREATED:20230815T205313Z
LAST-MODIFIED:20250706T092141Z
UID:27997-1751803200-1751808600@gethsemaneumc.org
SUMMARY:Children Choir
DESCRIPTION:
URL:https://gethsemaneumc.org/event/children-choir-58/
END:VEVENT
BEGIN:VEVENT
DTSTART;TZID=America/New_York:20250707T180000
DTEND;TZID=America/New_York:20250707T183000
DTSTAMP:20260426T002633
CREATED:20250409T043701Z
LAST-MODIFIED:20250707T092144Z
UID:40257-1751911200-1751913000@gethsemaneumc.org
SUMMARY:CHRISTIAN EDUCATION MTG.
DESCRIPTION:
URL:https://gethsemaneumc.org/event/christian-education-mtg-4/
END:VEVENT
BEGIN:VEVENT
DTSTART;TZID=America/New_York:20250708T190000
DTEND;TZID=America/New_York:20250708T210000
DTSTAMP:20260426T002634
CREATED:20250411T043704Z
LAST-MODIFIED:20250708T092245Z
UID:40277-1752001200-1752008400@gethsemaneumc.org
SUMMARY:Finance Meeting
DESCRIPTION:
URL:https://gethsemaneumc.org/event/finance-meeting-29/
LOCATION:GUMC – Penrod Chapel
END:VEVENT
BEGIN:VEVENT
DTSTART;TZID=America/New_York:20250710T190000
DTEND;TZID=America/New_York:20250710T193000
DTSTAMP:20260426T002634
CREATED:20250411T043704Z
LAST-MODIFIED:20250419T045213Z
UID:40278-1752174000-1752175800@gethsemaneumc.org
SUMMARY:Pre-Sunday Coordination Meeting
DESCRIPTION:30 minute Conference Call/video to review a rundown of this Sunday’s upcoming worship service and discuss upcoming worship/communication events. You can join the meeting via video call by clicking on the link below OR dial in using the number and PIN. Please respond to the email or accept the invite..Thanks! \nJoin Hangouts Meetmeet.google.com/ozt-xtpx-ozr \nMeeting IDmeet.google.com/ozt-xtpx-ozr \nPhone Numbers‎(‪US‬)‪+1 224-999-1751‬ \nEvent will include a link to view full list of phone numbers for all supported countries.PIN: ‪432 230 524#‬This phone number has been selected based on the conference creator’s Country setting. Learn more \nAccess Worship Files Here – https://drive.google.com/drive/u/2/folders/0AI4GQDIZbEt0Uk9PVA\nJoin with Google Meet: https://meet.google.com/ozt-xtpx-ozr\nOr dial: (US) +1 224-999-1751 PIN: 432230524#\nLearn more about Meet at: https://support.google.com/a/users/answer/9282720
URL:https://gethsemaneumc.org/event/pre-sunday-coordination-meeting-126/
ORGANIZER;CN="rparquet@gethsemaneumc.org":MAILTO:rparquet@gethsemaneumc.org
END:VEVENT
BEGIN:VEVENT
DTSTART;TZID=America/New_York:20250710T193000
DTEND;TZID=America/New_York:20250710T203000
DTSTAMP:20260426T002634
CREATED:20250420T045155Z
LAST-MODIFIED:20250710T092139Z
UID:40363-1752175800-1752179400@gethsemaneumc.org
SUMMARY:Pre-Sunday Coordination Meeting
DESCRIPTION:30 minute Conference Call/video to review a rundown of this Sunday’s upcoming worship service \nJoin Hangouts Meetmeet.google.com/ozt-xtpx-ozr \nMeeting IDmeet.google.com/ozt-xtpx-ozr \nPhone Numbers‎(‪US‬)‪+1 224-999-1751‬ \nEvent will include a link to view full list of phone numbers for all supported countries.PIN: ‪432 230 524#‬This phone number has been selected based on the conference creator’s Country setting. Learn more \nAccess Worship Files Here – https://drive.google.com/drive/u/2/folders/0AI4GQDIZbEt0Uk9PVA\nJoin with Google Meet: https://meet.google.com/ozt-xtpx-ozr\nOr dial: (US) +1 224-999-1751 PIN: 432230524#\nLearn more about Meet at: https://support.google.com/a/users/answer/9282720
URL:https://gethsemaneumc.org/event/pre-sunday-coordination-meeting-139/
ORGANIZER;CN="rparquet@gethsemaneumc.org":MAILTO:rparquet@gethsemaneumc.org
END:VEVENT
BEGIN:VEVENT
DTSTART;TZID=America/New_York:20250712T100000
DTEND;TZID=America/New_York:20250712T120000
DTSTAMP:20260426T002634
CREATED:20250411T043705Z
LAST-MODIFIED:20250712T092148Z
UID:40279-1752314400-1752321600@gethsemaneumc.org
SUMMARY:SPRC MEETING
DESCRIPTION:
URL:https://gethsemaneumc.org/event/sprc-meeting-3/
END:VEVENT
BEGIN:VEVENT
DTSTART;TZID=America/New_York:20250713T100000
DTEND;TZID=America/New_York:20250713T120000
DTSTAMP:20260426T002634
CREATED:20230713T130953Z
LAST-MODIFIED:20240219T110432Z
UID:27894-1752400800-1752408000@gethsemaneumc.org
SUMMARY:Sunday Worship Service
DESCRIPTION:Join with Google Meet: https://meet.google.com/kgx-ydwy-nnw\nOr dial: (US) +1 650-667-3903 PIN: 458295612#\nMore phone numbers: https://tel.meet/kgx-ydwy-nnw?pin=8959722004571&hs=7\nLearn more about Meet at: https://support.google.com/a/users/answer/9282720
URL:https://gethsemaneumc.org/event/sunday-worship-service-127/
LOCATION:Gethsemane United Methodist Church-1-Sanctuary (500)
END:VEVENT
BEGIN:VEVENT
DTSTART;TZID=America/New_York:20250715T190000
DTEND;TZID=America/New_York:20250715T210000
DTSTAMP:20260426T002634
CREATED:20250411T043705Z
LAST-MODIFIED:20250715T093648Z
UID:40280-1752606000-1752613200@gethsemaneumc.org
SUMMARY:Church Council Meeting
DESCRIPTION:
URL:https://gethsemaneumc.org/event/church-council-meeting-30/
LOCATION:GUMC – Fellowship Hall
END:VEVENT
BEGIN:VEVENT
DTSTART;TZID=America/New_York:20250717T190000
DTEND;TZID=America/New_York:20250717T193000
DTSTAMP:20260426T002634
CREATED:20250414T043637Z
LAST-MODIFIED:20250419T045213Z
UID:40309-1752778800-1752780600@gethsemaneumc.org
SUMMARY:Pre-Sunday Coordination Meeting
DESCRIPTION:30 minute Conference Call/video to review a rundown of this Sunday’s upcoming worship service and discuss upcoming worship/communication events. You can join the meeting via video call by clicking on the link below OR dial in using the number and PIN. Please respond to the email or accept the invite..Thanks! \nJoin Hangouts Meetmeet.google.com/ozt-xtpx-ozr \nMeeting IDmeet.google.com/ozt-xtpx-ozr \nPhone Numbers‎(‪US‬)‪+1 224-999-1751‬ \nEvent will include a link to view full list of phone numbers for all supported countries.PIN: ‪432 230 524#‬This phone number has been selected based on the conference creator’s Country setting. Learn more \nAccess Worship Files Here – https://drive.google.com/drive/u/2/folders/0AI4GQDIZbEt0Uk9PVA\nJoin with Google Meet: https://meet.google.com/ozt-xtpx-ozr\nOr dial: (US) +1 224-999-1751 PIN: 432230524#\nLearn more about Meet at: https://support.google.com/a/users/answer/9282720
URL:https://gethsemaneumc.org/event/pre-sunday-coordination-meeting-127/
ORGANIZER;CN="rparquet@gethsemaneumc.org":MAILTO:rparquet@gethsemaneumc.org
END:VEVENT
BEGIN:VEVENT
DTSTART;TZID=America/New_York:20250717T190000
DTEND;TZID=America/New_York:20250717T200000
DTSTAMP:20260426T002634
CREATED:20230815T205313Z
LAST-MODIFIED:20250717T103650Z
UID:27998-1752778800-1752782400@gethsemaneumc.org
SUMMARY:Men's Bible Study
DESCRIPTION:Join with Google Meet: https://meet.google.com/ids-cgao-sca\nOr dial: (US) +1 512-520-0559 PIN: 930332197#\nMore phone numbers: https://tel.meet/ids-cgao-sca?pin=6956896719146&hs=7\nLearn more about Meet at: https://support.google.com/a/users/answer/9282720
URL:https://gethsemaneumc.org/event/mens-bible-study-164/
END:VEVENT
BEGIN:VEVENT
DTSTART;TZID=America/New_York:20250717T190000
DTEND;TZID=America/New_York:20250717T200000
DTSTAMP:20260426T002634
CREATED:20250415T043649Z
LAST-MODIFIED:20250717T093701Z
UID:40315-1752778800-1752782400@gethsemaneumc.org
SUMMARY:Men's Bible Study
DESCRIPTION:Join with Google Meet: https://meet.google.com/ids-cgao-sca\nOr dial: (US) +1 512-520-0559 PIN: 930332197#\nMore phone numbers: https://tel.meet/ids-cgao-sca?pin=6956896719146&hs=7\nLearn more about Meet at: https://support.google.com/a/users/answer/9282720
URL:https://gethsemaneumc.org/event/mens-bible-study-197/
ORGANIZER;CN="gmen@gethsemaneumc.org":MAILTO:gmen@gethsemaneumc.org
END:VEVENT
BEGIN:VEVENT
DTSTART;TZID=America/New_York:20250717T193000
DTEND;TZID=America/New_York:20250717T203000
DTSTAMP:20260426T002634
CREATED:20250420T045155Z
LAST-MODIFIED:20250717T093701Z
UID:40364-1752780600-1752784200@gethsemaneumc.org
SUMMARY:Pre-Sunday Coordination Meeting
DESCRIPTION:30 minute Conference Call/video to review a rundown of this Sunday’s upcoming worship service \nJoin Hangouts Meetmeet.google.com/ozt-xtpx-ozr \nMeeting IDmeet.google.com/ozt-xtpx-ozr \nPhone Numbers‎(‪US‬)‪+1 224-999-1751‬ \nEvent will include a link to view full list of phone numbers for all supported countries.PIN: ‪432 230 524#‬This phone number has been selected based on the conference creator’s Country setting. Learn more \nAccess Worship Files Here – https://drive.google.com/drive/u/2/folders/0AI4GQDIZbEt0Uk9PVA\nJoin with Google Meet: https://meet.google.com/ozt-xtpx-ozr\nOr dial: (US) +1 224-999-1751 PIN: 432230524#\nLearn more about Meet at: https://support.google.com/a/users/answer/9282720
URL:https://gethsemaneumc.org/event/pre-sunday-coordination-meeting-140/
ORGANIZER;CN="rparquet@gethsemaneumc.org":MAILTO:rparquet@gethsemaneumc.org
END:VEVENT
BEGIN:VEVENT
DTSTART;TZID=America/New_York:20250719T100000
DTEND;TZID=America/New_York:20250719T120000
DTSTAMP:20260426T002634
CREATED:20250418T045153Z
LAST-MODIFIED:20250719T093745Z
UID:40332-1752919200-1752926400@gethsemaneumc.org
SUMMARY:United Methodist Women Meeting/ZOOM
DESCRIPTION:
URL:https://gethsemaneumc.org/event/united-methodist-women-meeting-zoom-19/
LOCATION:GUMC – Fellowship Hall
END:VEVENT
BEGIN:VEVENT
DTSTART;TZID=America/New_York:20250719T100000
DTEND;TZID=America/New_York:20250719T120000
DTSTAMP:20260426T002634
CREATED:20250418T045153Z
LAST-MODIFIED:20250719T093744Z
UID:40333-1752919200-1752926400@gethsemaneumc.org
SUMMARY:UNITED WOMEN OF FAITH
DESCRIPTION:
URL:https://gethsemaneumc.org/event/united-women-of-faith-29/
END:VEVENT
BEGIN:VEVENT
DTSTART;TZID=America/New_York:20250720T100000
DTEND;TZID=America/New_York:20250720T120000
DTSTAMP:20260426T002634
CREATED:20230720T141218Z
LAST-MODIFIED:20240219T110432Z
UID:27915-1753005600-1753012800@gethsemaneumc.org
SUMMARY:Sunday Worship Service
DESCRIPTION:Join with Google Meet: https://meet.google.com/kgx-ydwy-nnw\nOr dial: (US) +1 650-667-3903 PIN: 458295612#\nMore phone numbers: https://tel.meet/kgx-ydwy-nnw?pin=8959722004571&hs=7\nLearn more about Meet at: https://support.google.com/a/users/answer/9282720
URL:https://gethsemaneumc.org/event/sunday-worship-service-128/
LOCATION:Gethsemane United Methodist Church-1-Sanctuary (500)
END:VEVENT
BEGIN:VEVENT
DTSTART;TZID=America/New_York:20250720T120000
DTEND;TZID=America/New_York:20250720T133000
DTSTAMP:20260426T002634
CREATED:20230815T205314Z
LAST-MODIFIED:20250720T093643Z
UID:27999-1753012800-1753018200@gethsemaneumc.org
SUMMARY:Children Choir
DESCRIPTION:
URL:https://gethsemaneumc.org/event/children-choir-59/
END:VEVENT
BEGIN:VEVENT
DTSTART;TZID=America/New_York:20250724T193000
DTEND;TZID=America/New_York:20250724T203000
DTSTAMP:20260426T002634
CREATED:20250421T045156Z
LAST-MODIFIED:20250724T105142Z
UID:40383-1753385400-1753389000@gethsemaneumc.org
SUMMARY:Pre-Sunday Coordination Meeting
DESCRIPTION:30 minute Conference Call/video to review a rundown of this Sunday’s upcoming worship service \nJoin Hangouts Meetmeet.google.com/ozt-xtpx-ozr \nMeeting IDmeet.google.com/ozt-xtpx-ozr \nPhone Numbers‎(‪US‬)‪+1 224-999-1751‬ \nEvent will include a link to view full list of phone numbers for all supported countries.PIN: ‪432 230 524#‬This phone number has been selected based on the conference creator’s Country setting. Learn more \nAccess Worship Files Here – https://drive.google.com/drive/u/2/folders/0AI4GQDIZbEt0Uk9PVA\nJoin with Google Meet: https://meet.google.com/ozt-xtpx-ozr\nOr dial: (US) +1 224-999-1751 PIN: 432230524#\nLearn more about Meet at: https://support.google.com/a/users/answer/9282720
URL:https://gethsemaneumc.org/event/pre-sunday-coordination-meeting-141/
ORGANIZER;CN="rparquet@gethsemaneumc.org":MAILTO:rparquet@gethsemaneumc.org
END:VEVENT
BEGIN:VEVENT
DTSTART;TZID=America/New_York:20250726T090000
DTEND;TZID=America/New_York:20250726T110000
DTSTAMP:20260426T002634
CREATED:20250425T050725Z
LAST-MODIFIED:20250726T105208Z
UID:40414-1753520400-1753527600@gethsemaneumc.org
SUMMARY:G-MEN Meeting
DESCRIPTION:The United Methodist Men is a fellowship of men who meet regularly to provide support for each other and the church in doing God’s will in the life of the Church.  We seek knowledge and discernment for being men who serve the Lord.
URL:https://gethsemaneumc.org/event/g-men-meeting-33/
LOCATION:Gethsemane United Methodist Church\, 910 Addison Rd S\, Capitol Heights\, MD\, United States
END:VEVENT
BEGIN:VEVENT
DTSTART;TZID=America/New_York:20250727T100000
DTEND;TZID=America/New_York:20250727T120000
DTSTAMP:20260426T002634
CREATED:20230727T152648Z
LAST-MODIFIED:20240219T110432Z
UID:27933-1753610400-1753617600@gethsemaneumc.org
SUMMARY:Sunday Worship Service
DESCRIPTION:Join with Google Meet: https://meet.google.com/kgx-ydwy-nnw\nOr dial: (US) +1 650-667-3903 PIN: 458295612#\nMore phone numbers: https://tel.meet/kgx-ydwy-nnw?pin=8959722004571&hs=7\nLearn more about Meet at: https://support.google.com/a/users/answer/9282720
URL:https://gethsemaneumc.org/event/sunday-worship-service-129/
LOCATION:Gethsemane United Methodist Church-1-Sanctuary (500)
END:VEVENT
BEGIN:VEVENT
DTSTART;TZID=America/New_York:20250731T193000
DTEND;TZID=America/New_York:20250731T203000
DTSTAMP:20260426T002634
CREATED:20250427T050640Z
LAST-MODIFIED:20250731T110323Z
UID:40434-1753990200-1753993800@gethsemaneumc.org
SUMMARY:Pre-Sunday Coordination Meeting
DESCRIPTION:30 minute Conference Call/video to review a rundown of this Sunday’s upcoming worship service \nJoin Hangouts Meetmeet.google.com/ozt-xtpx-ozr \nMeeting IDmeet.google.com/ozt-xtpx-ozr \nPhone Numbers‎(‪US‬)‪+1 224-999-1751‬ \nEvent will include a link to view full list of phone numbers for all supported countries.PIN: ‪432 230 524#‬This phone number has been selected based on the conference creator’s Country setting. Learn more \nAccess Worship Files Here – https://drive.google.com/drive/u/2/folders/0AI4GQDIZbEt0Uk9PVA\nJoin with Google Meet: https://meet.google.com/ozt-xtpx-ozr\nOr dial: (US) +1 224-999-1751 PIN: 432230524#\nLearn more about Meet at: https://support.google.com/a/users/answer/9282720
URL:https://gethsemaneumc.org/event/pre-sunday-coordination-meeting-142/
ORGANIZER;CN="rparquet@gethsemaneumc.org":MAILTO:rparquet@gethsemaneumc.org
END:VEVENT
BEGIN:VEVENT
DTSTART;TZID=America/New_York:20250803T100000
DTEND;TZID=America/New_York:20250803T120000
DTSTAMP:20260426T002634
CREATED:20230803T155335Z
LAST-MODIFIED:20240219T110433Z
UID:27959-1754215200-1754222400@gethsemaneumc.org
SUMMARY:Sunday Worship Service
DESCRIPTION:Join with Google Meet: https://meet.google.com/kgx-ydwy-nnw\nOr dial: (US) +1 650-667-3903 PIN: 458295612#\nMore phone numbers: https://tel.meet/kgx-ydwy-nnw?pin=8959722004571&hs=7\nLearn more about Meet at: https://support.google.com/a/users/answer/9282720
URL:https://gethsemaneumc.org/event/sunday-worship-service-130/
LOCATION:Gethsemane United Methodist Church-1-Sanctuary (500)
END:VEVENT
BEGIN:VEVENT
DTSTART;TZID=America/New_York:20250803T114000
DTEND;TZID=America/New_York:20250803T120000
DTSTAMP:20260426T002634
CREATED:20230803T155335Z
LAST-MODIFIED:20240219T110432Z
UID:27958-1754221200-1754222400@gethsemaneumc.org
SUMMARY:Holy Communion
DESCRIPTION:
URL:https://gethsemaneumc.org/event/holy-communion-58/
END:VEVENT
BEGIN:VEVENT
DTSTART;TZID=America/New_York:20250803T120000
DTEND;TZID=America/New_York:20250803T133000
DTSTAMP:20260426T002634
CREATED:20230815T205316Z
LAST-MODIFIED:20250803T110644Z
UID:28000-1754222400-1754227800@gethsemaneumc.org
SUMMARY:Children Choir
DESCRIPTION:
URL:https://gethsemaneumc.org/event/children-choir-60/
END:VEVENT
BEGIN:VEVENT
DTSTART;TZID=America/New_York:20250805T190000
DTEND;TZID=America/New_York:20250805T203000
DTSTAMP:20260426T002634
CREATED:20250502T050724Z
LAST-MODIFIED:20250805T112206Z
UID:40460-1754420400-1754425800@gethsemaneumc.org
SUMMARY:Board of Trustee Meeting - Virtual
DESCRIPTION:CY2025 Full BOT Agendas/Notes \nMEETING INFORMATIONhttps://us06web.zoom.us/j/3013361219?omn=85302816485Meeting ID: 301 336 1219
URL:https://gethsemaneumc.org/event/board-of-trustee-meeting-virtual-5/
LOCATION:https://us06web.zoom.us/j/3013361219?omn=85302816485
END:VEVENT
BEGIN:VEVENT
DTSTART;TZID=America/New_York:20250807T190000
DTEND;TZID=America/New_York:20250807T200000
DTSTAMP:20260426T002634
CREATED:20250504T052145Z
LAST-MODIFIED:20250807T112215Z
UID:40475-1754593200-1754596800@gethsemaneumc.org
SUMMARY:Men's Bible Study
DESCRIPTION:Join with Google Meet: https://meet.google.com/bmk-kydf-pny\nOr dial: (US) +1 724-370-0553 PIN: 326785976#\nMore phone numbers: https://tel.meet/bmk-kydf-pny?pin=5864913000926&hs=7\nLearn more about Meet at: https://support.google.com/a/users/answer/9282720
URL:https://gethsemaneumc.org/event/mens-bible-study-199/
ORGANIZER;CN="gmen@gethsemaneumc.org":MAILTO:gmen@gethsemaneumc.org
END:VEVENT
END:VCALENDAR