BEGIN:VCALENDAR
VERSION:2.0
PRODID:-//Gethsemane United Methodist Church - ECPv6.15.12.2//NONSGML v1.0//EN
CALSCALE:GREGORIAN
METHOD:PUBLISH
X-ORIGINAL-URL:https://gethsemaneumc.org
X-WR-CALDESC:Events for Gethsemane United Methodist Church
REFRESH-INTERVAL;VALUE=DURATION:PT1H
X-Robots-Tag:noindex
X-PUBLISHED-TTL:PT1H
BEGIN:VTIMEZONE
TZID:America/New_York
BEGIN:DAYLIGHT
TZOFFSETFROM:-0500
TZOFFSETTO:-0400
TZNAME:EDT
DTSTART:20240310T070000
END:DAYLIGHT
BEGIN:STANDARD
TZOFFSETFROM:-0400
TZOFFSETTO:-0500
TZNAME:EST
DTSTART:20241103T060000
END:STANDARD
BEGIN:DAYLIGHT
TZOFFSETFROM:-0500
TZOFFSETTO:-0400
TZNAME:EDT
DTSTART:20250309T070000
END:DAYLIGHT
BEGIN:STANDARD
TZOFFSETFROM:-0400
TZOFFSETTO:-0500
TZNAME:EST
DTSTART:20251102T060000
END:STANDARD
BEGIN:DAYLIGHT
TZOFFSETFROM:-0500
TZOFFSETTO:-0400
TZNAME:EDT
DTSTART:20260308T070000
END:DAYLIGHT
BEGIN:STANDARD
TZOFFSETFROM:-0400
TZOFFSETTO:-0500
TZNAME:EST
DTSTART:20261101T060000
END:STANDARD
END:VTIMEZONE
BEGIN:VEVENT
DTSTART;TZID=America/New_York:20250803T100000
DTEND;TZID=America/New_York:20250803T120000
DTSTAMP:20260425T223534
CREATED:20230803T155335Z
LAST-MODIFIED:20240219T110433Z
UID:27959-1754215200-1754222400@gethsemaneumc.org
SUMMARY:Sunday Worship Service
DESCRIPTION:Join with Google Meet: https://meet.google.com/kgx-ydwy-nnw\nOr dial: (US) +1 650-667-3903 PIN: 458295612#\nMore phone numbers: https://tel.meet/kgx-ydwy-nnw?pin=8959722004571&hs=7\nLearn more about Meet at: https://support.google.com/a/users/answer/9282720
URL:https://gethsemaneumc.org/event/sunday-worship-service-130/
LOCATION:Gethsemane United Methodist Church-1-Sanctuary (500)
END:VEVENT
BEGIN:VEVENT
DTSTART;TZID=America/New_York:20250803T114000
DTEND;TZID=America/New_York:20250803T120000
DTSTAMP:20260425T223534
CREATED:20230803T155335Z
LAST-MODIFIED:20240219T110432Z
UID:27958-1754221200-1754222400@gethsemaneumc.org
SUMMARY:Holy Communion
DESCRIPTION:
URL:https://gethsemaneumc.org/event/holy-communion-58/
END:VEVENT
BEGIN:VEVENT
DTSTART;TZID=America/New_York:20250803T120000
DTEND;TZID=America/New_York:20250803T133000
DTSTAMP:20260425T223534
CREATED:20230815T205316Z
LAST-MODIFIED:20250803T110644Z
UID:28000-1754222400-1754227800@gethsemaneumc.org
SUMMARY:Children Choir
DESCRIPTION:
URL:https://gethsemaneumc.org/event/children-choir-60/
END:VEVENT
BEGIN:VEVENT
DTSTART;TZID=America/New_York:20250805T190000
DTEND;TZID=America/New_York:20250805T203000
DTSTAMP:20260425T223534
CREATED:20250502T050724Z
LAST-MODIFIED:20250805T112206Z
UID:40460-1754420400-1754425800@gethsemaneumc.org
SUMMARY:Board of Trustee Meeting - Virtual
DESCRIPTION:CY2025 Full BOT Agendas/Notes \nMEETING INFORMATIONhttps://us06web.zoom.us/j/3013361219?omn=85302816485Meeting ID: 301 336 1219
URL:https://gethsemaneumc.org/event/board-of-trustee-meeting-virtual-5/
LOCATION:https://us06web.zoom.us/j/3013361219?omn=85302816485
END:VEVENT
BEGIN:VEVENT
DTSTART;TZID=America/New_York:20250807T190000
DTEND;TZID=America/New_York:20250807T200000
DTSTAMP:20260425T223534
CREATED:20250504T052145Z
LAST-MODIFIED:20250807T112215Z
UID:40475-1754593200-1754596800@gethsemaneumc.org
SUMMARY:Men's Bible Study
DESCRIPTION:Join with Google Meet: https://meet.google.com/bmk-kydf-pny\nOr dial: (US) +1 724-370-0553 PIN: 326785976#\nMore phone numbers: https://tel.meet/bmk-kydf-pny?pin=5864913000926&hs=7\nLearn more about Meet at: https://support.google.com/a/users/answer/9282720
URL:https://gethsemaneumc.org/event/mens-bible-study-199/
ORGANIZER;CN="gmen@gethsemaneumc.org":MAILTO:gmen@gethsemaneumc.org
END:VEVENT
BEGIN:VEVENT
DTSTART;TZID=America/New_York:20250807T193000
DTEND;TZID=America/New_York:20250807T203000
DTSTAMP:20260425T223534
CREATED:20250505T052156Z
LAST-MODIFIED:20250807T112215Z
UID:40479-1754595000-1754598600@gethsemaneumc.org
SUMMARY:Pre-Sunday Coordination Meeting
DESCRIPTION:30 minute Conference Call/video to review a rundown of this Sunday’s upcoming worship service \nJoin Hangouts Meetmeet.google.com/ozt-xtpx-ozr \nMeeting IDmeet.google.com/ozt-xtpx-ozr \nPhone Numbers‎(‪US‬)‪+1 224-999-1751‬ \nEvent will include a link to view full list of phone numbers for all supported countries.PIN: ‪432 230 524#‬This phone number has been selected based on the conference creator’s Country setting. Learn more \nAccess Worship Files Here – https://drive.google.com/drive/u/2/folders/0AI4GQDIZbEt0Uk9PVA\nJoin with Google Meet: https://meet.google.com/ozt-xtpx-ozr\nOr dial: (US) +1 224-999-1751 PIN: 432230524#\nLearn more about Meet at: https://support.google.com/a/users/answer/9282720
URL:https://gethsemaneumc.org/event/pre-sunday-coordination-meeting-143/
ORGANIZER;CN="rparquet@gethsemaneumc.org":MAILTO:rparquet@gethsemaneumc.org
END:VEVENT
BEGIN:VEVENT
DTSTART;TZID=America/New_York:20250810T100000
DTEND;TZID=America/New_York:20250810T120000
DTSTAMP:20260425T223534
CREATED:20230810T162127Z
LAST-MODIFIED:20240219T110433Z
UID:27978-1754820000-1754827200@gethsemaneumc.org
SUMMARY:Sunday Worship Service
DESCRIPTION:Join with Google Meet: https://meet.google.com/kgx-ydwy-nnw\nOr dial: (US) +1 650-667-3903 PIN: 458295612#\nMore phone numbers: https://tel.meet/kgx-ydwy-nnw?pin=8959722004571&hs=7\nLearn more about Meet at: https://support.google.com/a/users/answer/9282720
URL:https://gethsemaneumc.org/event/sunday-worship-service-131/
LOCATION:Gethsemane United Methodist Church-1-Sanctuary (500)
END:VEVENT
BEGIN:VEVENT
DTSTART;TZID=America/New_York:20250810T120000
DTEND;TZID=America/New_York:20250810T133000
DTSTAMP:20260425T223534
CREATED:20250731T110324Z
LAST-MODIFIED:20250810T122140Z
UID:40949-1754827200-1754832600@gethsemaneumc.org
SUMMARY:Gethsemane UMC - Trustee Board Open House
DESCRIPTION:You’re Invited: Trustee Board Open House at Gethsemane UMCCome learn how we’re stewarding our sacred space!Join the Gethsemane United Methodist Church Trustee Board for an Open House to explore current and future projects to care for our church building and grounds. From roof repairs and HVAC upgrades to green initiatives like our upcoming solar and green roof installations\, this is your opportunity to see what’s happening behind the scenes and how we’re working to make Gethsemane more sustainable\, accessible\, and welcoming.🔹 Meet the Trustees🔹 See Project Displays🔹 Ask Questions & Share Ideas🔹 Learn How to Get InvolvedWhether you’re curious about our master plan\, want to understand the church’s infrastructure needs\, or are just looking for ways to support\, we’d love to see you there!
URL:https://gethsemaneumc.org/event/gethsemane-umc-trustee-board-open-house/
LOCATION:910 Addison Rd S\, Capitol Heights\, MD\, United States
ORGANIZER;CN="gethsemaneumc.org_72b3cientmac6c9pd7oucn35ug@group.calendar.google.com":MAILTO:gethsemaneumc.org_72b3cientmac6c9pd7oucn35ug@group.calendar.google.com
END:VEVENT
BEGIN:VEVENT
DTSTART;TZID=America/New_York:20250812T190000
DTEND;TZID=America/New_York:20250812T210000
DTSTAMP:20260425T223534
CREATED:20250506T052140Z
LAST-MODIFIED:20250812T115136Z
UID:40486-1755025200-1755032400@gethsemaneumc.org
SUMMARY:Finance Meeting
DESCRIPTION:
URL:https://gethsemaneumc.org/event/finance-meeting-30/
LOCATION:GUMC – Penrod Chapel
END:VEVENT
BEGIN:VEVENT
DTSTART;TZID=America/New_York:20250814T193000
DTEND;TZID=America/New_York:20250814T203000
DTSTAMP:20260425T223534
CREATED:20250509T052149Z
LAST-MODIFIED:20250814T115359Z
UID:40503-1755199800-1755203400@gethsemaneumc.org
SUMMARY:Pre-Sunday Coordination Meeting
DESCRIPTION:30 minute Conference Call/video to review a rundown of this Sunday’s upcoming worship service \nJoin Hangouts Meetmeet.google.com/ozt-xtpx-ozr \nMeeting IDmeet.google.com/ozt-xtpx-ozr \nPhone Numbers‎(‪US‬)‪+1 224-999-1751‬ \nEvent will include a link to view full list of phone numbers for all supported countries.PIN: ‪432 230 524#‬This phone number has been selected based on the conference creator’s Country setting. Learn more \nAccess Worship Files Here – https://drive.google.com/drive/u/2/folders/0AI4GQDIZbEt0Uk9PVA\nJoin with Google Meet: https://meet.google.com/ozt-xtpx-ozr\nOr dial: (US) +1 224-999-1751 PIN: 432230524#\nLearn more about Meet at: https://support.google.com/a/users/answer/9282720
URL:https://gethsemaneumc.org/event/pre-sunday-coordination-meeting-144/
ORGANIZER;CN="rparquet@gethsemaneumc.org":MAILTO:rparquet@gethsemaneumc.org
END:VEVENT
BEGIN:VEVENT
DTSTART;TZID=America/New_York:20250816T100000
DTEND;TZID=America/New_York:20250816T120000
DTSTAMP:20260425T223534
CREATED:20250509T052149Z
LAST-MODIFIED:20250816T115323Z
UID:40504-1755338400-1755345600@gethsemaneumc.org
SUMMARY:UNITED WOMEN OF FAITH
DESCRIPTION:
URL:https://gethsemaneumc.org/event/united-women-of-faith-30/
END:VEVENT
BEGIN:VEVENT
DTSTART;TZID=America/New_York:20250816T100000
DTEND;TZID=America/New_York:20250816T120000
DTSTAMP:20260425T223534
CREATED:20250528T071703Z
LAST-MODIFIED:20250816T115323Z
UID:40520-1755338400-1755345600@gethsemaneumc.org
SUMMARY:United Methodist Women Meeting/ZOOM
DESCRIPTION:
URL:https://gethsemaneumc.org/event/united-methodist-women-meeting-zoom-20/
LOCATION:GUMC – Fellowship Hall
END:VEVENT
BEGIN:VEVENT
DTSTART;TZID=America/New_York:20250817T100000
DTEND;TZID=America/New_York:20250817T120000
DTSTAMP:20260425T223534
CREATED:20230817T210546Z
LAST-MODIFIED:20240219T110433Z
UID:28009-1755424800-1755432000@gethsemaneumc.org
SUMMARY:Sunday Worship Service
DESCRIPTION:Join with Google Meet: https://meet.google.com/kgx-ydwy-nnw\nOr dial: (US) +1 650-667-3903 PIN: 458295612#\nMore phone numbers: https://tel.meet/kgx-ydwy-nnw?pin=8959722004571&hs=7\nLearn more about Meet at: https://support.google.com/a/users/answer/9282720
URL:https://gethsemaneumc.org/event/sunday-worship-service-132/
LOCATION:Gethsemane United Methodist Church-1-Sanctuary (500)
END:VEVENT
BEGIN:VEVENT
DTSTART;TZID=America/New_York:20250817T120000
DTEND;TZID=America/New_York:20250817T133000
DTSTAMP:20260425T223534
CREATED:20230817T233714Z
LAST-MODIFIED:20250817T115145Z
UID:28011-1755432000-1755437400@gethsemaneumc.org
SUMMARY:Children Choir
DESCRIPTION:
URL:https://gethsemaneumc.org/event/children-choir-61/
END:VEVENT
BEGIN:VEVENT
DTSTART;TZID=America/New_York:20250819T190000
DTEND;TZID=America/New_York:20250819T210000
DTSTAMP:20260425T223534
CREATED:20250528T071703Z
LAST-MODIFIED:20250819T115140Z
UID:40521-1755630000-1755637200@gethsemaneumc.org
SUMMARY:Church Council Meeting
DESCRIPTION:
URL:https://gethsemaneumc.org/event/church-council-meeting-31/
LOCATION:GUMC – Fellowship Hall
END:VEVENT
BEGIN:VEVENT
DTSTART;TZID=America/New_York:20250821T190000
DTEND;TZID=America/New_York:20250821T200000
DTSTAMP:20260425T223534
CREATED:20230821T000538Z
LAST-MODIFIED:20250821T130733Z
UID:28022-1755802800-1755806400@gethsemaneumc.org
SUMMARY:Men's Bible Study
DESCRIPTION:Join with Google Meet: https://meet.google.com/ids-cgao-sca\nOr dial: (US) +1 512-520-0559 PIN: 930332197#\nMore phone numbers: https://tel.meet/ids-cgao-sca?pin=6956896719146&hs=7\nLearn more about Meet at: https://support.google.com/a/users/answer/9282720
URL:https://gethsemaneumc.org/event/mens-bible-study-165/
END:VEVENT
BEGIN:VEVENT
DTSTART;TZID=America/New_York:20250821T190000
DTEND;TZID=America/New_York:20250821T200000
DTSTAMP:20260425T223534
CREATED:20250528T071704Z
LAST-MODIFIED:20250821T115242Z
UID:40522-1755802800-1755806400@gethsemaneumc.org
SUMMARY:Men's Bible Study
DESCRIPTION:Join with Google Meet: https://meet.google.com/ids-cgao-sca\nOr dial: (US) +1 512-520-0559 PIN: 930332197#\nMore phone numbers: https://tel.meet/ids-cgao-sca?pin=6956896719146&hs=7\nLearn more about Meet at: https://support.google.com/a/users/answer/9282720
URL:https://gethsemaneumc.org/event/mens-bible-study-201/
ORGANIZER;CN="gmen@gethsemaneumc.org":MAILTO:gmen@gethsemaneumc.org
END:VEVENT
BEGIN:VEVENT
DTSTART;TZID=America/New_York:20250821T193000
DTEND;TZID=America/New_York:20250821T203000
DTSTAMP:20260425T223534
CREATED:20250529T073659Z
LAST-MODIFIED:20250821T115242Z
UID:40541-1755804600-1755808200@gethsemaneumc.org
SUMMARY:Pre-Sunday Coordination Meeting
DESCRIPTION:30 minute Conference Call/video to review a rundown of this Sunday’s upcoming worship service \nJoin Hangouts Meetmeet.google.com/ozt-xtpx-ozr \nMeeting IDmeet.google.com/ozt-xtpx-ozr \nPhone Numbers‎(‪US‬)‪+1 224-999-1751‬ \nEvent will include a link to view full list of phone numbers for all supported countries.PIN: ‪432 230 524#‬This phone number has been selected based on the conference creator’s Country setting. Learn more \nAccess Worship Files Here – https://drive.google.com/drive/u/2/folders/0AI4GQDIZbEt0Uk9PVA\nJoin with Google Meet: https://meet.google.com/ozt-xtpx-ozr\nOr dial: (US) +1 224-999-1751 PIN: 432230524#\nLearn more about Meet at: https://support.google.com/a/users/answer/9282720
URL:https://gethsemaneumc.org/event/pre-sunday-coordination-meeting-145/
ORGANIZER;CN="rparquet@gethsemaneumc.org":MAILTO:rparquet@gethsemaneumc.org
END:VEVENT
BEGIN:VEVENT
DTSTART;TZID=America/New_York:20250823T090000
DTEND;TZID=America/New_York:20250823T110000
DTSTAMP:20260425T223534
CREATED:20250530T073644Z
LAST-MODIFIED:20250823T115420Z
UID:40552-1755939600-1755946800@gethsemaneumc.org
SUMMARY:G-MEN Meeting
DESCRIPTION:The United Methodist Men is a fellowship of men who meet regularly to provide support for each other and the church in doing God’s will in the life of the Church.  We seek knowledge and discernment for being men who serve the Lord.
URL:https://gethsemaneumc.org/event/g-men-meeting-34/
LOCATION:Gethsemane United Methodist Church\, 910 Addison Rd S\, Capitol Heights\, MD\, United States
END:VEVENT
BEGIN:VEVENT
DTSTART;TZID=America/New_York:20250824T100000
DTEND;TZID=America/New_York:20250824T120000
DTSTAMP:20260425T223534
CREATED:20230824T213655Z
LAST-MODIFIED:20240219T110433Z
UID:28035-1756029600-1756036800@gethsemaneumc.org
SUMMARY:Sunday Worship Service
DESCRIPTION:Join with Google Meet: https://meet.google.com/kgx-ydwy-nnw\nOr dial: (US) +1 650-667-3903 PIN: 458295612#\nMore phone numbers: https://tel.meet/kgx-ydwy-nnw?pin=8959722004571&hs=7\nLearn more about Meet at: https://support.google.com/a/users/answer/9282720
URL:https://gethsemaneumc.org/event/sunday-worship-service-133/
LOCATION:Gethsemane United Methodist Church-1-Sanctuary (500)
END:VEVENT
BEGIN:VEVENT
DTSTART;TZID=America/New_York:20250828T193000
DTEND;TZID=America/New_York:20250828T203000
DTSTAMP:20260425T223534
CREATED:20250601T073654Z
LAST-MODIFIED:20250828T120645Z
UID:40571-1756409400-1756413000@gethsemaneumc.org
SUMMARY:Pre-Sunday Coordination Meeting
DESCRIPTION:30 minute Conference Call/video to review a rundown of this Sunday’s upcoming worship service \nJoin Hangouts Meetmeet.google.com/ozt-xtpx-ozr \nMeeting IDmeet.google.com/ozt-xtpx-ozr \nPhone Numbers‎(‪US‬)‪+1 224-999-1751‬ \nEvent will include a link to view full list of phone numbers for all supported countries.PIN: ‪432 230 524#‬This phone number has been selected based on the conference creator’s Country setting. Learn more \nAccess Worship Files Here – https://drive.google.com/drive/u/2/folders/0AI4GQDIZbEt0Uk9PVA\nJoin with Google Meet: https://meet.google.com/ozt-xtpx-ozr\nOr dial: (US) +1 224-999-1751 PIN: 432230524#\nLearn more about Meet at: https://support.google.com/a/users/answer/9282720
URL:https://gethsemaneumc.org/event/pre-sunday-coordination-meeting-146/
ORGANIZER;CN="rparquet@gethsemaneumc.org":MAILTO:rparquet@gethsemaneumc.org
END:VEVENT
BEGIN:VEVENT
DTSTART;TZID=America/New_York:20250831T100000
DTEND;TZID=America/New_York:20250831T120000
DTSTAMP:20260425T223534
CREATED:20230831T224922Z
LAST-MODIFIED:20240219T110433Z
UID:28061-1756634400-1756641600@gethsemaneumc.org
SUMMARY:Sunday Worship Service
DESCRIPTION:Join with Google Meet: https://meet.google.com/kgx-ydwy-nnw\nOr dial: (US) +1 650-667-3903 PIN: 458295612#\nMore phone numbers: https://tel.meet/kgx-ydwy-nnw?pin=8959722004571&hs=7\nLearn more about Meet at: https://support.google.com/a/users/answer/9282720
URL:https://gethsemaneumc.org/event/sunday-worship-service-134/
LOCATION:Gethsemane United Methodist Church-1-Sanctuary (500)
END:VEVENT
BEGIN:VEVENT
DTSTART;TZID=America/New_York:20250904T190000
DTEND;TZID=America/New_York:20250904T200000
DTSTAMP:20260425T223534
CREATED:20250601T073654Z
LAST-MODIFIED:20250902T120708Z
UID:40572-1757012400-1757016000@gethsemaneumc.org
SUMMARY:Men's Bible Study
DESCRIPTION:Join with Google Meet: https://meet.google.com/bmk-kydf-pny\nOr dial: (US) +1 724-370-0553 PIN: 326785976#\nMore phone numbers: https://tel.meet/bmk-kydf-pny?pin=5864913000926&hs=7\nLearn more about Meet at: https://support.google.com/a/users/answer/9282720
URL:https://gethsemaneumc.org/event/mens-bible-study-202/
ORGANIZER;CN="gmen@gethsemaneumc.org":MAILTO:gmen@gethsemaneumc.org
END:VEVENT
BEGIN:VEVENT
DTSTART;TZID=America/New_York:20250904T193000
DTEND;TZID=America/New_York:20250904T203000
DTSTAMP:20260425T223534
CREATED:20250602T073647Z
LAST-MODIFIED:20250902T120708Z
UID:40578-1757014200-1757017800@gethsemaneumc.org
SUMMARY:Pre-Sunday Coordination Meeting
DESCRIPTION:30 minute Conference Call/video to review a rundown of this Sunday’s upcoming worship service \nJoin Hangouts Meetmeet.google.com/ozt-xtpx-ozr \nMeeting IDmeet.google.com/ozt-xtpx-ozr \nPhone Numbers‎(‪US‬)‪+1 224-999-1751‬ \nEvent will include a link to view full list of phone numbers for all supported countries.PIN: ‪432 230 524#‬This phone number has been selected based on the conference creator’s Country setting. Learn more \nAccess Worship Files Here – https://drive.google.com/drive/u/2/folders/0AI4GQDIZbEt0Uk9PVA\nJoin with Google Meet: https://meet.google.com/ozt-xtpx-ozr\nOr dial: (US) +1 224-999-1751 PIN: 432230524#\nLearn more about Meet at: https://support.google.com/a/users/answer/9282720
URL:https://gethsemaneumc.org/event/pre-sunday-coordination-meeting-147/
ORGANIZER;CN="rparquet@gethsemaneumc.org":MAILTO:rparquet@gethsemaneumc.org
END:VEVENT
BEGIN:VEVENT
DTSTART;TZID=America/New_York:20250906T100000
DTEND;TZID=America/New_York:20250906T120000
DTSTAMP:20260425T223534
CREATED:20250603T073640Z
LAST-MODIFIED:20250902T120708Z
UID:40586-1757152800-1757160000@gethsemaneumc.org
SUMMARY:Board of Trustee Meeting - In Person
DESCRIPTION:CY2025 Full BOT Agendas/Notes\nJoin with Google Meet: https://meet.google.com/qrn-jgjs-ijk\nOr dial: (US) +1 435-633-6573 PIN: 551002826#\nMore phone numbers: https://tel.meet/qrn-jgjs-ijk?pin=5453565297463&hs=7\nLearn more about Meet at: https://support.google.com/a/users/answer/9282720
URL:https://gethsemaneumc.org/event/board-of-trustee-meeting-in-person-4/
LOCATION:Gethsemane United Methodist Church\, 910 Addison Rd S\, Capitol Heights\, MD 20743\, USA\, Gethsemane United Methodist Church-2-Penrod Chapel (20)
END:VEVENT
BEGIN:VEVENT
DTSTART;TZID=America/New_York:20250907T100000
DTEND;TZID=America/New_York:20250907T120000
DTSTAMP:20260425T223534
CREATED:20230907T232004Z
LAST-MODIFIED:20240219T110434Z
UID:28088-1757239200-1757246400@gethsemaneumc.org
SUMMARY:Sunday Worship Service
DESCRIPTION:Join with Google Meet: https://meet.google.com/kgx-ydwy-nnw\nOr dial: (US) +1 650-667-3903 PIN: 458295612#\nMore phone numbers: https://tel.meet/kgx-ydwy-nnw?pin=8959722004571&hs=7\nLearn more about Meet at: https://support.google.com/a/users/answer/9282720
URL:https://gethsemaneumc.org/event/sunday-worship-service-135/
LOCATION:Gethsemane United Methodist Church-1-Sanctuary (500)
END:VEVENT
BEGIN:VEVENT
DTSTART;TZID=America/New_York:20250907T114000
DTEND;TZID=America/New_York:20250907T120000
DTSTAMP:20260425T223534
CREATED:20230907T232004Z
LAST-MODIFIED:20240219T110433Z
UID:28087-1757245200-1757246400@gethsemaneumc.org
SUMMARY:Holy Communion
DESCRIPTION:
URL:https://gethsemaneumc.org/event/holy-communion-59/
END:VEVENT
BEGIN:VEVENT
DTSTART;TZID=America/New_York:20250907T120000
DTEND;TZID=America/New_York:20250907T133000
DTSTAMP:20260425T223534
CREATED:20230907T011216Z
LAST-MODIFIED:20250902T120708Z
UID:28084-1757246400-1757251800@gethsemaneumc.org
SUMMARY:Children Choir
DESCRIPTION:
URL:https://gethsemaneumc.org/event/children-choir-62/
END:VEVENT
BEGIN:VEVENT
DTSTART;TZID=America/New_York:20250908T180000
DTEND;TZID=America/New_York:20250908T193000
DTSTAMP:20260425T223534
CREATED:20250604T073644Z
LAST-MODIFIED:20250908T113719Z
UID:40593-1757354400-1757359800@gethsemaneumc.org
SUMMARY:CHRISTIAN EDUCATION MTG.
DESCRIPTION:
URL:https://gethsemaneumc.org/event/christian-education-mtg-5/
END:VEVENT
BEGIN:VEVENT
DTSTART;TZID=America/New_York:20250908T190000
DTEND;TZID=America/New_York:20250908T200000
DTSTAMP:20260425T223534
CREATED:20250706T092145Z
LAST-MODIFIED:20250908T113719Z
UID:40810-1757358000-1757361600@gethsemaneumc.org
SUMMARY:SOL rehearsal
DESCRIPTION:
URL:https://gethsemaneumc.org/event/sol-rehearsal-4/
LOCATION:Gethsemane United Methodist Church-1-Sanctuary (500)
END:VEVENT
END:VCALENDAR