BEGIN:VCALENDAR
VERSION:2.0
PRODID:-//Gethsemane United Methodist Church - ECPv6.15.12.2//NONSGML v1.0//EN
CALSCALE:GREGORIAN
METHOD:PUBLISH
X-ORIGINAL-URL:https://gethsemaneumc.org
X-WR-CALDESC:Events for Gethsemane United Methodist Church
REFRESH-INTERVAL;VALUE=DURATION:PT1H
X-Robots-Tag:noindex
X-PUBLISHED-TTL:PT1H
BEGIN:VTIMEZONE
TZID:America/New_York
BEGIN:DAYLIGHT
TZOFFSETFROM:-0500
TZOFFSETTO:-0400
TZNAME:EDT
DTSTART:20250309T070000
END:DAYLIGHT
BEGIN:STANDARD
TZOFFSETFROM:-0400
TZOFFSETTO:-0500
TZNAME:EST
DTSTART:20251102T060000
END:STANDARD
BEGIN:DAYLIGHT
TZOFFSETFROM:-0500
TZOFFSETTO:-0400
TZNAME:EDT
DTSTART:20260308T070000
END:DAYLIGHT
BEGIN:STANDARD
TZOFFSETFROM:-0400
TZOFFSETTO:-0500
TZNAME:EST
DTSTART:20261101T060000
END:STANDARD
BEGIN:DAYLIGHT
TZOFFSETFROM:-0500
TZOFFSETTO:-0400
TZNAME:EDT
DTSTART:20270314T070000
END:DAYLIGHT
BEGIN:STANDARD
TZOFFSETFROM:-0400
TZOFFSETTO:-0500
TZNAME:EST
DTSTART:20271107T060000
END:STANDARD
END:VTIMEZONE
BEGIN:VEVENT
DTSTART;TZID=America/New_York:20260101T190000
DTEND;TZID=America/New_York:20260101T200000
DTSTAMP:20260425T122957
CREATED:20251003T132506Z
LAST-MODIFIED:20260101T195233Z
UID:41358-1767294000-1767297600@gethsemaneumc.org
SUMMARY:Men's Bible Study
DESCRIPTION:Join with Google Meet: https://meet.google.com/bmk-kydf-pny\nOr dial: (US) +1 724-370-0553 PIN: 326785976#\nMore phone numbers: https://tel.meet/bmk-kydf-pny?pin=5864913000926&hs=7\nLearn more about Meet at: https://support.google.com/a/users/answer/9282720
URL:https://gethsemaneumc.org/event/mens-bible-study-214/
ORGANIZER;CN="gmen@gethsemaneumc.org":MAILTO:gmen@gethsemaneumc.org
END:VEVENT
BEGIN:VEVENT
DTSTART;TZID=America/New_York:20260101T193000
DTEND;TZID=America/New_York:20260101T203000
DTSTAMP:20260425T122957
CREATED:20250928T130108Z
LAST-MODIFIED:20260101T195233Z
UID:41333-1767295800-1767299400@gethsemaneumc.org
SUMMARY:Pre-Sunday Coordination Meeting
DESCRIPTION:30 minute Conference Call/video to review a rundown of this Sunday’s upcoming worship service \nJoin Hangouts Meetmeet.google.com/ozt-xtpx-ozr \nMeeting IDmeet.google.com/ozt-xtpx-ozr \nPhone Numbers‎(‪US‬)‪+1 224-999-1751‬ \nEvent will include a link to view full list of phone numbers for all supported countries.PIN: ‪432 230 524#‬This phone number has been selected based on the conference creator’s Country setting. Learn more \nAccess Worship Files Here – https://drive.google.com/drive/u/2/folders/0AI4GQDIZbEt0Uk9PVA\nJoin with Google Meet: https://meet.google.com/ozt-xtpx-ozr\nOr dial: (US) +1 224-999-1751 PIN: 432230524#\nLearn more about Meet at: https://support.google.com/a/users/answer/9282720
URL:https://gethsemaneumc.org/event/pre-sunday-coordination-meeting-164/
ORGANIZER;CN="rparquet@gethsemaneumc.org":MAILTO:rparquet@gethsemaneumc.org
END:VEVENT
BEGIN:VEVENT
DTSTART;TZID=America/New_York:20260104T100000
DTEND;TZID=America/New_York:20260104T120000
DTSTAMP:20260425T122957
CREATED:20240104T090434Z
LAST-MODIFIED:20240219T110437Z
UID:28956-1767520800-1767528000@gethsemaneumc.org
SUMMARY:Sunday Worship Service
DESCRIPTION:Join with Google Meet: https://meet.google.com/kgx-ydwy-nnw\nOr dial: (US) +1 650-667-3903 PIN: 458295612#\nMore phone numbers: https://tel.meet/kgx-ydwy-nnw?pin=8959722004571&hs=7\nLearn more about Meet at: https://support.google.com/a/users/answer/9282720
URL:https://gethsemaneumc.org/event/sunday-worship-service-152/
LOCATION:Gethsemane United Methodist Church-1-Sanctuary (500)
END:VEVENT
BEGIN:VEVENT
DTSTART;TZID=America/New_York:20260104T114000
DTEND;TZID=America/New_York:20260104T120000
DTSTAMP:20260425T122957
CREATED:20240104T090433Z
LAST-MODIFIED:20240219T110437Z
UID:28955-1767526800-1767528000@gethsemaneumc.org
SUMMARY:Holy Communion
DESCRIPTION:
URL:https://gethsemaneumc.org/event/holy-communion-63/
END:VEVENT
BEGIN:VEVENT
DTSTART;TZID=America/New_York:20260104T120000
DTEND;TZID=America/New_York:20260104T133000
DTSTAMP:20260425T122957
CREATED:20240104T061916Z
LAST-MODIFIED:20260103T200807Z
UID:28953-1767528000-1767533400@gethsemaneumc.org
SUMMARY:Children Choir
DESCRIPTION:
URL:https://gethsemaneumc.org/event/children-choir-70/
END:VEVENT
BEGIN:VEVENT
DTSTART;TZID=America/New_York:20260108T193000
DTEND;TZID=America/New_York:20260108T203000
DTSTAMP:20260425T122957
CREATED:20251006T132241Z
LAST-MODIFIED:20260108T203700Z
UID:41375-1767900600-1767904200@gethsemaneumc.org
SUMMARY:Pre-Sunday Coordination Meeting
DESCRIPTION:30 minute Conference Call/video to review a rundown of this Sunday’s upcoming worship service \nJoin Hangouts Meetmeet.google.com/ozt-xtpx-ozr \nMeeting IDmeet.google.com/ozt-xtpx-ozr \nPhone Numbers‎(‪US‬)‪+1 224-999-1751‬ \nEvent will include a link to view full list of phone numbers for all supported countries.PIN: ‪432 230 524#‬This phone number has been selected based on the conference creator’s Country setting. Learn more \nAccess Worship Files Here – https://drive.google.com/drive/u/2/folders/0AI4GQDIZbEt0Uk9PVA\nJoin with Google Meet: https://meet.google.com/ozt-xtpx-ozr\nOr dial: (US) +1 224-999-1751 PIN: 432230524#\nLearn more about Meet at: https://support.google.com/a/users/answer/9282720
URL:https://gethsemaneumc.org/event/pre-sunday-coordination-meeting-165/
ORGANIZER;CN="rparquet@gethsemaneumc.org":MAILTO:rparquet@gethsemaneumc.org
END:VEVENT
BEGIN:VEVENT
DTSTART;TZID=America/New_York:20260111T100000
DTEND;TZID=America/New_York:20260111T120000
DTSTAMP:20260425T122957
CREATED:20240111T094931Z
LAST-MODIFIED:20240219T110437Z
UID:28994-1768125600-1768132800@gethsemaneumc.org
SUMMARY:Sunday Worship Service
DESCRIPTION:Join with Google Meet: https://meet.google.com/kgx-ydwy-nnw\nOr dial: (US) +1 650-667-3903 PIN: 458295612#\nMore phone numbers: https://tel.meet/kgx-ydwy-nnw?pin=8959722004571&hs=7\nLearn more about Meet at: https://support.google.com/a/users/answer/9282720
URL:https://gethsemaneumc.org/event/sunday-worship-service-153/
LOCATION:Gethsemane United Methodist Church-1-Sanctuary (500)
END:VEVENT
BEGIN:VEVENT
DTSTART;TZID=America/New_York:20260113T190000
DTEND;TZID=America/New_York:20260113T210000
DTSTAMP:20260425T122957
CREATED:20251007T132301Z
LAST-MODIFIED:20260113T205150Z
UID:41381-1768330800-1768338000@gethsemaneumc.org
SUMMARY:Finance Meeting
DESCRIPTION:
URL:https://gethsemaneumc.org/event/finance-meeting-35/
LOCATION:GUMC – Penrod Chapel
END:VEVENT
BEGIN:VEVENT
DTSTART;TZID=America/New_York:20260115T190000
DTEND;TZID=America/New_York:20260115T200000
DTSTAMP:20260425T122957
CREATED:20240116T070428Z
LAST-MODIFIED:20260115T202203Z
UID:29013-1768503600-1768507200@gethsemaneumc.org
SUMMARY:Men's Bible Study
DESCRIPTION:Join with Google Meet: https://meet.google.com/ids-cgao-sca\nOr dial: (US) +1 512-520-0559 PIN: 930332197#\nMore phone numbers: https://tel.meet/ids-cgao-sca?pin=6956896719146&hs=7\nLearn more about Meet at: https://support.google.com/a/users/answer/9282720
URL:https://gethsemaneumc.org/event/mens-bible-study-170/
END:VEVENT
BEGIN:VEVENT
DTSTART;TZID=America/New_York:20260115T190000
DTEND;TZID=America/New_York:20260115T200000
DTSTAMP:20260425T122957
CREATED:20251010T133909Z
LAST-MODIFIED:20260115T205138Z
UID:41397-1768503600-1768507200@gethsemaneumc.org
SUMMARY:Men's Bible Study
DESCRIPTION:Join with Google Meet: https://meet.google.com/ids-cgao-sca\nOr dial: (US) +1 512-520-0559 PIN: 930332197#\nMore phone numbers: https://tel.meet/ids-cgao-sca?pin=6956896719146&hs=7\nLearn more about Meet at: https://support.google.com/a/users/answer/9282720
URL:https://gethsemaneumc.org/event/mens-bible-study-215/
ORGANIZER;CN="gmen@gethsemaneumc.org":MAILTO:gmen@gethsemaneumc.org
END:VEVENT
BEGIN:VEVENT
DTSTART;TZID=America/New_York:20260115T193000
DTEND;TZID=America/New_York:20260115T203000
DTSTAMP:20260425T122957
CREATED:20251008T132319Z
LAST-MODIFIED:20260115T205138Z
UID:41386-1768505400-1768509000@gethsemaneumc.org
SUMMARY:Pre-Sunday Coordination Meeting
DESCRIPTION:30 minute Conference Call/video to review a rundown of this Sunday’s upcoming worship service \nJoin Hangouts Meetmeet.google.com/ozt-xtpx-ozr \nMeeting IDmeet.google.com/ozt-xtpx-ozr \nPhone Numbers‎(‪US‬)‪+1 224-999-1751‬ \nEvent will include a link to view full list of phone numbers for all supported countries.PIN: ‪432 230 524#‬This phone number has been selected based on the conference creator’s Country setting. Learn more \nAccess Worship Files Here – https://drive.google.com/drive/u/2/folders/0AI4GQDIZbEt0Uk9PVA\nJoin with Google Meet: https://meet.google.com/ozt-xtpx-ozr\nOr dial: (US) +1 224-999-1751 PIN: 432230524#\nLearn more about Meet at: https://support.google.com/a/users/answer/9282720
URL:https://gethsemaneumc.org/event/pre-sunday-coordination-meeting-166/
ORGANIZER;CN="rparquet@gethsemaneumc.org":MAILTO:rparquet@gethsemaneumc.org
END:VEVENT
BEGIN:VEVENT
DTSTART;TZID=America/New_York:20260117T100000
DTEND;TZID=America/New_York:20260117T120000
DTSTAMP:20260425T122957
CREATED:20251012T134130Z
LAST-MODIFIED:20260116T205142Z
UID:41412-1768644000-1768651200@gethsemaneumc.org
SUMMARY:United Methodist Women Meeting/ZOOM
DESCRIPTION:
URL:https://gethsemaneumc.org/event/united-methodist-women-meeting-zoom-25/
LOCATION:GUMC – Fellowship Hall
END:VEVENT
BEGIN:VEVENT
DTSTART;TZID=America/New_York:20260117T100000
DTEND;TZID=America/New_York:20260117T120000
DTSTAMP:20260425T122957
CREATED:20251015T135327Z
LAST-MODIFIED:20260116T205142Z
UID:41429-1768644000-1768651200@gethsemaneumc.org
SUMMARY:UNITED WOMEN OF FAITH
DESCRIPTION:
URL:https://gethsemaneumc.org/event/united-women-of-faith-35/
END:VEVENT
BEGIN:VEVENT
DTSTART;TZID=America/New_York:20260118T100000
DTEND;TZID=America/New_York:20260118T120000
DTSTAMP:20260425T122957
CREATED:20240118T094931Z
LAST-MODIFIED:20240219T110437Z
UID:29023-1768730400-1768737600@gethsemaneumc.org
SUMMARY:Sunday Worship Service
DESCRIPTION:Join with Google Meet: https://meet.google.com/kgx-ydwy-nnw\nOr dial: (US) +1 650-667-3903 PIN: 458295612#\nMore phone numbers: https://tel.meet/kgx-ydwy-nnw?pin=8959722004571&hs=7\nLearn more about Meet at: https://support.google.com/a/users/answer/9282720
URL:https://gethsemaneumc.org/event/sunday-worship-service-154/
LOCATION:Gethsemane United Methodist Church-1-Sanctuary (500)
END:VEVENT
BEGIN:VEVENT
DTSTART;TZID=America/New_York:20260118T120000
DTEND;TZID=America/New_York:20260118T133000
DTSTAMP:20260425T122957
CREATED:20240118T070436Z
LAST-MODIFIED:20260117T205237Z
UID:29021-1768737600-1768743000@gethsemaneumc.org
SUMMARY:Children Choir
DESCRIPTION:
URL:https://gethsemaneumc.org/event/children-choir-71/
END:VEVENT
BEGIN:VEVENT
DTSTART;TZID=America/New_York:20260120T190000
DTEND;TZID=America/New_York:20260120T210000
DTSTAMP:20260425T122957
CREATED:20251017T135558Z
LAST-MODIFIED:20260120T205237Z
UID:41439-1768935600-1768942800@gethsemaneumc.org
SUMMARY:Church Council Meeting
DESCRIPTION:
URL:https://gethsemaneumc.org/event/church-council-meeting-36/
LOCATION:GUMC – Fellowship Hall
END:VEVENT
BEGIN:VEVENT
DTSTART;TZID=America/New_York:20260122T193000
DTEND;TZID=America/New_York:20260122T203000
DTSTAMP:20260425T122957
CREATED:20251019T140826Z
LAST-MODIFIED:20260122T205347Z
UID:41454-1769110200-1769113800@gethsemaneumc.org
SUMMARY:Pre-Sunday Coordination Meeting
DESCRIPTION:30 minute Conference Call/video to review a rundown of this Sunday’s upcoming worship service \nJoin Hangouts Meetmeet.google.com/ozt-xtpx-ozr \nMeeting IDmeet.google.com/ozt-xtpx-ozr \nPhone Numbers‎(‪US‬)‪+1 224-999-1751‬ \nEvent will include a link to view full list of phone numbers for all supported countries.PIN: ‪432 230 524#‬This phone number has been selected based on the conference creator’s Country setting. Learn more \nAccess Worship Files Here – https://drive.google.com/drive/u/2/folders/0AI4GQDIZbEt0Uk9PVA\nJoin with Google Meet: https://meet.google.com/ozt-xtpx-ozr\nOr dial: (US) +1 224-999-1751 PIN: 432230524#\nLearn more about Meet at: https://support.google.com/a/users/answer/9282720
URL:https://gethsemaneumc.org/event/pre-sunday-coordination-meeting-167/
ORGANIZER;CN="rparquet@gethsemaneumc.org":MAILTO:rparquet@gethsemaneumc.org
END:VEVENT
BEGIN:VEVENT
DTSTART;TZID=America/New_York:20260124T090000
DTEND;TZID=America/New_York:20260124T110000
DTSTAMP:20260425T122957
CREATED:20251019T140826Z
LAST-MODIFIED:20260123T210728Z
UID:41455-1769245200-1769252400@gethsemaneumc.org
SUMMARY:G-MEN Meeting
DESCRIPTION:The United Methodist Men is a fellowship of men who meet regularly to provide support for each other and the church in doing God’s will in the life of the Church.  We seek knowledge and discernment for being men who serve the Lord.
URL:https://gethsemaneumc.org/event/g-men-meeting-39/
LOCATION:Gethsemane United Methodist Church\, 910 Addison Rd S\, Capitol Heights\, MD\, United States
END:VEVENT
BEGIN:VEVENT
DTSTART;TZID=America/New_York:20260125T100000
DTEND;TZID=America/New_York:20260125T120000
DTSTAMP:20260425T122957
CREATED:20240125T094941Z
LAST-MODIFIED:20240219T110437Z
UID:29051-1769335200-1769342400@gethsemaneumc.org
SUMMARY:Sunday Worship Service
DESCRIPTION:Join with Google Meet: https://meet.google.com/kgx-ydwy-nnw\nOr dial: (US) +1 650-667-3903 PIN: 458295612#\nMore phone numbers: https://tel.meet/kgx-ydwy-nnw?pin=8959722004571&hs=7\nLearn more about Meet at: https://support.google.com/a/users/answer/9282720
URL:https://gethsemaneumc.org/event/sunday-worship-service-155/
LOCATION:Gethsemane United Methodist Church-1-Sanctuary (500)
END:VEVENT
BEGIN:VEVENT
DTSTART;TZID=America/New_York:20260129T193000
DTEND;TZID=America/New_York:20260129T203000
DTSTAMP:20260425T122957
CREATED:20251020T140927Z
LAST-MODIFIED:20260129T213710Z
UID:41474-1769715000-1769718600@gethsemaneumc.org
SUMMARY:Pre-Sunday Coordination Meeting
DESCRIPTION:30 minute Conference Call/video to review a rundown of this Sunday’s upcoming worship service \nJoin Hangouts Meetmeet.google.com/ozt-xtpx-ozr \nMeeting IDmeet.google.com/ozt-xtpx-ozr \nPhone Numbers‎(‪US‬)‪+1 224-999-1751‬ \nEvent will include a link to view full list of phone numbers for all supported countries.PIN: ‪432 230 524#‬This phone number has been selected based on the conference creator’s Country setting. Learn more \nAccess Worship Files Here – https://drive.google.com/drive/u/2/folders/0AI4GQDIZbEt0Uk9PVA\nJoin with Google Meet: https://meet.google.com/ozt-xtpx-ozr\nOr dial: (US) +1 224-999-1751 PIN: 432230524#\nLearn more about Meet at: https://support.google.com/a/users/answer/9282720
URL:https://gethsemaneumc.org/event/pre-sunday-coordination-meeting-168/
ORGANIZER;CN="rparquet@gethsemaneumc.org":MAILTO:rparquet@gethsemaneumc.org
END:VEVENT
BEGIN:VEVENT
DTSTART;TZID=America/New_York:20260201T100000
DTEND;TZID=America/New_York:20260201T120000
DTSTAMP:20260425T122957
CREATED:20240201T100552Z
LAST-MODIFIED:20240219T110439Z
UID:29079-1769940000-1769947200@gethsemaneumc.org
SUMMARY:Sunday Worship Service
DESCRIPTION:Join with Google Meet: https://meet.google.com/kgx-ydwy-nnw\nOr dial: (US) +1 650-667-3903 PIN: 458295612#\nMore phone numbers: https://tel.meet/kgx-ydwy-nnw?pin=8959722004571&hs=7\nLearn more about Meet at: https://support.google.com/a/users/answer/9282720
URL:https://gethsemaneumc.org/event/sunday-worship-service-156/
LOCATION:Gethsemane United Methodist Church-1-Sanctuary (500)
END:VEVENT
BEGIN:VEVENT
DTSTART;TZID=America/New_York:20260201T114000
DTEND;TZID=America/New_York:20260201T120000
DTSTAMP:20260425T122957
CREATED:20240201T100551Z
LAST-MODIFIED:20240219T110438Z
UID:29078-1769946000-1769947200@gethsemaneumc.org
SUMMARY:Holy Communion
DESCRIPTION:
URL:https://gethsemaneumc.org/event/holy-communion-64/
END:VEVENT
BEGIN:VEVENT
DTSTART;TZID=America/New_York:20260201T120000
DTEND;TZID=America/New_York:20260201T133000
DTSTAMP:20260425T122957
CREATED:20240201T080442Z
LAST-MODIFIED:20260131T213633Z
UID:29076-1769947200-1769952600@gethsemaneumc.org
SUMMARY:Children Choir
DESCRIPTION:
URL:https://gethsemaneumc.org/event/children-choir-72/
END:VEVENT
BEGIN:VEVENT
DTSTART;TZID=America/New_York:20260205T190000
DTEND;TZID=America/New_York:20260205T200000
DTSTAMP:20260425T122957
CREATED:20251026T140718Z
LAST-MODIFIED:20260205T220705Z
UID:41516-1770318000-1770321600@gethsemaneumc.org
SUMMARY:Men's Bible Study
DESCRIPTION:Join with Google Meet: https://meet.google.com/bmk-kydf-pny\nOr dial: (US) +1 724-370-0553 PIN: 326785976#\nMore phone numbers: https://tel.meet/bmk-kydf-pny?pin=5864913000926&hs=7\nLearn more about Meet at: https://support.google.com/a/users/answer/9282720
URL:https://gethsemaneumc.org/event/mens-bible-study-217/
ORGANIZER;CN="gmen@gethsemaneumc.org":MAILTO:gmen@gethsemaneumc.org
END:VEVENT
BEGIN:VEVENT
DTSTART;TZID=America/New_York:20260205T193000
DTEND;TZID=America/New_York:20260205T203000
DTSTAMP:20260425T122957
CREATED:20251024T140809Z
LAST-MODIFIED:20260205T220705Z
UID:41494-1770319800-1770323400@gethsemaneumc.org
SUMMARY:Pre-Sunday Coordination Meeting
DESCRIPTION:30 minute Conference Call/video to review a rundown of this Sunday’s upcoming worship service \nJoin Hangouts Meetmeet.google.com/ozt-xtpx-ozr \nMeeting IDmeet.google.com/ozt-xtpx-ozr \nPhone Numbers‎(‪US‬)‪+1 224-999-1751‬ \nEvent will include a link to view full list of phone numbers for all supported countries.PIN: ‪432 230 524#‬This phone number has been selected based on the conference creator’s Country setting. Learn more \nAccess Worship Files Here – https://drive.google.com/drive/u/2/folders/0AI4GQDIZbEt0Uk9PVA\nJoin with Google Meet: https://meet.google.com/ozt-xtpx-ozr\nOr dial: (US) +1 224-999-1751 PIN: 432230524#\nLearn more about Meet at: https://support.google.com/a/users/answer/9282720
URL:https://gethsemaneumc.org/event/pre-sunday-coordination-meeting-169/
ORGANIZER;CN="rparquet@gethsemaneumc.org":MAILTO:rparquet@gethsemaneumc.org
END:VEVENT
BEGIN:VEVENT
DTSTART;TZID=America/New_York:20260208T100000
DTEND;TZID=America/New_York:20260208T120000
DTSTAMP:20260425T122957
CREATED:20240208T100544Z
LAST-MODIFIED:20240219T110439Z
UID:29107-1770544800-1770552000@gethsemaneumc.org
SUMMARY:Sunday Worship Service
DESCRIPTION:Join with Google Meet: https://meet.google.com/kgx-ydwy-nnw\nOr dial: (US) +1 650-667-3903 PIN: 458295612#\nMore phone numbers: https://tel.meet/kgx-ydwy-nnw?pin=8959722004571&hs=7\nLearn more about Meet at: https://support.google.com/a/users/answer/9282720
URL:https://gethsemaneumc.org/event/sunday-worship-service-157/
LOCATION:Gethsemane United Methodist Church-1-Sanctuary (500)
END:VEVENT
BEGIN:VEVENT
DTSTART;TZID=America/New_York:20260209T190000
DTEND;TZID=America/New_York:20260209T200000
DTSTAMP:20260425T122957
CREATED:20260209T220822Z
LAST-MODIFIED:20260209T220822Z
UID:42257-1770663600-1770667200@gethsemaneumc.org
SUMMARY:Rehearsal
DESCRIPTION:
URL:https://gethsemaneumc.org/event/rehearsal-3/
LOCATION:Gethsemane United Methodist Church-1-Sanctuary (500)
END:VEVENT
BEGIN:VEVENT
DTSTART;TZID=America/New_York:20260210T190000
DTEND;TZID=America/New_York:20260210T210000
DTSTAMP:20260425T122957
CREATED:20251031T142145Z
LAST-MODIFIED:20260210T220647Z
UID:41543-1770750000-1770757200@gethsemaneumc.org
SUMMARY:Finance Meeting
DESCRIPTION:
URL:https://gethsemaneumc.org/event/finance-meeting-36/
LOCATION:GUMC – Penrod Chapel
END:VEVENT
BEGIN:VEVENT
DTSTART;TZID=America/New_York:20260212T193000
DTEND;TZID=America/New_York:20260212T203000
DTSTAMP:20260425T122957
CREATED:20251101T142234Z
LAST-MODIFIED:20260212T222142Z
UID:41549-1770924600-1770928200@gethsemaneumc.org
SUMMARY:Pre-Sunday Coordination Meeting
DESCRIPTION:30 minute Conference Call/video to review a rundown of this Sunday’s upcoming worship service \nJoin Hangouts Meetmeet.google.com/ozt-xtpx-ozr \nMeeting IDmeet.google.com/ozt-xtpx-ozr \nPhone Numbers‎(‪US‬)‪+1 224-999-1751‬ \nEvent will include a link to view full list of phone numbers for all supported countries.PIN: ‪432 230 524#‬This phone number has been selected based on the conference creator’s Country setting. Learn more \nAccess Worship Files Here – https://drive.google.com/drive/u/2/folders/0AI4GQDIZbEt0Uk9PVA\nJoin with Google Meet: https://meet.google.com/ozt-xtpx-ozr\nOr dial: (US) +1 224-999-1751 PIN: 432230524#\nLearn more about Meet at: https://support.google.com/a/users/answer/9282720
URL:https://gethsemaneumc.org/event/pre-sunday-coordination-meeting-170/
ORGANIZER;CN="rparquet@gethsemaneumc.org":MAILTO:rparquet@gethsemaneumc.org
END:VEVENT
BEGIN:VEVENT
DTSTART;TZID=America/New_York:20260214T100000
DTEND;TZID=America/New_York:20260214T130000
DTSTAMP:20260425T122957
CREATED:20260210T205147Z
LAST-MODIFIED:20260213T213648Z
UID:42261-1771063200-1771074000@gethsemaneumc.org
SUMMARY:Food Pantry
DESCRIPTION:The Food Pantry provides free\, nutritious groceries to individuals and families experiencing food insecurity. The pantry offers fresh produce\, shelf-stable items\, and other essential foods in a welcoming and dignified environment. Services are designed to be accessible and responsive to community needs\, with regular distribution hours and no-cost participation. The pantry also serves as a connection point for additional resources related to food access\, health\, and community support.\nServices are provided in part by funds from the Capital Area Food Bank.\nFor more information email KCoates@Gethsemaneumc.org
URL:https://gethsemaneumc.org/event/food-pantry/
LOCATION:Gethsemane United Methodist Church 910 Addison Rd S\, Capitol Heights\, MD\, United States
END:VEVENT
END:VCALENDAR