BEGIN:VCALENDAR
VERSION:2.0
PRODID:-//Gethsemane United Methodist Church - ECPv6.15.12.2//NONSGML v1.0//EN
CALSCALE:GREGORIAN
METHOD:PUBLISH
X-ORIGINAL-URL:https://gethsemaneumc.org
X-WR-CALDESC:Events for Gethsemane United Methodist Church
REFRESH-INTERVAL;VALUE=DURATION:PT1H
X-Robots-Tag:noindex
X-PUBLISHED-TTL:PT1H
BEGIN:VTIMEZONE
TZID:America/New_York
BEGIN:DAYLIGHT
TZOFFSETFROM:-0500
TZOFFSETTO:-0400
TZNAME:EDT
DTSTART:20250309T070000
END:DAYLIGHT
BEGIN:STANDARD
TZOFFSETFROM:-0400
TZOFFSETTO:-0500
TZNAME:EST
DTSTART:20251102T060000
END:STANDARD
BEGIN:DAYLIGHT
TZOFFSETFROM:-0500
TZOFFSETTO:-0400
TZNAME:EDT
DTSTART:20260308T070000
END:DAYLIGHT
BEGIN:STANDARD
TZOFFSETFROM:-0400
TZOFFSETTO:-0500
TZNAME:EST
DTSTART:20261101T060000
END:STANDARD
BEGIN:DAYLIGHT
TZOFFSETFROM:-0500
TZOFFSETTO:-0400
TZNAME:EDT
DTSTART:20270314T070000
END:DAYLIGHT
BEGIN:STANDARD
TZOFFSETFROM:-0400
TZOFFSETTO:-0500
TZNAME:EST
DTSTART:20271107T060000
END:STANDARD
END:VTIMEZONE
BEGIN:VEVENT
DTSTART;TZID=America/New_York:20260604T190000
DTEND;TZID=America/New_York:20260604T200000
DTSTAMP:20260425T105125
CREATED:20260214T223810Z
LAST-MODIFIED:20260425T093751Z
UID:42477-1780599600-1780603200@gethsemaneumc.org
SUMMARY:Men's Bible Study
DESCRIPTION:Join with Google Meet: https://meet.google.com/bmk-kydf-pny\nOr dial: (US) +1 724-370-0553 PIN: 326785976#\nMore phone numbers: https://tel.meet/bmk-kydf-pny?pin=5864913000926&hs=7\nLearn more about Meet at: https://support.google.com/a/users/answer/9282720
URL:https://gethsemaneumc.org/event/mens-bible-study-228/
ORGANIZER;CN="gmen@gethsemaneumc.org":MAILTO:gmen@gethsemaneumc.org
END:VEVENT
BEGIN:VEVENT
DTSTART;TZID=America/New_York:20260604T193000
DTEND;TZID=America/New_York:20260604T203000
DTSTAMP:20260425T105125
CREATED:20260213T223710Z
LAST-MODIFIED:20260425T093751Z
UID:42471-1780601400-1780605000@gethsemaneumc.org
SUMMARY:Pre-Sunday Coordination Meeting
DESCRIPTION:30 minute Conference Call/video to review a rundown of this Sunday’s upcoming worship service \nJoin Hangouts Meetmeet.google.com/ozt-xtpx-ozr \nMeeting IDmeet.google.com/ozt-xtpx-ozr \nPhone Numbers‎(‪US‬)‪+1 224-999-1751‬ \nEvent will include a link to view full list of phone numbers for all supported countries.PIN: ‪432 230 524#‬This phone number has been selected based on the conference creator’s Country setting. Learn more \nAccess Worship Files Here – https://drive.google.com/drive/u/2/folders/0AI4GQDIZbEt0Uk9PVA\nJoin with Google Meet: https://meet.google.com/ozt-xtpx-ozr\nOr dial: (US) +1 224-999-1751 PIN: 432230524#\nLearn more about Meet at: https://support.google.com/a/users/answer/9282720
URL:https://gethsemaneumc.org/event/pre-sunday-coordination-meeting-186/
ORGANIZER;CN="rparquet@gethsemaneumc.org":MAILTO:rparquet@gethsemaneumc.org
END:VEVENT
BEGIN:VEVENT
DTSTART;TZID=America/New_York:20260606T100000
DTEND;TZID=America/New_York:20260606T130000
DTSTAMP:20260425T105125
CREATED:20260210T205150Z
LAST-MODIFIED:20260425T083635Z
UID:42278-1780740000-1780750800@gethsemaneumc.org
SUMMARY:Food Pantry
DESCRIPTION:The Food Pantry provides free\, nutritious groceries to individuals and families experiencing food insecurity. The pantry offers fresh produce\, shelf-stable items\, and other essential foods in a welcoming and dignified environment. Services are designed to be accessible and responsive to community needs\, with regular distribution hours and no-cost participation. The pantry also serves as a connection point for additional resources related to food access\, health\, and community support.\nServices are provided in part by funds from the Capital Area Food Bank.\nFor more information email KCoates@Gethsemaneumc.org
URL:https://gethsemaneumc.org/event/food-pantry-320/
LOCATION:Gethsemane United Methodist Church 910 Addison Rd S\, Capitol Heights\, MD\, United States
END:VEVENT
BEGIN:VEVENT
DTSTART;TZID=America/New_York:20260606T100000
DTEND;TZID=America/New_York:20260606T130000
DTSTAMP:20260425T105125
CREATED:20260210T215342Z
LAST-MODIFIED:20260425T073635Z
UID:42388-1780740000-1780750800@gethsemaneumc.org
SUMMARY:One Love Life Center Workshops
DESCRIPTION:One Love Life Center is a community-rooted organization committed to holistic personal development for young people and emerging adults. Our work focuses on supporting individuals along a path toward greater mental\, emotional\, and spiritual health\, while helping them identify their value\, strengthen life skills\, and build sustainable pathways toward purpose\, wellness\, and civic engagement. OLLC exists to walk alongside individuals—not simply to offer programs\, but to foster long-term growth\, accountability\, and community impact.\nFor more information email raimon@\n-onelovelifecenter.org
URL:https://gethsemaneumc.org/event/one-love-life-center-workshops-17/
LOCATION:Gethsemane United Methodist Church-1-Fellowship Hall (200)
END:VEVENT
BEGIN:VEVENT
DTSTART;TZID=America/New_York:20260607T120000
DTEND;TZID=America/New_York:20260607T133000
DTSTAMP:20260425T105125
CREATED:20260217T225252Z
LAST-MODIFIED:20260425T093751Z
UID:42502-1780833600-1780839000@gethsemaneumc.org
SUMMARY:Children Choir
DESCRIPTION:
URL:https://gethsemaneumc.org/event/children-choir-80/
END:VEVENT
BEGIN:VEVENT
DTSTART;TZID=America/New_York:20260609T190000
DTEND;TZID=America/New_York:20260609T210000
DTSTAMP:20260425T105125
CREATED:20260218T230641Z
LAST-MODIFIED:20260425T093751Z
UID:42508-1781031600-1781038800@gethsemaneumc.org
SUMMARY:Finance Meeting
DESCRIPTION:
URL:https://gethsemaneumc.org/event/finance-meeting-40/
LOCATION:GUMC – Penrod Chapel
END:VEVENT
BEGIN:VEVENT
DTSTART;TZID=America/New_York:20260611T193000
DTEND;TZID=America/New_York:20260611T203000
DTSTAMP:20260425T105125
CREATED:20260220T230727Z
LAST-MODIFIED:20260425T093751Z
UID:42520-1781206200-1781209800@gethsemaneumc.org
SUMMARY:Pre-Sunday Coordination Meeting
DESCRIPTION:30 minute Conference Call/video to review a rundown of this Sunday’s upcoming worship service \nJoin Hangouts Meetmeet.google.com/ozt-xtpx-ozr \nMeeting IDmeet.google.com/ozt-xtpx-ozr \nPhone Numbers‎(‪US‬)‪+1 224-999-1751‬ \nEvent will include a link to view full list of phone numbers for all supported countries.PIN: ‪432 230 524#‬This phone number has been selected based on the conference creator’s Country setting. Learn more \nAccess Worship Files Here – https://drive.google.com/drive/u/2/folders/0AI4GQDIZbEt0Uk9PVA\nJoin with Google Meet: https://meet.google.com/ozt-xtpx-ozr\nOr dial: (US) +1 224-999-1751 PIN: 432230524#\nLearn more about Meet at: https://support.google.com/a/users/answer/9282720
URL:https://gethsemaneumc.org/event/pre-sunday-coordination-meeting-187/
ORGANIZER;CN="rparquet@gethsemaneumc.org":MAILTO:rparquet@gethsemaneumc.org
END:VEVENT
BEGIN:VEVENT
DTSTART;TZID=America/New_York:20260613T100000
DTEND;TZID=America/New_York:20260613T130000
DTSTAMP:20260425T105125
CREATED:20260210T205150Z
LAST-MODIFIED:20260425T083635Z
UID:42279-1781344800-1781355600@gethsemaneumc.org
SUMMARY:Food Pantry
DESCRIPTION:The Food Pantry provides free\, nutritious groceries to individuals and families experiencing food insecurity. The pantry offers fresh produce\, shelf-stable items\, and other essential foods in a welcoming and dignified environment. Services are designed to be accessible and responsive to community needs\, with regular distribution hours and no-cost participation. The pantry also serves as a connection point for additional resources related to food access\, health\, and community support.\nServices are provided in part by funds from the Capital Area Food Bank.\nFor more information email KCoates@Gethsemaneumc.org
URL:https://gethsemaneumc.org/event/food-pantry-321/
LOCATION:Gethsemane United Methodist Church 910 Addison Rd S\, Capitol Heights\, MD\, United States
END:VEVENT
BEGIN:VEVENT
DTSTART;TZID=America/New_York:20260613T100000
DTEND;TZID=America/New_York:20260613T130000
DTSTAMP:20260425T105125
CREATED:20260210T215343Z
LAST-MODIFIED:20260425T073635Z
UID:42389-1781344800-1781355600@gethsemaneumc.org
SUMMARY:One Love Life Center Workshops
DESCRIPTION:One Love Life Center is a community-rooted organization committed to holistic personal development for young people and emerging adults. Our work focuses on supporting individuals along a path toward greater mental\, emotional\, and spiritual health\, while helping them identify their value\, strengthen life skills\, and build sustainable pathways toward purpose\, wellness\, and civic engagement. OLLC exists to walk alongside individuals—not simply to offer programs\, but to foster long-term growth\, accountability\, and community impact.\nFor more information email raimon@\n-onelovelifecenter.org
URL:https://gethsemaneumc.org/event/one-love-life-center-workshops-18/
LOCATION:Gethsemane United Methodist Church-1-Fellowship Hall (200)
END:VEVENT
BEGIN:VEVENT
DTSTART;TZID=America/New_York:20260616T190000
DTEND;TZID=America/New_York:20260616T210000
DTSTAMP:20260425T105125
CREATED:20260220T230727Z
LAST-MODIFIED:20260425T093751Z
UID:42521-1781636400-1781643600@gethsemaneumc.org
SUMMARY:Church Council Meeting
DESCRIPTION:
URL:https://gethsemaneumc.org/event/church-council-meeting-41/
LOCATION:GUMC – Fellowship Hall
END:VEVENT
BEGIN:VEVENT
DTSTART;TZID=America/New_York:20260618T100000
DTEND;TZID=America/New_York:20260618T120000
DTSTAMP:20260425T105125
CREATED:20260210T215343Z
LAST-MODIFIED:20260425T073635Z
UID:42390-1781776800-1781784000@gethsemaneumc.org
SUMMARY:Green Team Meeting
DESCRIPTION:Join us as we launch the Sacred Grounds Green Team\, a new community of congregants and neighbors coming together to care for Creation\, learn from one another\, and take meaningful steps toward climate action. \nBuilding on the Sacred Grounds garden installation project\, The Capital Market and Gethsemane United Methodist Church are inviting community members of all ages to gather every third Thursday for conversation\, education\, and fellowship rooted in environmental stewardship and faith. \nThis kick-off gathering will introduce the vision of the Green Team and offer space to reflect on where we each fit in the climate movement. \nWhere: 910 Addison Road South\, Capitol Heights\, MD 20743When: February 20\, 2026 | 10:00 a.m. – 12:00 p.m.Cost: Free and open to all \nPlease RSVP to let us know you’re coming.Questions? Contact kennedy@thecapitalmarketmd.com
URL:https://gethsemaneumc.org/event/green-team-meeting-5/
LOCATION:Gethsemane United Methodist Church\, 910 Addison Rd S\, Capitol Heights\, MD 20743\, USA\, Gethsemane United Methodist Church-1-Fellowship Hall (200)
END:VEVENT
BEGIN:VEVENT
DTSTART;TZID=America/New_York:20260618T190000
DTEND;TZID=America/New_York:20260618T200000
DTSTAMP:20260425T105125
CREATED:20250108T232625Z
LAST-MODIFIED:20260425T073635Z
UID:39613-1781809200-1781812800@gethsemaneumc.org
SUMMARY:Men's Bible Study
DESCRIPTION:Join with Google Meet: https://meet.google.com/ids-cgao-sca\nOr dial: (US) +1 512-520-0559 PIN: 930332197#\nMore phone numbers: https://tel.meet/ids-cgao-sca?pin=6956896719146&hs=7\nLearn more about Meet at: https://support.google.com/a/users/answer/9282720
URL:https://gethsemaneumc.org/event/mens-bible-study-175/
END:VEVENT
BEGIN:VEVENT
DTSTART;TZID=America/New_York:20260618T190000
DTEND;TZID=America/New_York:20260618T200000
DTSTAMP:20260425T105125
CREATED:20260221T230655Z
LAST-MODIFIED:20260425T093751Z
UID:42532-1781809200-1781812800@gethsemaneumc.org
SUMMARY:Men's Bible Study
DESCRIPTION:Join with Google Meet: https://meet.google.com/ids-cgao-sca\nOr dial: (US) +1 512-520-0559 PIN: 930332197#\nMore phone numbers: https://tel.meet/ids-cgao-sca?pin=6956896719146&hs=7\nLearn more about Meet at: https://support.google.com/a/users/answer/9282720
URL:https://gethsemaneumc.org/event/mens-bible-study-229/
ORGANIZER;CN="gmen@gethsemaneumc.org":MAILTO:gmen@gethsemaneumc.org
END:VEVENT
BEGIN:VEVENT
DTSTART;TZID=America/New_York:20260618T193000
DTEND;TZID=America/New_York:20260618T203000
DTSTAMP:20260425T105125
CREATED:20260221T230654Z
LAST-MODIFIED:20260425T093751Z
UID:42531-1781811000-1781814600@gethsemaneumc.org
SUMMARY:Pre-Sunday Coordination Meeting
DESCRIPTION:30 minute Conference Call/video to review a rundown of this Sunday’s upcoming worship service \nJoin Hangouts Meetmeet.google.com/ozt-xtpx-ozr \nMeeting IDmeet.google.com/ozt-xtpx-ozr \nPhone Numbers‎(‪US‬)‪+1 224-999-1751‬ \nEvent will include a link to view full list of phone numbers for all supported countries.PIN: ‪432 230 524#‬This phone number has been selected based on the conference creator’s Country setting. Learn more \nAccess Worship Files Here – https://drive.google.com/drive/u/2/folders/0AI4GQDIZbEt0Uk9PVA\nJoin with Google Meet: https://meet.google.com/ozt-xtpx-ozr\nOr dial: (US) +1 224-999-1751 PIN: 432230524#\nLearn more about Meet at: https://support.google.com/a/users/answer/9282720
URL:https://gethsemaneumc.org/event/pre-sunday-coordination-meeting-188/
ORGANIZER;CN="rparquet@gethsemaneumc.org":MAILTO:rparquet@gethsemaneumc.org
END:VEVENT
BEGIN:VEVENT
DTSTART;TZID=America/New_York:20260620T100000
DTEND;TZID=America/New_York:20260620T120000
DTSTAMP:20260425T105125
CREATED:20260227T230641Z
LAST-MODIFIED:20260425T093751Z
UID:42566-1781949600-1781956800@gethsemaneumc.org
SUMMARY:UNITED WOMEN OF FAITH
DESCRIPTION:
URL:https://gethsemaneumc.org/event/united-women-of-faith-40/
END:VEVENT
BEGIN:VEVENT
DTSTART;TZID=America/New_York:20260620T100000
DTEND;TZID=America/New_York:20260620T120000
DTSTAMP:20260425T105125
CREATED:20260228T230637Z
LAST-MODIFIED:20260425T093751Z
UID:42575-1781949600-1781956800@gethsemaneumc.org
SUMMARY:United Methodist Women Meeting/ZOOM
DESCRIPTION:
URL:https://gethsemaneumc.org/event/united-methodist-women-meeting-zoom-30/
LOCATION:GUMC – Fellowship Hall
END:VEVENT
BEGIN:VEVENT
DTSTART;TZID=America/New_York:20260620T100000
DTEND;TZID=America/New_York:20260620T130000
DTSTAMP:20260425T105125
CREATED:20260210T205150Z
LAST-MODIFIED:20260425T083635Z
UID:42280-1781949600-1781960400@gethsemaneumc.org
SUMMARY:Food Pantry
DESCRIPTION:The Food Pantry provides free\, nutritious groceries to individuals and families experiencing food insecurity. The pantry offers fresh produce\, shelf-stable items\, and other essential foods in a welcoming and dignified environment. Services are designed to be accessible and responsive to community needs\, with regular distribution hours and no-cost participation. The pantry also serves as a connection point for additional resources related to food access\, health\, and community support.\nServices are provided in part by funds from the Capital Area Food Bank.\nFor more information email KCoates@Gethsemaneumc.org
URL:https://gethsemaneumc.org/event/food-pantry-322/
LOCATION:Gethsemane United Methodist Church 910 Addison Rd S\, Capitol Heights\, MD\, United States
END:VEVENT
BEGIN:VEVENT
DTSTART;TZID=America/New_York:20260620T100000
DTEND;TZID=America/New_York:20260620T130000
DTSTAMP:20260425T105125
CREATED:20260210T215343Z
LAST-MODIFIED:20260425T073635Z
UID:42391-1781949600-1781960400@gethsemaneumc.org
SUMMARY:One Love Life Center Workshops
DESCRIPTION:One Love Life Center is a community-rooted organization committed to holistic personal development for young people and emerging adults. Our work focuses on supporting individuals along a path toward greater mental\, emotional\, and spiritual health\, while helping them identify their value\, strengthen life skills\, and build sustainable pathways toward purpose\, wellness\, and civic engagement. OLLC exists to walk alongside individuals—not simply to offer programs\, but to foster long-term growth\, accountability\, and community impact.\nFor more information email raimon@\n-onelovelifecenter.org
URL:https://gethsemaneumc.org/event/one-love-life-center-workshops-19/
LOCATION:Gethsemane United Methodist Church-1-Fellowship Hall (200)
END:VEVENT
BEGIN:VEVENT
DTSTART;TZID=America/New_York:20260621T120000
DTEND;TZID=America/New_York:20260621T133000
DTSTAMP:20260425T105125
CREATED:20260301T230718Z
LAST-MODIFIED:20260425T093752Z
UID:42584-1782043200-1782048600@gethsemaneumc.org
SUMMARY:Children Choir
DESCRIPTION:
URL:https://gethsemaneumc.org/event/children-choir-81/
END:VEVENT
BEGIN:VEVENT
DTSTART;TZID=America/New_York:20260625T193000
DTEND;TZID=America/New_York:20260625T203000
DTSTAMP:20260425T105125
CREATED:20260307T235908Z
LAST-MODIFIED:20260425T093752Z
UID:42626-1782415800-1782419400@gethsemaneumc.org
SUMMARY:Pre-Sunday Coordination Meeting
DESCRIPTION:30 minute Conference Call/video to review a rundown of this Sunday’s upcoming worship service \nJoin Hangouts Meetmeet.google.com/ozt-xtpx-ozr \nMeeting IDmeet.google.com/ozt-xtpx-ozr \nPhone Numbers‎(‪US‬)‪+1 224-999-1751‬ \nEvent will include a link to view full list of phone numbers for all supported countries.PIN: ‪432 230 524#‬This phone number has been selected based on the conference creator’s Country setting. Learn more \nAccess Worship Files Here – https://drive.google.com/drive/u/2/folders/0AI4GQDIZbEt0Uk9PVA\nJoin with Google Meet: https://meet.google.com/ozt-xtpx-ozr\nOr dial: (US) +1 224-999-1751 PIN: 432230524#\nLearn more about Meet at: https://support.google.com/a/users/answer/9282720
URL:https://gethsemaneumc.org/event/pre-sunday-coordination-meeting-189/
ORGANIZER;CN="rparquet@gethsemaneumc.org":MAILTO:rparquet@gethsemaneumc.org
END:VEVENT
BEGIN:VEVENT
DTSTART;TZID=America/New_York:20260627T090000
DTEND;TZID=America/New_York:20260627T110000
DTSTAMP:20260425T105125
CREATED:20260313T020757Z
LAST-MODIFIED:20260425T093752Z
UID:42660-1782550800-1782558000@gethsemaneumc.org
SUMMARY:G-MEN Meeting
DESCRIPTION:The United Methodist Men is a fellowship of men who meet regularly to provide support for each other and the church in doing God’s will in the life of the Church.  We seek knowledge and discernment for being men who serve the Lord.
URL:https://gethsemaneumc.org/event/g-men-meeting-44/
LOCATION:Gethsemane United Methodist Church\, 910 Addison Rd S\, Capitol Heights\, MD\, United States
END:VEVENT
BEGIN:VEVENT
DTSTART;TZID=America/New_York:20260627T100000
DTEND;TZID=America/New_York:20260627T130000
DTSTAMP:20260425T105125
CREATED:20260210T205150Z
LAST-MODIFIED:20260425T083635Z
UID:42281-1782554400-1782565200@gethsemaneumc.org
SUMMARY:Food Pantry
DESCRIPTION:The Food Pantry provides free\, nutritious groceries to individuals and families experiencing food insecurity. The pantry offers fresh produce\, shelf-stable items\, and other essential foods in a welcoming and dignified environment. Services are designed to be accessible and responsive to community needs\, with regular distribution hours and no-cost participation. The pantry also serves as a connection point for additional resources related to food access\, health\, and community support.\nServices are provided in part by funds from the Capital Area Food Bank.\nFor more information email KCoates@Gethsemaneumc.org
URL:https://gethsemaneumc.org/event/food-pantry-323/
LOCATION:Gethsemane United Methodist Church 910 Addison Rd S\, Capitol Heights\, MD\, United States
END:VEVENT
BEGIN:VEVENT
DTSTART;TZID=America/New_York:20260627T100000
DTEND;TZID=America/New_York:20260627T130000
DTSTAMP:20260425T105125
CREATED:20260210T215343Z
LAST-MODIFIED:20260425T073635Z
UID:42392-1782554400-1782565200@gethsemaneumc.org
SUMMARY:One Love Life Center Workshops
DESCRIPTION:One Love Life Center is a community-rooted organization committed to holistic personal development for young people and emerging adults. Our work focuses on supporting individuals along a path toward greater mental\, emotional\, and spiritual health\, while helping them identify their value\, strengthen life skills\, and build sustainable pathways toward purpose\, wellness\, and civic engagement. OLLC exists to walk alongside individuals—not simply to offer programs\, but to foster long-term growth\, accountability\, and community impact.\nFor more information email raimon@\n-onelovelifecenter.org
URL:https://gethsemaneumc.org/event/one-love-life-center-workshops-20/
LOCATION:Gethsemane United Methodist Church-1-Fellowship Hall (200)
END:VEVENT
BEGIN:VEVENT
DTSTART;TZID=America/New_York:20260702T190000
DTEND;TZID=America/New_York:20260702T200000
DTSTAMP:20260425T105125
CREATED:20260316T022152Z
LAST-MODIFIED:20260425T093752Z
UID:42682-1783018800-1783022400@gethsemaneumc.org
SUMMARY:Men's Bible Study
DESCRIPTION:Join with Google Meet: https://meet.google.com/bmk-kydf-pny\nOr dial: (US) +1 724-370-0553 PIN: 326785976#\nMore phone numbers: https://tel.meet/bmk-kydf-pny?pin=5864913000926&hs=7\nLearn more about Meet at: https://support.google.com/a/users/answer/9282720
URL:https://gethsemaneumc.org/event/mens-bible-study-230/
ORGANIZER;CN="gmen@gethsemaneumc.org":MAILTO:gmen@gethsemaneumc.org
END:VEVENT
BEGIN:VEVENT
DTSTART;TZID=America/New_York:20260702T193000
DTEND;TZID=America/New_York:20260702T203000
DTSTAMP:20260425T105125
CREATED:20260316T022152Z
LAST-MODIFIED:20260425T093752Z
UID:42681-1783020600-1783024200@gethsemaneumc.org
SUMMARY:Pre-Sunday Coordination Meeting
DESCRIPTION:30 minute Conference Call/video to review a rundown of this Sunday’s upcoming worship service \nJoin Hangouts Meetmeet.google.com/ozt-xtpx-ozr \nMeeting IDmeet.google.com/ozt-xtpx-ozr \nPhone Numbers‎(‪US‬)‪+1 224-999-1751‬ \nEvent will include a link to view full list of phone numbers for all supported countries.PIN: ‪432 230 524#‬This phone number has been selected based on the conference creator’s Country setting. Learn more \nAccess Worship Files Here – https://drive.google.com/drive/u/2/folders/0AI4GQDIZbEt0Uk9PVA\nJoin with Google Meet: https://meet.google.com/ozt-xtpx-ozr\nOr dial: (US) +1 224-999-1751 PIN: 432230524#\nLearn more about Meet at: https://support.google.com/a/users/answer/9282720
URL:https://gethsemaneumc.org/event/pre-sunday-coordination-meeting-190/
ORGANIZER;CN="rparquet@gethsemaneumc.org":MAILTO:rparquet@gethsemaneumc.org
END:VEVENT
BEGIN:VEVENT
DTSTART;TZID=America/New_York:20260704T100000
DTEND;TZID=America/New_York:20260704T130000
DTSTAMP:20260425T105125
CREATED:20260210T205150Z
LAST-MODIFIED:20260425T083635Z
UID:42282-1783159200-1783170000@gethsemaneumc.org
SUMMARY:Food Pantry
DESCRIPTION:The Food Pantry provides free\, nutritious groceries to individuals and families experiencing food insecurity. The pantry offers fresh produce\, shelf-stable items\, and other essential foods in a welcoming and dignified environment. Services are designed to be accessible and responsive to community needs\, with regular distribution hours and no-cost participation. The pantry also serves as a connection point for additional resources related to food access\, health\, and community support.\nServices are provided in part by funds from the Capital Area Food Bank.\nFor more information email KCoates@Gethsemaneumc.org
URL:https://gethsemaneumc.org/event/food-pantry-324/
LOCATION:Gethsemane United Methodist Church 910 Addison Rd S\, Capitol Heights\, MD\, United States
END:VEVENT
BEGIN:VEVENT
DTSTART;TZID=America/New_York:20260704T100000
DTEND;TZID=America/New_York:20260704T130000
DTSTAMP:20260425T105125
CREATED:20260210T215343Z
LAST-MODIFIED:20260425T073635Z
UID:42393-1783159200-1783170000@gethsemaneumc.org
SUMMARY:One Love Life Center Workshops
DESCRIPTION:One Love Life Center is a community-rooted organization committed to holistic personal development for young people and emerging adults. Our work focuses on supporting individuals along a path toward greater mental\, emotional\, and spiritual health\, while helping them identify their value\, strengthen life skills\, and build sustainable pathways toward purpose\, wellness\, and civic engagement. OLLC exists to walk alongside individuals—not simply to offer programs\, but to foster long-term growth\, accountability\, and community impact.\nFor more information email raimon@\n-onelovelifecenter.org
URL:https://gethsemaneumc.org/event/one-love-life-center-workshops-21/
LOCATION:Gethsemane United Methodist Church-1-Fellowship Hall (200)
END:VEVENT
BEGIN:VEVENT
DTSTART;TZID=America/New_York:20260705T120000
DTEND;TZID=America/New_York:20260705T133000
DTSTAMP:20260425T105125
CREATED:20260317T022143Z
LAST-MODIFIED:20260425T093752Z
UID:42689-1783252800-1783258200@gethsemaneumc.org
SUMMARY:Children Choir
DESCRIPTION:
URL:https://gethsemaneumc.org/event/children-choir-82/
END:VEVENT
BEGIN:VEVENT
DTSTART;TZID=America/New_York:20260709T193000
DTEND;TZID=America/New_York:20260709T203000
DTSTAMP:20260425T105125
CREATED:20260318T023707Z
LAST-MODIFIED:20260425T093752Z
UID:42695-1783625400-1783629000@gethsemaneumc.org
SUMMARY:Pre-Sunday Coordination Meeting
DESCRIPTION:30 minute Conference Call/video to review a rundown of this Sunday’s upcoming worship service \nJoin Hangouts Meetmeet.google.com/ozt-xtpx-ozr \nMeeting IDmeet.google.com/ozt-xtpx-ozr \nPhone Numbers‎(‪US‬)‪+1 224-999-1751‬ \nEvent will include a link to view full list of phone numbers for all supported countries.PIN: ‪432 230 524#‬This phone number has been selected based on the conference creator’s Country setting. Learn more \nAccess Worship Files Here – https://drive.google.com/drive/u/2/folders/0AI4GQDIZbEt0Uk9PVA\nJoin with Google Meet: https://meet.google.com/ozt-xtpx-ozr\nOr dial: (US) +1 224-999-1751 PIN: 432230524#\nLearn more about Meet at: https://support.google.com/a/users/answer/9282720
URL:https://gethsemaneumc.org/event/pre-sunday-coordination-meeting-191/
ORGANIZER;CN="rparquet@gethsemaneumc.org":MAILTO:rparquet@gethsemaneumc.org
END:VEVENT
BEGIN:VEVENT
DTSTART;TZID=America/New_York:20260711T100000
DTEND;TZID=America/New_York:20260711T130000
DTSTAMP:20260425T105125
CREATED:20260210T205151Z
LAST-MODIFIED:20260425T083635Z
UID:42283-1783764000-1783774800@gethsemaneumc.org
SUMMARY:Food Pantry
DESCRIPTION:The Food Pantry provides free\, nutritious groceries to individuals and families experiencing food insecurity. The pantry offers fresh produce\, shelf-stable items\, and other essential foods in a welcoming and dignified environment. Services are designed to be accessible and responsive to community needs\, with regular distribution hours and no-cost participation. The pantry also serves as a connection point for additional resources related to food access\, health\, and community support.\nServices are provided in part by funds from the Capital Area Food Bank.\nFor more information email KCoates@Gethsemaneumc.org
URL:https://gethsemaneumc.org/event/food-pantry-325/
LOCATION:Gethsemane United Methodist Church 910 Addison Rd S\, Capitol Heights\, MD\, United States
END:VEVENT
END:VCALENDAR