BEGIN:VCALENDAR
VERSION:2.0
PRODID:-//Gethsemane United Methodist Church - ECPv6.15.12.2//NONSGML v1.0//EN
CALSCALE:GREGORIAN
METHOD:PUBLISH
X-WR-CALNAME:Gethsemane United Methodist Church
X-ORIGINAL-URL:https://gethsemaneumc.org
X-WR-CALDESC:Events for Gethsemane United Methodist Church
REFRESH-INTERVAL;VALUE=DURATION:PT1H
X-Robots-Tag:noindex
X-PUBLISHED-TTL:PT1H
BEGIN:VTIMEZONE
TZID:America/New_York
BEGIN:DAYLIGHT
TZOFFSETFROM:-0500
TZOFFSETTO:-0400
TZNAME:EDT
DTSTART:20250309T070000
END:DAYLIGHT
BEGIN:STANDARD
TZOFFSETFROM:-0400
TZOFFSETTO:-0500
TZNAME:EST
DTSTART:20251102T060000
END:STANDARD
BEGIN:DAYLIGHT
TZOFFSETFROM:-0500
TZOFFSETTO:-0400
TZNAME:EDT
DTSTART:20260308T070000
END:DAYLIGHT
BEGIN:STANDARD
TZOFFSETFROM:-0400
TZOFFSETTO:-0500
TZNAME:EST
DTSTART:20261101T060000
END:STANDARD
BEGIN:DAYLIGHT
TZOFFSETFROM:-0500
TZOFFSETTO:-0400
TZNAME:EDT
DTSTART:20270314T070000
END:DAYLIGHT
BEGIN:STANDARD
TZOFFSETFROM:-0400
TZOFFSETTO:-0500
TZNAME:EST
DTSTART:20271107T060000
END:STANDARD
END:VTIMEZONE
BEGIN:VEVENT
DTSTART;TZID=America/New_York:20260326T193000
DTEND;TZID=America/New_York:20260326T203000
DTSTAMP:20260425T123146
CREATED:20251210T162155Z
LAST-MODIFIED:20260326T073959Z
UID:41867-1774553400-1774557000@gethsemaneumc.org
SUMMARY:Pre-Sunday Coordination Meeting
DESCRIPTION:30 minute Conference Call/video to review a rundown of this Sunday’s upcoming worship service \nJoin Hangouts Meetmeet.google.com/ozt-xtpx-ozr \nMeeting IDmeet.google.com/ozt-xtpx-ozr \nPhone Numbers‎(‪US‬)‪+1 224-999-1751‬ \nEvent will include a link to view full list of phone numbers for all supported countries.PIN: ‪432 230 524#‬This phone number has been selected based on the conference creator’s Country setting. Learn more \nAccess Worship Files Here – https://drive.google.com/drive/u/2/folders/0AI4GQDIZbEt0Uk9PVA\nJoin with Google Meet: https://meet.google.com/ozt-xtpx-ozr\nOr dial: (US) +1 224-999-1751 PIN: 432230524#\nLearn more about Meet at: https://support.google.com/a/users/answer/9282720
URL:https://gethsemaneumc.org/event/pre-sunday-coordination-meeting-176/
LOCATION:MD
ORGANIZER;CN="rparquet@gethsemaneumc.org":MAILTO:rparquet@gethsemaneumc.org
END:VEVENT
BEGIN:VEVENT
DTSTART;TZID=America/New_York:20260328T090000
DTEND;TZID=America/New_York:20260328T110000
DTSTAMP:20260425T123146
CREATED:20251212T162142Z
LAST-MODIFIED:20260328T075234Z
UID:41883-1774688400-1774695600@gethsemaneumc.org
SUMMARY:G-MEN Meeting
DESCRIPTION:The United Methodist Men is a fellowship of men who meet regularly to provide support for each other and the church in doing God’s will in the life of the Church.  We seek knowledge and discernment for being men who serve the Lord.
URL:https://gethsemaneumc.org/event/g-men-meeting-41/
LOCATION:Gethsemane United Methodist Church\, 910 Addison Rd S\, Capitol Heights\, MD\, United States
END:VEVENT
BEGIN:VEVENT
DTSTART;TZID=America/New_York:20260328T100000
DTEND;TZID=America/New_York:20260328T130000
DTSTAMP:20260425T123146
CREATED:20260210T205148Z
LAST-MODIFIED:20260328T063736Z
UID:42268-1774692000-1774702800@gethsemaneumc.org
SUMMARY:Food Pantry
DESCRIPTION:The Food Pantry provides free\, nutritious groceries to individuals and families experiencing food insecurity. The pantry offers fresh produce\, shelf-stable items\, and other essential foods in a welcoming and dignified environment. Services are designed to be accessible and responsive to community needs\, with regular distribution hours and no-cost participation. The pantry also serves as a connection point for additional resources related to food access\, health\, and community support.\nServices are provided in part by funds from the Capital Area Food Bank.\nFor more information email KCoates@Gethsemaneumc.org
URL:https://gethsemaneumc.org/event/food-pantry-310/
LOCATION:Gethsemane United Methodist Church 910 Addison Rd S\, Capitol Heights\, MD\, United States
END:VEVENT
BEGIN:VEVENT
DTSTART;TZID=America/New_York:20260328T100000
DTEND;TZID=America/New_York:20260328T130000
DTSTAMP:20260425T123146
CREATED:20260210T215341Z
LAST-MODIFIED:20260328T063741Z
UID:42376-1774692000-1774702800@gethsemaneumc.org
SUMMARY:One Love Life Center Workshops
DESCRIPTION:One Love Life Center is a community-rooted organization committed to holistic personal development for young people and emerging adults. Our work focuses on supporting individuals along a path toward greater mental\, emotional\, and spiritual health\, while helping them identify their value\, strengthen life skills\, and build sustainable pathways toward purpose\, wellness\, and civic engagement. OLLC exists to walk alongside individuals—not simply to offer programs\, but to foster long-term growth\, accountability\, and community impact.\nFor more information email raimon@\n-onelovelifecenter.org
URL:https://gethsemaneumc.org/event/one-love-life-center-workshops-7/
LOCATION:Gethsemane United Methodist Church-1-Fellowship Hall (200)
END:VEVENT
BEGIN:VEVENT
DTSTART;TZID=America/New_York:20260328T140000
DTEND;TZID=America/New_York:20260328T150000
DTSTAMP:20260425T123146
CREATED:20260319T023637Z
LAST-MODIFIED:20260328T075234Z
UID:42700-1774706400-1774710000@gethsemaneumc.org
SUMMARY:SVOP REHEARSAL
DESCRIPTION:Join with Google Meet: https://meet.google.com/sfw-tzas-kup\nOr dial: (US) +1 470-228-0043 PIN: 258003638#\nMore phone numbers: https://tel.meet/sfw-tzas-kup?pin=8203418301766&hs=7\nLearn more about Meet at: https://support.google.com/a/users/answer/9282720
URL:https://gethsemaneumc.org/event/svop-rehearsal/
LOCATION:Gethsemane United Methodist Church-1-Sanctuary (500)
END:VEVENT
BEGIN:VEVENT
DTSTART;TZID=America/New_York:20260331T190000
DTEND;TZID=America/New_York:20260331T200000
DTSTAMP:20260425T123146
CREATED:20260331T075213Z
LAST-MODIFIED:20260331T075213Z
UID:42775-1774983600-1774987200@gethsemaneumc.org
SUMMARY:Easter Mass choir rehearsal
DESCRIPTION:
URL:https://gethsemaneumc.org/event/easter-mass-choir-rehearsal/
LOCATION:Gethsemane United Methodist Church-1-Sanctuary (500)
END:VEVENT
BEGIN:VEVENT
DTSTART;TZID=America/New_York:20260402T190000
DTEND;TZID=America/New_York:20260402T200000
DTSTAMP:20260425T123146
CREATED:20251215T163642Z
LAST-MODIFIED:20260402T082141Z
UID:41906-1775156400-1775160000@gethsemaneumc.org
SUMMARY:Men's Bible Study
DESCRIPTION:Join with Google Meet: https://meet.google.com/bmk-kydf-pny\nOr dial: (US) +1 724-370-0553 PIN: 326785976#\nMore phone numbers: https://tel.meet/bmk-kydf-pny?pin=5864913000926&hs=7\nLearn more about Meet at: https://support.google.com/a/users/answer/9282720
URL:https://gethsemaneumc.org/event/mens-bible-study-222/
LOCATION:MD
ORGANIZER;CN="gmen@gethsemaneumc.org":MAILTO:gmen@gethsemaneumc.org
END:VEVENT
BEGIN:VEVENT
DTSTART;TZID=America/New_York:20260402T193000
DTEND;TZID=America/New_York:20260402T203000
DTSTAMP:20260425T123146
CREATED:20251214T162144Z
LAST-MODIFIED:20260402T082141Z
UID:41901-1775158200-1775161800@gethsemaneumc.org
SUMMARY:Pre-Sunday Coordination Meeting
DESCRIPTION:30 minute Conference Call/video to review a rundown of this Sunday’s upcoming worship service \nJoin Hangouts Meetmeet.google.com/ozt-xtpx-ozr \nMeeting IDmeet.google.com/ozt-xtpx-ozr \nPhone Numbers‎(‪US‬)‪+1 224-999-1751‬ \nEvent will include a link to view full list of phone numbers for all supported countries.PIN: ‪432 230 524#‬This phone number has been selected based on the conference creator’s Country setting. Learn more \nAccess Worship Files Here – https://drive.google.com/drive/u/2/folders/0AI4GQDIZbEt0Uk9PVA\nJoin with Google Meet: https://meet.google.com/ozt-xtpx-ozr\nOr dial: (US) +1 224-999-1751 PIN: 432230524#\nLearn more about Meet at: https://support.google.com/a/users/answer/9282720
URL:https://gethsemaneumc.org/event/pre-sunday-coordination-meeting-177/
LOCATION:MD
ORGANIZER;CN="rparquet@gethsemaneumc.org":MAILTO:rparquet@gethsemaneumc.org
END:VEVENT
BEGIN:VEVENT
DTSTART;TZID=America/New_York:20260404T100000
DTEND;TZID=America/New_York:20260404T130000
DTSTAMP:20260425T123146
CREATED:20260210T205148Z
LAST-MODIFIED:20260404T073637Z
UID:42269-1775296800-1775307600@gethsemaneumc.org
SUMMARY:Food Pantry
DESCRIPTION:The Food Pantry provides free\, nutritious groceries to individuals and families experiencing food insecurity. The pantry offers fresh produce\, shelf-stable items\, and other essential foods in a welcoming and dignified environment. Services are designed to be accessible and responsive to community needs\, with regular distribution hours and no-cost participation. The pantry also serves as a connection point for additional resources related to food access\, health\, and community support.\nServices are provided in part by funds from the Capital Area Food Bank.\nFor more information email KCoates@Gethsemaneumc.org
URL:https://gethsemaneumc.org/event/food-pantry-311/
LOCATION:Gethsemane United Methodist Church 910 Addison Rd S\, Capitol Heights\, MD\, United States
END:VEVENT
BEGIN:VEVENT
DTSTART;TZID=America/New_York:20260404T100000
DTEND;TZID=America/New_York:20260404T130000
DTSTAMP:20260425T123146
CREATED:20260210T215341Z
LAST-MODIFIED:20260404T070642Z
UID:42377-1775296800-1775307600@gethsemaneumc.org
SUMMARY:One Love Life Center Workshops
DESCRIPTION:One Love Life Center is a community-rooted organization committed to holistic personal development for young people and emerging adults. Our work focuses on supporting individuals along a path toward greater mental\, emotional\, and spiritual health\, while helping them identify their value\, strengthen life skills\, and build sustainable pathways toward purpose\, wellness\, and civic engagement. OLLC exists to walk alongside individuals—not simply to offer programs\, but to foster long-term growth\, accountability\, and community impact.\nFor more information email raimon@\n-onelovelifecenter.org
URL:https://gethsemaneumc.org/event/one-love-life-center-workshops-8/
LOCATION:Gethsemane United Methodist Church-1-Fellowship Hall (200)
END:VEVENT
BEGIN:VEVENT
DTSTART;TZID=America/New_York:20260405T120000
DTEND;TZID=America/New_York:20260405T133000
DTSTAMP:20260425T123146
CREATED:20251218T180837Z
LAST-MODIFIED:20260405T083640Z
UID:41922-1775390400-1775395800@gethsemaneumc.org
SUMMARY:Children Choir
DESCRIPTION:
URL:https://gethsemaneumc.org/event/children-choir-76/
LOCATION:MD
END:VEVENT
BEGIN:VEVENT
DTSTART;TZID=America/New_York:20260409T193000
DTEND;TZID=America/New_York:20260409T203000
DTSTAMP:20260425T123146
CREATED:20251219T182218Z
LAST-MODIFIED:20260409T085142Z
UID:41929-1775763000-1775766600@gethsemaneumc.org
SUMMARY:Pre-Sunday Coordination Meeting
DESCRIPTION:30 minute Conference Call/video to review a rundown of this Sunday’s upcoming worship service \nJoin Hangouts Meetmeet.google.com/ozt-xtpx-ozr \nMeeting IDmeet.google.com/ozt-xtpx-ozr \nPhone Numbers‎(‪US‬)‪+1 224-999-1751‬ \nEvent will include a link to view full list of phone numbers for all supported countries.PIN: ‪432 230 524#‬This phone number has been selected based on the conference creator’s Country setting. Learn more \nAccess Worship Files Here – https://drive.google.com/drive/u/2/folders/0AI4GQDIZbEt0Uk9PVA\nJoin with Google Meet: https://meet.google.com/ozt-xtpx-ozr\nOr dial: (US) +1 224-999-1751 PIN: 432230524#\nLearn more about Meet at: https://support.google.com/a/users/answer/9282720
URL:https://gethsemaneumc.org/event/pre-sunday-coordination-meeting-178/
LOCATION:MD
ORGANIZER;CN="rparquet@gethsemaneumc.org":MAILTO:rparquet@gethsemaneumc.org
END:VEVENT
BEGIN:VEVENT
DTSTART;TZID=America/New_York:20260411T100000
DTEND;TZID=America/New_York:20260411T130000
DTSTAMP:20260425T123146
CREATED:20260210T205148Z
LAST-MODIFIED:20260411T075153Z
UID:42270-1775901600-1775912400@gethsemaneumc.org
SUMMARY:Food Pantry
DESCRIPTION:The Food Pantry provides free\, nutritious groceries to individuals and families experiencing food insecurity. The pantry offers fresh produce\, shelf-stable items\, and other essential foods in a welcoming and dignified environment. Services are designed to be accessible and responsive to community needs\, with regular distribution hours and no-cost participation. The pantry also serves as a connection point for additional resources related to food access\, health\, and community support.\nServices are provided in part by funds from the Capital Area Food Bank.\nFor more information email KCoates@Gethsemaneumc.org
URL:https://gethsemaneumc.org/event/food-pantry-312/
LOCATION:Gethsemane United Methodist Church 910 Addison Rd S\, Capitol Heights\, MD\, United States
END:VEVENT
BEGIN:VEVENT
DTSTART;TZID=America/New_York:20260411T100000
DTEND;TZID=America/New_York:20260411T130000
DTSTAMP:20260425T123146
CREATED:20260210T215341Z
LAST-MODIFIED:20260411T072348Z
UID:42378-1775901600-1775912400@gethsemaneumc.org
SUMMARY:One Love Life Center Workshops
DESCRIPTION:One Love Life Center is a community-rooted organization committed to holistic personal development for young people and emerging adults. Our work focuses on supporting individuals along a path toward greater mental\, emotional\, and spiritual health\, while helping them identify their value\, strengthen life skills\, and build sustainable pathways toward purpose\, wellness\, and civic engagement. OLLC exists to walk alongside individuals—not simply to offer programs\, but to foster long-term growth\, accountability\, and community impact.\nFor more information email raimon@\n-onelovelifecenter.org
URL:https://gethsemaneumc.org/event/one-love-life-center-workshops-9/
LOCATION:Gethsemane United Methodist Church-1-Fellowship Hall (200)
END:VEVENT
BEGIN:VEVENT
DTSTART;TZID=America/New_York:20260411T140000
DTEND;TZID=America/New_York:20260411T150000
DTSTAMP:20260425T123146
CREATED:20260411T085136Z
LAST-MODIFIED:20260411T085136Z
UID:42825-1775916000-1775919600@gethsemaneumc.org
SUMMARY:SOL REHEARSAL
DESCRIPTION:
URL:https://gethsemaneumc.org/event/sol-rehearsal-7/
LOCATION:MD
END:VEVENT
BEGIN:VEVENT
DTSTART;TZID=America/New_York:20260414T190000
DTEND;TZID=America/New_York:20260414T210000
DTSTAMP:20260425T123146
CREATED:20251219T182218Z
LAST-MODIFIED:20260414T090746Z
UID:41930-1776193200-1776200400@gethsemaneumc.org
SUMMARY:Finance Meeting
DESCRIPTION:
URL:https://gethsemaneumc.org/event/finance-meeting-38/
LOCATION:GUMC – Penrod Chapel
END:VEVENT
BEGIN:VEVENT
DTSTART;TZID=America/New_York:20260416T100000
DTEND;TZID=America/New_York:20260416T120000
DTSTAMP:20260425T123146
CREATED:20260210T215342Z
LAST-MODIFIED:20260416T072254Z
UID:42379-1776333600-1776340800@gethsemaneumc.org
SUMMARY:Green Team Meeting
DESCRIPTION:Join us as we launch the Sacred Grounds Green Team\, a new community of congregants and neighbors coming together to care for Creation\, learn from one another\, and take meaningful steps toward climate action. \nBuilding on the Sacred Grounds garden installation project\, The Capital Market and Gethsemane United Methodist Church are inviting community members of all ages to gather every third Thursday for conversation\, education\, and fellowship rooted in environmental stewardship and faith. \nThis kick-off gathering will introduce the vision of the Green Team and offer space to reflect on where we each fit in the climate movement. \nWhere: 910 Addison Road South\, Capitol Heights\, MD 20743When: February 20\, 2026 | 10:00 a.m. – 12:00 p.m.Cost: Free and open to all \nPlease RSVP to let us know you’re coming.Questions? Contact kennedy@thecapitalmarketmd.com
URL:https://gethsemaneumc.org/event/green-team-meeting-3/
LOCATION:Gethsemane United Methodist Church\, 910 Addison Rd S\, Capitol Heights\, MD 20743\, USA\, Gethsemane United Methodist Church-1-Fellowship Hall (200)
END:VEVENT
BEGIN:VEVENT
DTSTART;TZID=America/New_York:20260416T190000
DTEND;TZID=America/New_York:20260416T200000
DTSTAMP:20260425T123146
CREATED:20250108T232625Z
LAST-MODIFIED:20260416T072254Z
UID:39611-1776366000-1776369600@gethsemaneumc.org
SUMMARY:Men's Bible Study
DESCRIPTION:Join with Google Meet: https://meet.google.com/ids-cgao-sca\nOr dial: (US) +1 512-520-0559 PIN: 930332197#\nMore phone numbers: https://tel.meet/ids-cgao-sca?pin=6956896719146&hs=7\nLearn more about Meet at: https://support.google.com/a/users/answer/9282720
URL:https://gethsemaneumc.org/event/mens-bible-study-173/
LOCATION:MD
END:VEVENT
BEGIN:VEVENT
DTSTART;TZID=America/New_York:20260416T190000
DTEND;TZID=America/New_York:20260416T200000
DTSTAMP:20260425T123146
CREATED:20251220T183646Z
LAST-MODIFIED:20260416T090639Z
UID:41940-1776366000-1776369600@gethsemaneumc.org
SUMMARY:Men's Bible Study
DESCRIPTION:Join with Google Meet: https://meet.google.com/ids-cgao-sca\nOr dial: (US) +1 512-520-0559 PIN: 930332197#\nMore phone numbers: https://tel.meet/ids-cgao-sca?pin=6956896719146&hs=7\nLearn more about Meet at: https://support.google.com/a/users/answer/9282720
URL:https://gethsemaneumc.org/event/mens-bible-study-224/
LOCATION:MD
ORGANIZER;CN="gmen@gethsemaneumc.org":MAILTO:gmen@gethsemaneumc.org
END:VEVENT
BEGIN:VEVENT
DTSTART;TZID=America/New_York:20260416T193000
DTEND;TZID=America/New_York:20260416T203000
DTSTAMP:20260425T123146
CREATED:20251220T183646Z
LAST-MODIFIED:20260416T090639Z
UID:41939-1776367800-1776371400@gethsemaneumc.org
SUMMARY:Pre-Sunday Coordination Meeting
DESCRIPTION:30 minute Conference Call/video to review a rundown of this Sunday’s upcoming worship service \nJoin Hangouts Meetmeet.google.com/ozt-xtpx-ozr \nMeeting IDmeet.google.com/ozt-xtpx-ozr \nPhone Numbers‎(‪US‬)‪+1 224-999-1751‬ \nEvent will include a link to view full list of phone numbers for all supported countries.PIN: ‪432 230 524#‬This phone number has been selected based on the conference creator’s Country setting. Learn more \nAccess Worship Files Here – https://drive.google.com/drive/u/2/folders/0AI4GQDIZbEt0Uk9PVA\nJoin with Google Meet: https://meet.google.com/ozt-xtpx-ozr\nOr dial: (US) +1 224-999-1751 PIN: 432230524#\nLearn more about Meet at: https://support.google.com/a/users/answer/9282720
URL:https://gethsemaneumc.org/event/pre-sunday-coordination-meeting-179/
LOCATION:MD
ORGANIZER;CN="rparquet@gethsemaneumc.org":MAILTO:rparquet@gethsemaneumc.org
END:VEVENT
BEGIN:VEVENT
DTSTART;TZID=America/New_York:20260417T143000
DTEND;TZID=America/New_York:20260417T153000
DTSTAMP:20260425T123146
CREATED:20260416T090636Z
LAST-MODIFIED:20260417T090636Z
UID:42855-1776436200-1776439800@gethsemaneumc.org
SUMMARY:Gethsemane UMC MEA Grant
DESCRIPTION:Join with Google Meet: https://meet.google.com/xnp-xxpq-uvh\nOr dial: (US) +1 929-324-6512 PIN: 756180861#\nMore phone numbers: https://tel.meet/xnp-xxpq-uvh?pin=2836560226822&hs=7\nLearn more about Meet at: https://support.google.com/a/users/answer/9282720
URL:https://gethsemaneumc.org/event/gethsemane-umc-mea-grant/
LOCATION:MD
END:VEVENT
BEGIN:VEVENT
DTSTART;TZID=America/New_York:20260418T090000
DTEND;TZID=America/New_York:20260418T120000
DTSTAMP:20260425T123146
CREATED:20260412T075140Z
LAST-MODIFIED:20260418T083639Z
UID:42832-1776502800-1776513600@gethsemaneumc.org
SUMMARY:BLCC Food Forest Tree Planting Date
DESCRIPTION:https://BLCCFoodForest.eventbrite.com \nJoin us in person to volunteer for a Community Reforestation and Healthy Food Access Initiative along the Blue Line Corridor \nThe Blue Line Corridor Coalition Food Forest Project is a placemaking and healthy food access initiative led by a partnership between LISC DC\, The Capital Market\, and Joe’s Movement Emporium GreenWorks Program and designed to transform underutilized vacant lots in the Blue Line Corridor into vibrant\, community-rooted edible landscapes. \nVolunteers will come together to support the GreenWorks team in preparing a site and planting trees\, shrubs\, and groundcover that contribute to long-term community health and stewardship. This is a great chance to get your hands dirty\, meet new people\, and help cultivate a community space that everyone can enjoy. No experience needed—just bring your energy and enthusiasm and we’ll provide the neccessary training and materials.
URL:https://gethsemaneumc.org/event/blcc-food-forest-tree-planting-date/
LOCATION:910 Addison Rd S\, Capitol Heights\, MD 20743\, USA\, Gethsemane United Methodist Church-Outside-Parking Lot (500)
END:VEVENT
BEGIN:VEVENT
DTSTART;TZID=America/New_York:20260418T100000
DTEND;TZID=America/New_York:20260418T120000
DTSTAMP:20260425T123146
CREATED:20251221T185145Z
LAST-MODIFIED:20260418T090734Z
UID:41952-1776506400-1776513600@gethsemaneumc.org
SUMMARY:United Methodist Women Meeting/ZOOM
DESCRIPTION:
URL:https://gethsemaneumc.org/event/united-methodist-women-meeting-zoom-28/
LOCATION:GUMC – Fellowship Hall
END:VEVENT
BEGIN:VEVENT
DTSTART;TZID=America/New_York:20260418T100000
DTEND;TZID=America/New_York:20260418T120000
DTSTAMP:20260425T123146
CREATED:20251223T190750Z
LAST-MODIFIED:20260418T090733Z
UID:41966-1776506400-1776513600@gethsemaneumc.org
SUMMARY:UNITED WOMEN OF FAITH
DESCRIPTION:
URL:https://gethsemaneumc.org/event/united-women-of-faith-38/
LOCATION:MD
END:VEVENT
BEGIN:VEVENT
DTSTART;TZID=America/New_York:20260418T100000
DTEND;TZID=America/New_York:20260418T130000
DTSTAMP:20260425T123146
CREATED:20260210T205148Z
LAST-MODIFIED:20260418T083639Z
UID:42271-1776506400-1776517200@gethsemaneumc.org
SUMMARY:Food Pantry
DESCRIPTION:The Food Pantry provides free\, nutritious groceries to individuals and families experiencing food insecurity. The pantry offers fresh produce\, shelf-stable items\, and other essential foods in a welcoming and dignified environment. Services are designed to be accessible and responsive to community needs\, with regular distribution hours and no-cost participation. The pantry also serves as a connection point for additional resources related to food access\, health\, and community support.\nServices are provided in part by funds from the Capital Area Food Bank.\nFor more information email KCoates@Gethsemaneumc.org
URL:https://gethsemaneumc.org/event/food-pantry-313/
LOCATION:Gethsemane United Methodist Church 910 Addison Rd S\, Capitol Heights\, MD\, United States
END:VEVENT
BEGIN:VEVENT
DTSTART;TZID=America/New_York:20260418T100000
DTEND;TZID=America/New_York:20260418T130000
DTSTAMP:20260425T123146
CREATED:20260210T215342Z
LAST-MODIFIED:20260418T072157Z
UID:42380-1776506400-1776517200@gethsemaneumc.org
SUMMARY:One Love Life Center Workshops
DESCRIPTION:One Love Life Center is a community-rooted organization committed to holistic personal development for young people and emerging adults. Our work focuses on supporting individuals along a path toward greater mental\, emotional\, and spiritual health\, while helping them identify their value\, strengthen life skills\, and build sustainable pathways toward purpose\, wellness\, and civic engagement. OLLC exists to walk alongside individuals—not simply to offer programs\, but to foster long-term growth\, accountability\, and community impact.\nFor more information email raimon@\n-onelovelifecenter.org
URL:https://gethsemaneumc.org/event/one-love-life-center-workshops-10/
LOCATION:Gethsemane United Methodist Church-1-Fellowship Hall (200)
END:VEVENT
BEGIN:VEVENT
DTSTART;TZID=America/New_York:20260418T140000
DTEND;TZID=America/New_York:20260418T150000
DTSTAMP:20260425T123146
CREATED:20260327T075147Z
LAST-MODIFIED:20260418T090734Z
UID:42751-1776520800-1776524400@gethsemaneumc.org
SUMMARY:SVOP
DESCRIPTION:Join with Google Meet: https://meet.google.com/tac-anmx-fnc\nOr dial: (US) +1 929-324-1527 PIN: 830860493#\nMore phone numbers: https://tel.meet/tac-anmx-fnc?pin=6294301531873&hs=7\nLearn more about Meet at: https://support.google.com/a/users/answer/9282720
URL:https://gethsemaneumc.org/event/svop/
LOCATION:Gethsemane United Methodist Church-1-Sanctuary (500)
END:VEVENT
BEGIN:VEVENT
DTSTART;TZID=America/New_York:20260419T120000
DTEND;TZID=America/New_York:20260419T133000
DTSTAMP:20260425T123146
CREATED:20251227T193652Z
LAST-MODIFIED:20260419T090719Z
UID:41992-1776600000-1776605400@gethsemaneumc.org
SUMMARY:Children Choir
DESCRIPTION:
URL:https://gethsemaneumc.org/event/children-choir-77/
LOCATION:MD
END:VEVENT
BEGIN:VEVENT
DTSTART;TZID=America/New_York:20260421T190000
DTEND;TZID=America/New_York:20260421T210000
DTSTAMP:20260425T123146
CREATED:20260102T200640Z
LAST-MODIFIED:20260421T091038Z
UID:42031-1776798000-1776805200@gethsemaneumc.org
SUMMARY:Church Council Meeting
DESCRIPTION:
URL:https://gethsemaneumc.org/event/church-council-meeting-39/
LOCATION:GUMC – Fellowship Hall
END:VEVENT
BEGIN:VEVENT
DTSTART;TZID=America/New_York:20260423T193000
DTEND;TZID=America/New_York:20260423T203000
DTSTAMP:20260425T123146
CREATED:20260102T200640Z
LAST-MODIFIED:20260423T092137Z
UID:42032-1776972600-1776976200@gethsemaneumc.org
SUMMARY:Pre-Sunday Coordination Meeting
DESCRIPTION:30 minute Conference Call/video to review a rundown of this Sunday’s upcoming worship service \nJoin Hangouts Meetmeet.google.com/ozt-xtpx-ozr \nMeeting IDmeet.google.com/ozt-xtpx-ozr \nPhone Numbers‎(‪US‬)‪+1 224-999-1751‬ \nEvent will include a link to view full list of phone numbers for all supported countries.PIN: ‪432 230 524#‬This phone number has been selected based on the conference creator’s Country setting. Learn more \nAccess Worship Files Here – https://drive.google.com/drive/u/2/folders/0AI4GQDIZbEt0Uk9PVA\nJoin with Google Meet: https://meet.google.com/ozt-xtpx-ozr\nOr dial: (US) +1 224-999-1751 PIN: 432230524#\nLearn more about Meet at: https://support.google.com/a/users/answer/9282720
URL:https://gethsemaneumc.org/event/pre-sunday-coordination-meeting-180/
LOCATION:MD
ORGANIZER;CN="rparquet@gethsemaneumc.org":MAILTO:rparquet@gethsemaneumc.org
END:VEVENT
END:VCALENDAR