BEGIN:VCALENDAR
VERSION:2.0
PRODID:-//Gethsemane United Methodist Church - ECPv6.15.12.2//NONSGML v1.0//EN
CALSCALE:GREGORIAN
METHOD:PUBLISH
X-ORIGINAL-URL:https://gethsemaneumc.org
X-WR-CALDESC:Events for Gethsemane United Methodist Church
REFRESH-INTERVAL;VALUE=DURATION:PT1H
X-Robots-Tag:noindex
X-PUBLISHED-TTL:PT1H
BEGIN:VTIMEZONE
TZID:America/New_York
BEGIN:DAYLIGHT
TZOFFSETFROM:-0500
TZOFFSETTO:-0400
TZNAME:EDT
DTSTART:20260308T070000
END:DAYLIGHT
BEGIN:STANDARD
TZOFFSETFROM:-0400
TZOFFSETTO:-0500
TZNAME:EST
DTSTART:20261101T060000
END:STANDARD
BEGIN:DAYLIGHT
TZOFFSETFROM:-0500
TZOFFSETTO:-0400
TZNAME:EDT
DTSTART:20270314T070000
END:DAYLIGHT
BEGIN:STANDARD
TZOFFSETFROM:-0400
TZOFFSETTO:-0500
TZNAME:EST
DTSTART:20271107T060000
END:STANDARD
BEGIN:DAYLIGHT
TZOFFSETFROM:-0500
TZOFFSETTO:-0400
TZNAME:EDT
DTSTART:20280312T070000
END:DAYLIGHT
BEGIN:STANDARD
TZOFFSETFROM:-0400
TZOFFSETTO:-0500
TZNAME:EST
DTSTART:20281105T060000
END:STANDARD
BEGIN:DAYLIGHT
TZOFFSETFROM:-0500
TZOFFSETTO:-0400
TZNAME:EDT
DTSTART:20290311T070000
END:DAYLIGHT
BEGIN:STANDARD
TZOFFSETFROM:-0400
TZOFFSETTO:-0500
TZNAME:EST
DTSTART:20291104T060000
END:STANDARD
END:VTIMEZONE
BEGIN:VEVENT
DTSTART;TZID=America/New_York:20270116T100000
DTEND;TZID=America/New_York:20270116T130000
DTSTAMP:20260425T222011
CREATED:20260210T205157Z
LAST-MODIFIED:20260425T083638Z
UID:42310-1800093600-1800104400@gethsemaneumc.org
SUMMARY:Food Pantry
DESCRIPTION:The Food Pantry provides free\, nutritious groceries to individuals and families experiencing food insecurity. The pantry offers fresh produce\, shelf-stable items\, and other essential foods in a welcoming and dignified environment. Services are designed to be accessible and responsive to community needs\, with regular distribution hours and no-cost participation. The pantry also serves as a connection point for additional resources related to food access\, health\, and community support.\nServices are provided in part by funds from the Capital Area Food Bank.\nFor more information email KCoates@Gethsemaneumc.org
URL:https://gethsemaneumc.org/event/food-pantry-352/
LOCATION:Gethsemane United Methodist Church 910 Addison Rd S\, Capitol Heights\, MD\, United States
END:VEVENT
BEGIN:VEVENT
DTSTART;TZID=America/New_York:20270121T190000
DTEND;TZID=America/New_York:20270121T200000
DTSTAMP:20260425T222011
CREATED:20250122T003647Z
LAST-MODIFIED:20260209T215156Z
UID:39804-1800558000-1800561600@gethsemaneumc.org
SUMMARY:Men's Bible Study
DESCRIPTION:Join with Google Meet: https://meet.google.com/ids-cgao-sca\nOr dial: (US) +1 512-520-0559 PIN: 930332197#\nMore phone numbers: https://tel.meet/ids-cgao-sca?pin=6956896719146&hs=7\nLearn more about Meet at: https://support.google.com/a/users/answer/9282720
URL:https://gethsemaneumc.org/event/mens-bible-study-189/
END:VEVENT
BEGIN:VEVENT
DTSTART;TZID=America/New_York:20270123T100000
DTEND;TZID=America/New_York:20270123T130000
DTSTAMP:20260425T222011
CREATED:20260210T205157Z
LAST-MODIFIED:20260425T083638Z
UID:42311-1800698400-1800709200@gethsemaneumc.org
SUMMARY:Food Pantry
DESCRIPTION:The Food Pantry provides free\, nutritious groceries to individuals and families experiencing food insecurity. The pantry offers fresh produce\, shelf-stable items\, and other essential foods in a welcoming and dignified environment. Services are designed to be accessible and responsive to community needs\, with regular distribution hours and no-cost participation. The pantry also serves as a connection point for additional resources related to food access\, health\, and community support.\nServices are provided in part by funds from the Capital Area Food Bank.\nFor more information email KCoates@Gethsemaneumc.org
URL:https://gethsemaneumc.org/event/food-pantry-353/
LOCATION:Gethsemane United Methodist Church 910 Addison Rd S\, Capitol Heights\, MD\, United States
END:VEVENT
BEGIN:VEVENT
DTSTART;TZID=America/New_York:20270130T100000
DTEND;TZID=America/New_York:20270130T130000
DTSTAMP:20260425T222011
CREATED:20260221T210708Z
LAST-MODIFIED:20260425T083638Z
UID:42523-1801303200-1801314000@gethsemaneumc.org
SUMMARY:Food Pantry
DESCRIPTION:The Food Pantry provides free\, nutritious groceries to individuals and families experiencing food insecurity. The pantry offers fresh produce\, shelf-stable items\, and other essential foods in a welcoming and dignified environment. Services are designed to be accessible and responsive to community needs\, with regular distribution hours and no-cost participation. The pantry also serves as a connection point for additional resources related to food access\, health\, and community support.\nServices are provided in part by funds from the Capital Area Food Bank.\nFor more information email KCoates@Gethsemaneumc.org
URL:https://gethsemaneumc.org/event/food-pantry-354/
LOCATION:Gethsemane United Methodist Church 910 Addison Rd S\, Capitol Heights\, MD\, United States
END:VEVENT
BEGIN:VEVENT
DTSTART;TZID=America/New_York:20270206T100000
DTEND;TZID=America/New_York:20270206T130000
DTSTAMP:20260425T222011
CREATED:20260228T212143Z
LAST-MODIFIED:20260425T083638Z
UID:42568-1801908000-1801918800@gethsemaneumc.org
SUMMARY:Food Pantry
DESCRIPTION:The Food Pantry provides free\, nutritious groceries to individuals and families experiencing food insecurity. The pantry offers fresh produce\, shelf-stable items\, and other essential foods in a welcoming and dignified environment. Services are designed to be accessible and responsive to community needs\, with regular distribution hours and no-cost participation. The pantry also serves as a connection point for additional resources related to food access\, health\, and community support.\nServices are provided in part by funds from the Capital Area Food Bank.\nFor more information email KCoates@Gethsemaneumc.org
URL:https://gethsemaneumc.org/event/food-pantry-355/
LOCATION:Gethsemane United Methodist Church 910 Addison Rd S\, Capitol Heights\, MD\, United States
END:VEVENT
BEGIN:VEVENT
DTSTART;TZID=America/New_York:20270213T100000
DTEND;TZID=America/New_York:20270213T130000
DTSTAMP:20260425T222011
CREATED:20260307T220447Z
LAST-MODIFIED:20260425T083638Z
UID:42615-1802512800-1802523600@gethsemaneumc.org
SUMMARY:Food Pantry
DESCRIPTION:The Food Pantry provides free\, nutritious groceries to individuals and families experiencing food insecurity. The pantry offers fresh produce\, shelf-stable items\, and other essential foods in a welcoming and dignified environment. Services are designed to be accessible and responsive to community needs\, with regular distribution hours and no-cost participation. The pantry also serves as a connection point for additional resources related to food access\, health\, and community support.\nServices are provided in part by funds from the Capital Area Food Bank.\nFor more information email KCoates@Gethsemaneumc.org
URL:https://gethsemaneumc.org/event/food-pantry-356/
LOCATION:Gethsemane United Methodist Church 910 Addison Rd S\, Capitol Heights\, MD\, United States
END:VEVENT
BEGIN:VEVENT
DTSTART;TZID=America/New_York:20270218T190000
DTEND;TZID=America/New_York:20270218T200000
DTSTAMP:20260425T222011
CREATED:20250219T022147Z
LAST-MODIFIED:20260209T215156Z
UID:39976-1802977200-1802980800@gethsemaneumc.org
SUMMARY:Men's Bible Study
DESCRIPTION:Join with Google Meet: https://meet.google.com/ids-cgao-sca\nOr dial: (US) +1 512-520-0559 PIN: 930332197#\nMore phone numbers: https://tel.meet/ids-cgao-sca?pin=6956896719146&hs=7\nLearn more about Meet at: https://support.google.com/a/users/answer/9282720
URL:https://gethsemaneumc.org/event/mens-bible-study-193/
END:VEVENT
BEGIN:VEVENT
DTSTART;TZID=America/New_York:20270220T100000
DTEND;TZID=America/New_York:20270220T130000
DTSTAMP:20260425T222011
CREATED:20260308T224123Z
LAST-MODIFIED:20260425T083638Z
UID:42635-1803117600-1803128400@gethsemaneumc.org
SUMMARY:Food Pantry
DESCRIPTION:The Food Pantry provides free\, nutritious groceries to individuals and families experiencing food insecurity. The pantry offers fresh produce\, shelf-stable items\, and other essential foods in a welcoming and dignified environment. Services are designed to be accessible and responsive to community needs\, with regular distribution hours and no-cost participation. The pantry also serves as a connection point for additional resources related to food access\, health\, and community support.\nServices are provided in part by funds from the Capital Area Food Bank.\nFor more information email KCoates@Gethsemaneumc.org
URL:https://gethsemaneumc.org/event/food-pantry-357/
LOCATION:Gethsemane United Methodist Church 910 Addison Rd S\, Capitol Heights\, MD\, United States
END:VEVENT
BEGIN:VEVENT
DTSTART;TZID=America/New_York:20270227T100000
DTEND;TZID=America/New_York:20270227T130000
DTSTAMP:20260425T222011
CREATED:20260315T013644Z
LAST-MODIFIED:20260425T083638Z
UID:42668-1803722400-1803733200@gethsemaneumc.org
SUMMARY:Food Pantry
DESCRIPTION:The Food Pantry provides free\, nutritious groceries to individuals and families experiencing food insecurity. The pantry offers fresh produce\, shelf-stable items\, and other essential foods in a welcoming and dignified environment. Services are designed to be accessible and responsive to community needs\, with regular distribution hours and no-cost participation. The pantry also serves as a connection point for additional resources related to food access\, health\, and community support.\nServices are provided in part by funds from the Capital Area Food Bank.\nFor more information email KCoates@Gethsemaneumc.org
URL:https://gethsemaneumc.org/event/food-pantry-358/
LOCATION:Gethsemane United Methodist Church 910 Addison Rd S\, Capitol Heights\, MD\, United States
END:VEVENT
BEGIN:VEVENT
DTSTART;TZID=America/New_York:20270306T100000
DTEND;TZID=America/New_York:20270306T130000
DTSTAMP:20260425T222011
CREATED:20260322T015147Z
LAST-MODIFIED:20260425T083638Z
UID:42720-1804327200-1804338000@gethsemaneumc.org
SUMMARY:Food Pantry
DESCRIPTION:The Food Pantry provides free\, nutritious groceries to individuals and families experiencing food insecurity. The pantry offers fresh produce\, shelf-stable items\, and other essential foods in a welcoming and dignified environment. Services are designed to be accessible and responsive to community needs\, with regular distribution hours and no-cost participation. The pantry also serves as a connection point for additional resources related to food access\, health\, and community support.\nServices are provided in part by funds from the Capital Area Food Bank.\nFor more information email KCoates@Gethsemaneumc.org
URL:https://gethsemaneumc.org/event/food-pantry-359/
LOCATION:Gethsemane United Methodist Church 910 Addison Rd S\, Capitol Heights\, MD\, United States
END:VEVENT
BEGIN:VEVENT
DTSTART;TZID=America/New_York:20270313T100000
DTEND;TZID=America/New_York:20270313T130000
DTSTAMP:20260425T222011
CREATED:20260329T065247Z
LAST-MODIFIED:20260425T083638Z
UID:42760-1804932000-1804942800@gethsemaneumc.org
SUMMARY:Food Pantry
DESCRIPTION:The Food Pantry provides free\, nutritious groceries to individuals and families experiencing food insecurity. The pantry offers fresh produce\, shelf-stable items\, and other essential foods in a welcoming and dignified environment. Services are designed to be accessible and responsive to community needs\, with regular distribution hours and no-cost participation. The pantry also serves as a connection point for additional resources related to food access\, health\, and community support.\nServices are provided in part by funds from the Capital Area Food Bank.\nFor more information email KCoates@Gethsemaneumc.org
URL:https://gethsemaneumc.org/event/food-pantry-360/
LOCATION:Gethsemane United Methodist Church 910 Addison Rd S\, Capitol Heights\, MD\, United States
END:VEVENT
BEGIN:VEVENT
DTSTART;TZID=America/New_York:20270318T190000
DTEND;TZID=America/New_York:20270318T200000
DTSTAMP:20260425T222011
CREATED:20250318T035157Z
LAST-MODIFIED:20260209T215156Z
UID:40146-1805396400-1805400000@gethsemaneumc.org
SUMMARY:Men's Bible Study
DESCRIPTION:Join with Google Meet: https://meet.google.com/ids-cgao-sca\nOr dial: (US) +1 512-520-0559 PIN: 930332197#\nMore phone numbers: https://tel.meet/ids-cgao-sca?pin=6956896719146&hs=7\nLearn more about Meet at: https://support.google.com/a/users/answer/9282720
URL:https://gethsemaneumc.org/event/mens-bible-study-195/
END:VEVENT
BEGIN:VEVENT
DTSTART;TZID=America/New_York:20270320T100000
DTEND;TZID=America/New_York:20270320T130000
DTSTAMP:20260425T222011
CREATED:20260405T073644Z
LAST-MODIFIED:20260425T083638Z
UID:42800-1805536800-1805547600@gethsemaneumc.org
SUMMARY:Food Pantry
DESCRIPTION:The Food Pantry provides free\, nutritious groceries to individuals and families experiencing food insecurity. The pantry offers fresh produce\, shelf-stable items\, and other essential foods in a welcoming and dignified environment. Services are designed to be accessible and responsive to community needs\, with regular distribution hours and no-cost participation. The pantry also serves as a connection point for additional resources related to food access\, health\, and community support.\nServices are provided in part by funds from the Capital Area Food Bank.\nFor more information email KCoates@Gethsemaneumc.org
URL:https://gethsemaneumc.org/event/food-pantry-361/
LOCATION:Gethsemane United Methodist Church 910 Addison Rd S\, Capitol Heights\, MD\, United States
END:VEVENT
BEGIN:VEVENT
DTSTART;TZID=America/New_York:20270327T100000
DTEND;TZID=America/New_York:20270327T130000
DTSTAMP:20260425T222011
CREATED:20260419T083811Z
LAST-MODIFIED:20260425T083638Z
UID:42894-1806141600-1806152400@gethsemaneumc.org
SUMMARY:Food Pantry
DESCRIPTION:The Food Pantry provides free\, nutritious groceries to individuals and families experiencing food insecurity. The pantry offers fresh produce\, shelf-stable items\, and other essential foods in a welcoming and dignified environment. Services are designed to be accessible and responsive to community needs\, with regular distribution hours and no-cost participation. The pantry also serves as a connection point for additional resources related to food access\, health\, and community support.\nServices are provided in part by funds from the Capital Area Food Bank.\nFor more information email KCoates@Gethsemaneumc.org
URL:https://gethsemaneumc.org/event/food-pantry-362/
LOCATION:Gethsemane United Methodist Church 910 Addison Rd S\, Capitol Heights\, MD\, United States
END:VEVENT
BEGIN:VEVENT
DTSTART;TZID=America/New_York:20270415T190000
DTEND;TZID=America/New_York:20270415T200000
DTSTAMP:20260425T222011
CREATED:20250415T050657Z
LAST-MODIFIED:20260209T215156Z
UID:40317-1807815600-1807819200@gethsemaneumc.org
SUMMARY:Men's Bible Study
DESCRIPTION:Join with Google Meet: https://meet.google.com/ids-cgao-sca\nOr dial: (US) +1 512-520-0559 PIN: 930332197#\nMore phone numbers: https://tel.meet/ids-cgao-sca?pin=6956896719146&hs=7\nLearn more about Meet at: https://support.google.com/a/users/answer/9282720
URL:https://gethsemaneumc.org/event/mens-bible-study-198/
END:VEVENT
BEGIN:VEVENT
DTSTART;TZID=America/New_York:20270520T190000
DTEND;TZID=America/New_York:20270520T200000
DTSTAMP:20260425T222011
CREATED:20250528T071655Z
LAST-MODIFIED:20260209T215156Z
UID:40510-1810839600-1810843200@gethsemaneumc.org
SUMMARY:Men's Bible Study
DESCRIPTION:Join with Google Meet: https://meet.google.com/ids-cgao-sca\nOr dial: (US) +1 512-520-0559 PIN: 930332197#\nMore phone numbers: https://tel.meet/ids-cgao-sca?pin=6956896719146&hs=7\nLearn more about Meet at: https://support.google.com/a/users/answer/9282720
URL:https://gethsemaneumc.org/event/mens-bible-study-200/
END:VEVENT
BEGIN:VEVENT
DTSTART;TZID=America/New_York:20270617T190000
DTEND;TZID=America/New_York:20270617T200000
DTSTAMP:20260425T222011
CREATED:20250617T092140Z
LAST-MODIFIED:20260209T215156Z
UID:40709-1813258800-1813262400@gethsemaneumc.org
SUMMARY:Men's Bible Study
DESCRIPTION:Join with Google Meet: https://meet.google.com/ids-cgao-sca\nOr dial: (US) +1 512-520-0559 PIN: 930332197#\nMore phone numbers: https://tel.meet/ids-cgao-sca?pin=6956896719146&hs=7\nLearn more about Meet at: https://support.google.com/a/users/answer/9282720
URL:https://gethsemaneumc.org/event/mens-bible-study-204/
END:VEVENT
BEGIN:VEVENT
DTSTART;TZID=America/New_York:20270715T190000
DTEND;TZID=America/New_York:20270715T200000
DTSTAMP:20260425T222011
CREATED:20250715T103645Z
LAST-MODIFIED:20260209T215157Z
UID:40861-1815678000-1815681600@gethsemaneumc.org
SUMMARY:Men's Bible Study
DESCRIPTION:Join with Google Meet: https://meet.google.com/ids-cgao-sca\nOr dial: (US) +1 512-520-0559 PIN: 930332197#\nMore phone numbers: https://tel.meet/ids-cgao-sca?pin=6956896719146&hs=7\nLearn more about Meet at: https://support.google.com/a/users/answer/9282720
URL:https://gethsemaneumc.org/event/mens-bible-study-206/
END:VEVENT
BEGIN:VEVENT
DTSTART;TZID=America/New_York:20270819T190000
DTEND;TZID=America/New_York:20270819T200000
DTSTAMP:20260425T222011
CREATED:20250819T130648Z
LAST-MODIFIED:20260209T215157Z
UID:41063-1818702000-1818705600@gethsemaneumc.org
SUMMARY:Men's Bible Study
DESCRIPTION:Join with Google Meet: https://meet.google.com/ids-cgao-sca\nOr dial: (US) +1 512-520-0559 PIN: 930332197#\nMore phone numbers: https://tel.meet/ids-cgao-sca?pin=6956896719146&hs=7\nLearn more about Meet at: https://support.google.com/a/users/answer/9282720
URL:https://gethsemaneumc.org/event/mens-bible-study-209/
END:VEVENT
BEGIN:VEVENT
DTSTART;TZID=America/New_York:20270916T190000
DTEND;TZID=America/New_York:20270916T200000
DTSTAMP:20260425T222011
CREATED:20250916T125153Z
LAST-MODIFIED:20260209T215157Z
UID:41225-1821121200-1821124800@gethsemaneumc.org
SUMMARY:Men's Bible Study
DESCRIPTION:Join with Google Meet: https://meet.google.com/ids-cgao-sca\nOr dial: (US) +1 512-520-0559 PIN: 930332197#\nMore phone numbers: https://tel.meet/ids-cgao-sca?pin=6956896719146&hs=7\nLearn more about Meet at: https://support.google.com/a/users/answer/9282720
URL:https://gethsemaneumc.org/event/mens-bible-study-212/
END:VEVENT
BEGIN:VEVENT
DTSTART;TZID=America/New_York:20271021T190000
DTEND;TZID=America/New_York:20271021T200000
DTSTAMP:20260425T222011
CREATED:20251021T143654Z
LAST-MODIFIED:20260209T215157Z
UID:41481-1824145200-1824148800@gethsemaneumc.org
SUMMARY:Men's Bible Study
DESCRIPTION:Join with Google Meet: https://meet.google.com/ids-cgao-sca\nOr dial: (US) +1 512-520-0559 PIN: 930332197#\nMore phone numbers: https://tel.meet/ids-cgao-sca?pin=6956896719146&hs=7\nLearn more about Meet at: https://support.google.com/a/users/answer/9282720
URL:https://gethsemaneumc.org/event/mens-bible-study-216/
END:VEVENT
BEGIN:VEVENT
DTSTART;TZID=America/New_York:20271118T190000
DTEND;TZID=America/New_York:20271118T200000
DTSTAMP:20260425T222011
CREATED:20251119T173646Z
LAST-MODIFIED:20260209T215157Z
UID:41691-1826564400-1826568000@gethsemaneumc.org
SUMMARY:Men's Bible Study
DESCRIPTION:Join with Google Meet: https://meet.google.com/ids-cgao-sca\nOr dial: (US) +1 512-520-0559 PIN: 930332197#\nMore phone numbers: https://tel.meet/ids-cgao-sca?pin=6956896719146&hs=7\nLearn more about Meet at: https://support.google.com/a/users/answer/9282720
URL:https://gethsemaneumc.org/event/mens-bible-study-219/
END:VEVENT
BEGIN:VEVENT
DTSTART;TZID=America/New_York:20271216T190000
DTEND;TZID=America/New_York:20271216T200000
DTSTAMP:20260425T222011
CREATED:20251218T182410Z
LAST-MODIFIED:20260209T215157Z
UID:41923-1828983600-1828987200@gethsemaneumc.org
SUMMARY:Men's Bible Study
DESCRIPTION:Join with Google Meet: https://meet.google.com/ids-cgao-sca\nOr dial: (US) +1 512-520-0559 PIN: 930332197#\nMore phone numbers: https://tel.meet/ids-cgao-sca?pin=6956896719146&hs=7\nLearn more about Meet at: https://support.google.com/a/users/answer/9282720
URL:https://gethsemaneumc.org/event/mens-bible-study-223/
END:VEVENT
BEGIN:VEVENT
DTSTART;TZID=America/New_York:20280120T190000
DTEND;TZID=America/New_York:20280120T200000
DTSTAMP:20260425T222011
CREATED:20260121T203822Z
LAST-MODIFIED:20260209T215157Z
UID:42153-1832007600-1832011200@gethsemaneumc.org
SUMMARY:Men's Bible Study
DESCRIPTION:Join with Google Meet: https://meet.google.com/ids-cgao-sca\nOr dial: (US) +1 512-520-0559 PIN: 930332197#\nMore phone numbers: https://tel.meet/ids-cgao-sca?pin=6956896719146&hs=7\nLearn more about Meet at: https://support.google.com/a/users/answer/9282720
URL:https://gethsemaneumc.org/event/mens-bible-study-226/
END:VEVENT
END:VCALENDAR