BEGIN:VCALENDAR
VERSION:2.0
PRODID:-//Gethsemane United Methodist Church - ECPv6.15.12.2//NONSGML v1.0//EN
CALSCALE:GREGORIAN
METHOD:PUBLISH
X-WR-CALNAME:Gethsemane United Methodist Church
X-ORIGINAL-URL:https://gethsemaneumc.org
X-WR-CALDESC:Events for Gethsemane United Methodist Church
REFRESH-INTERVAL;VALUE=DURATION:PT1H
X-Robots-Tag:noindex
X-PUBLISHED-TTL:PT1H
BEGIN:VTIMEZONE
TZID:America/New_York
BEGIN:DAYLIGHT
TZOFFSETFROM:-0500
TZOFFSETTO:-0400
TZNAME:EDT
DTSTART:20240310T070000
END:DAYLIGHT
BEGIN:STANDARD
TZOFFSETFROM:-0400
TZOFFSETTO:-0500
TZNAME:EST
DTSTART:20241103T060000
END:STANDARD
BEGIN:DAYLIGHT
TZOFFSETFROM:-0500
TZOFFSETTO:-0400
TZNAME:EDT
DTSTART:20250309T070000
END:DAYLIGHT
BEGIN:STANDARD
TZOFFSETFROM:-0400
TZOFFSETTO:-0500
TZNAME:EST
DTSTART:20251102T060000
END:STANDARD
BEGIN:DAYLIGHT
TZOFFSETFROM:-0500
TZOFFSETTO:-0400
TZNAME:EDT
DTSTART:20260308T070000
END:DAYLIGHT
BEGIN:STANDARD
TZOFFSETFROM:-0400
TZOFFSETTO:-0500
TZNAME:EST
DTSTART:20261101T060000
END:STANDARD
END:VTIMEZONE
BEGIN:VEVENT
DTSTART;TZID=America/New_York:20251201T180000
DTEND;TZID=America/New_York:20251201T193000
DTSTAMP:20260425T123408
CREATED:20250908T113719Z
LAST-MODIFIED:20251201T155141Z
UID:41171-1764612000-1764617400@gethsemaneumc.org
SUMMARY:CHRISTIAN EDUCATION MTG.
DESCRIPTION:
URL:https://gethsemaneumc.org/event/christian-education-mtg-8/
END:VEVENT
BEGIN:VEVENT
DTSTART;TZID=America/New_York:20251202T180000
DTEND;TZID=America/New_York:20251202T210000
DTSTAMP:20260425T123408
CREATED:20250908T113719Z
LAST-MODIFIED:20251202T155211Z
UID:41173-1764698400-1764709200@gethsemaneumc.org
SUMMARY:Board of Trustee - Holiday Gathering
DESCRIPTION:
URL:https://gethsemaneumc.org/event/board-of-trustee-holiday-gathering/
LOCATION:TBD
END:VEVENT
BEGIN:VEVENT
DTSTART;TZID=America/New_York:20251204T190000
DTEND;TZID=America/New_York:20251204T200000
DTSTAMP:20260425T123408
CREATED:20250909T115156Z
LAST-MODIFIED:20251204T160859Z
UID:41183-1764874800-1764878400@gethsemaneumc.org
SUMMARY:Men's Bible Study
DESCRIPTION:Join with Google Meet: https://meet.google.com/bmk-kydf-pny\nOr dial: (US) +1 724-370-0553 PIN: 326785976#\nMore phone numbers: https://tel.meet/bmk-kydf-pny?pin=5864913000926&hs=7\nLearn more about Meet at: https://support.google.com/a/users/answer/9282720
URL:https://gethsemaneumc.org/event/mens-bible-study-211/
ORGANIZER;CN="gmen@gethsemaneumc.org":MAILTO:gmen@gethsemaneumc.org
END:VEVENT
BEGIN:VEVENT
DTSTART;TZID=America/New_York:20251204T193000
DTEND;TZID=America/New_York:20251204T203000
DTSTAMP:20260425T123408
CREATED:20250909T115156Z
LAST-MODIFIED:20251204T160859Z
UID:41182-1764876600-1764880200@gethsemaneumc.org
SUMMARY:Pre-Sunday Coordination Meeting
DESCRIPTION:30 minute Conference Call/video to review a rundown of this Sunday’s upcoming worship service \nJoin Hangouts Meetmeet.google.com/ozt-xtpx-ozr \nMeeting IDmeet.google.com/ozt-xtpx-ozr \nPhone Numbers‎(‪US‬)‪+1 224-999-1751‬ \nEvent will include a link to view full list of phone numbers for all supported countries.PIN: ‪432 230 524#‬This phone number has been selected based on the conference creator’s Country setting. Learn more \nAccess Worship Files Here – https://drive.google.com/drive/u/2/folders/0AI4GQDIZbEt0Uk9PVA\nJoin with Google Meet: https://meet.google.com/ozt-xtpx-ozr\nOr dial: (US) +1 224-999-1751 PIN: 432230524#\nLearn more about Meet at: https://support.google.com/a/users/answer/9282720
URL:https://gethsemaneumc.org/event/pre-sunday-coordination-meeting-160/
ORGANIZER;CN="rparquet@gethsemaneumc.org":MAILTO:rparquet@gethsemaneumc.org
END:VEVENT
BEGIN:VEVENT
DTSTART;TZID=America/New_York:20251207T100000
DTEND;TZID=America/New_York:20251207T120000
DTSTAMP:20260425T123408
CREATED:20231207T074932Z
LAST-MODIFIED:20240219T110436Z
UID:28714-1765101600-1765108800@gethsemaneumc.org
SUMMARY:Sunday Worship Service
DESCRIPTION:Join with Google Meet: https://meet.google.com/kgx-ydwy-nnw\nOr dial: (US) +1 650-667-3903 PIN: 458295612#\nMore phone numbers: https://tel.meet/kgx-ydwy-nnw?pin=8959722004571&hs=7\nLearn more about Meet at: https://support.google.com/a/users/answer/9282720
URL:https://gethsemaneumc.org/event/sunday-worship-service-148/
LOCATION:Gethsemane United Methodist Church-1-Sanctuary (500)
END:VEVENT
BEGIN:VEVENT
DTSTART;TZID=America/New_York:20251207T114000
DTEND;TZID=America/New_York:20251207T120000
DTSTAMP:20260425T123408
CREATED:20231207T074932Z
LAST-MODIFIED:20240219T110436Z
UID:28713-1765107600-1765108800@gethsemaneumc.org
SUMMARY:Holy Communion
DESCRIPTION:
URL:https://gethsemaneumc.org/event/holy-communion-62/
END:VEVENT
BEGIN:VEVENT
DTSTART;TZID=America/New_York:20251207T120000
DTEND;TZID=America/New_York:20251207T133000
DTSTAMP:20260425T123408
CREATED:20231207T044930Z
LAST-MODIFIED:20251207T162138Z
UID:28710-1765108800-1765114200@gethsemaneumc.org
SUMMARY:Children Choir
DESCRIPTION:
URL:https://gethsemaneumc.org/event/children-choir-68/
END:VEVENT
BEGIN:VEVENT
DTSTART;TZID=America/New_York:20251208T190000
DTEND;TZID=America/New_York:20251208T210000
DTSTAMP:20260425T123408
CREATED:20251208T162306Z
LAST-MODIFIED:20251208T162306Z
UID:41852-1765220400-1765227600@gethsemaneumc.org
SUMMARY:SOL REHEARSAL
DESCRIPTION:Join with Google Meet: https://meet.google.com/grn-iopx-ija\nOr dial: (US) +1 515-518-4244 PIN: 336863275#\nMore phone numbers: https://tel.meet/grn-iopx-ija?pin=7053623461850&hs=7\nLearn more about Meet at: https://support.google.com/a/users/answer/9282720
URL:https://gethsemaneumc.org/event/sol-rehearsal-6/
LOCATION:Gethsemane United Methodist Church-1-Sanctuary (500)
END:VEVENT
BEGIN:VEVENT
DTSTART;TZID=America/New_York:20251209T190000
DTEND;TZID=America/New_York:20251209T200000
DTSTAMP:20260425T123408
CREATED:20251208T162306Z
LAST-MODIFIED:20251209T162233Z
UID:41853-1765306800-1765310400@gethsemaneumc.org
SUMMARY:REHEARSAl
DESCRIPTION:
URL:https://gethsemaneumc.org/event/rehearsal/
END:VEVENT
BEGIN:VEVENT
DTSTART;TZID=America/New_York:20251209T190000
DTEND;TZID=America/New_York:20251209T203000
DTSTAMP:20260425T123408
CREATED:20251209T162233Z
LAST-MODIFIED:20251209T162233Z
UID:41859-1765306800-1765312200@gethsemaneumc.org
SUMMARY:BOARD OF TRUSTEE MEETING
DESCRIPTION:Good evening Trustees\, \nAhead of our upcoming meeting on Tuesday\, December 9th at 7:00pm\, please find a concise overview of the agenda and major items for discussion.  \nMEETING INFORMATIONhttps://us06web.zoom.us/j/3013361219?omn=85302816485Meeting ID: 301 336 1219 \nWe will begin with opening prayer\, roll call\, and approval of minutes\, followed by the October finance report. Executive updates will cover several ongoing projects\, including installation of the outdoor community refrigerator\, the green roof structural load analysis and funding needs\, the status of the church sign\, progress on the Gethsemane Housing Project\, the new Community Resilience Hub grant application\, and updates from the Sacred Grounds program. We will also review the delayed timeline for the Electrical and HVAC Improvements Project and discuss anticipated 12–18 week building closures that may impact ministries and access. \nKey discussion topics include: \n\nTree Planting Initiative – confirming tree adopters and planning a memorial celebration.\nGeotechnical Engineering Proposals – reviewing two bids ($25–30K) and determining whether to authorize firm selection so campus redevelopment planning can advance.\nSecurity Team Updates – finalizing safety workshop schedules\, reviewing updated room numbering\, and confirming communication plans.\nConcrete Repair Needs – addressing immediate safety concerns at entrances and walkways and approving an estimated $4\,000 in repairs.\nBuilding Use Requests – reviewing two external proposals:\n\nGalilee CDC’s request to relocate its food pantry and administrative offices to Gethsemane.\nOne Love Life Center’s request to host weekly youth sessions and therapeutic support on-site. The Board will assess feasibility\, scheduling\, and alignment with ongoing renovation projects before deciding whether to explore one or both partnerships further.\n\n\n\nWe will close with pastoral remarks and next steps. Relevant documents are hyperlinked in the agenda for your review prior to the meeting.Agenda – https://docs.google.com/document/d/1lpIcJhMnV55xDdjUpnGtEez1Reol04GF5mcTC_L61GE/edit?tab=t.0 \nPlease let me know if any additional information is needed. \nWarmly
URL:https://gethsemaneumc.org/event/board-of-trustee-meeting/
LOCATION:https://us06web.zoom.us/j/3013361219?omn=85302816485
END:VEVENT
BEGIN:VEVENT
DTSTART;TZID=America/New_York:20251209T190000
DTEND;TZID=America/New_York:20251209T210000
DTSTAMP:20260425T123408
CREATED:20250912T115148Z
LAST-MODIFIED:20251209T162233Z
UID:41199-1765306800-1765314000@gethsemaneumc.org
SUMMARY:Finance Meeting
DESCRIPTION:
URL:https://gethsemaneumc.org/event/finance-meeting-34/
LOCATION:GUMC – Penrod Chapel
END:VEVENT
BEGIN:VEVENT
DTSTART;TZID=America/New_York:20251211T193000
DTEND;TZID=America/New_York:20251211T203000
DTSTAMP:20260425T123408
CREATED:20250914T120747Z
LAST-MODIFIED:20251211T162147Z
UID:41213-1765481400-1765485000@gethsemaneumc.org
SUMMARY:Pre-Sunday Coordination Meeting
DESCRIPTION:30 minute Conference Call/video to review a rundown of this Sunday’s upcoming worship service \nJoin Hangouts Meetmeet.google.com/ozt-xtpx-ozr \nMeeting IDmeet.google.com/ozt-xtpx-ozr \nPhone Numbers‎(‪US‬)‪+1 224-999-1751‬ \nEvent will include a link to view full list of phone numbers for all supported countries.PIN: ‪432 230 524#‬This phone number has been selected based on the conference creator’s Country setting. Learn more \nAccess Worship Files Here – https://drive.google.com/drive/u/2/folders/0AI4GQDIZbEt0Uk9PVA\nJoin with Google Meet: https://meet.google.com/ozt-xtpx-ozr\nOr dial: (US) +1 224-999-1751 PIN: 432230524#\nLearn more about Meet at: https://support.google.com/a/users/answer/9282720
URL:https://gethsemaneumc.org/event/pre-sunday-coordination-meeting-161/
ORGANIZER;CN="rparquet@gethsemaneumc.org":MAILTO:rparquet@gethsemaneumc.org
END:VEVENT
BEGIN:VEVENT
DTSTART;TZID=America/New_York:20251213T100000
DTEND;TZID=America/New_York:20251213T120000
DTSTAMP:20260425T123408
CREATED:20250916T122206Z
LAST-MODIFIED:20251213T162203Z
UID:41223-1765620000-1765627200@gethsemaneumc.org
SUMMARY:SPRC MEETING
DESCRIPTION:
URL:https://gethsemaneumc.org/event/sprc-meeting-7/
END:VEVENT
BEGIN:VEVENT
DTSTART;TZID=America/New_York:20251214T100000
DTEND;TZID=America/New_York:20251214T120000
DTSTAMP:20260425T123408
CREATED:20231214T080436Z
LAST-MODIFIED:20240219T110436Z
UID:28755-1765706400-1765713600@gethsemaneumc.org
SUMMARY:Sunday Worship Service
DESCRIPTION:Join with Google Meet: https://meet.google.com/kgx-ydwy-nnw\nOr dial: (US) +1 650-667-3903 PIN: 458295612#\nMore phone numbers: https://tel.meet/kgx-ydwy-nnw?pin=8959722004571&hs=7\nLearn more about Meet at: https://support.google.com/a/users/answer/9282720
URL:https://gethsemaneumc.org/event/sunday-worship-service-149/
LOCATION:Gethsemane United Methodist Church-1-Sanctuary (500)
END:VEVENT
BEGIN:VEVENT
DTSTART;TZID=America/New_York:20251216T190000
DTEND;TZID=America/New_York:20251216T200000
DTSTAMP:20260425T123408
CREATED:20251209T162234Z
LAST-MODIFIED:20251216T163649Z
UID:41861-1765911600-1765915200@gethsemaneumc.org
SUMMARY:REHEARSAL
DESCRIPTION:Join with Google Meet: https://meet.google.com/znq-zykz-zwe\nOr dial: (US) +1 713-489-4461 PIN: 485624187#\nMore phone numbers: https://tel.meet/znq-zykz-zwe?pin=8881440928485&hs=7\nLearn more about Meet at: https://support.google.com/a/users/answer/9282720
URL:https://gethsemaneumc.org/event/rehearsal-2/
LOCATION:Gethsemane United Methodist Church-1-Sanctuary (500)
END:VEVENT
BEGIN:VEVENT
DTSTART;TZID=America/New_York:20251216T190000
DTEND;TZID=America/New_York:20251216T210000
DTSTAMP:20260425T123408
CREATED:20250917T122207Z
LAST-MODIFIED:20251216T163649Z
UID:41235-1765911600-1765918800@gethsemaneumc.org
SUMMARY:Church Council Meeting
DESCRIPTION:
URL:https://gethsemaneumc.org/event/church-council-meeting-35/
LOCATION:GUMC – Fellowship Hall
END:VEVENT
BEGIN:VEVENT
DTSTART;TZID=America/New_York:20251218T190000
DTEND;TZID=America/New_York:20251218T200000
DTSTAMP:20260425T123408
CREATED:20231219T050416Z
LAST-MODIFIED:20251218T182408Z
UID:28779-1766084400-1766088000@gethsemaneumc.org
SUMMARY:Men's Bible Study
DESCRIPTION:Join with Google Meet: https://meet.google.com/ids-cgao-sca\nOr dial: (US) +1 512-520-0559 PIN: 930332197#\nMore phone numbers: https://tel.meet/ids-cgao-sca?pin=6956896719146&hs=7\nLearn more about Meet at: https://support.google.com/a/users/answer/9282720
URL:https://gethsemaneumc.org/event/mens-bible-study-169/
END:VEVENT
BEGIN:VEVENT
DTSTART;TZID=America/New_York:20251218T190000
DTEND;TZID=America/New_York:20251218T200000
DTSTAMP:20260425T123408
CREATED:20250919T123732Z
LAST-MODIFIED:20251218T182443Z
UID:41246-1766084400-1766088000@gethsemaneumc.org
SUMMARY:Men's Bible Study
DESCRIPTION:Join with Google Meet: https://meet.google.com/ids-cgao-sca\nOr dial: (US) +1 512-520-0559 PIN: 930332197#\nMore phone numbers: https://tel.meet/ids-cgao-sca?pin=6956896719146&hs=7\nLearn more about Meet at: https://support.google.com/a/users/answer/9282720
URL:https://gethsemaneumc.org/event/mens-bible-study-213/
ORGANIZER;CN="gmen@gethsemaneumc.org":MAILTO:gmen@gethsemaneumc.org
END:VEVENT
BEGIN:VEVENT
DTSTART;TZID=America/New_York:20251218T193000
DTEND;TZID=America/New_York:20251218T203000
DTSTAMP:20260425T123408
CREATED:20250919T123732Z
LAST-MODIFIED:20251218T182443Z
UID:41247-1766086200-1766089800@gethsemaneumc.org
SUMMARY:Pre-Sunday Coordination Meeting
DESCRIPTION:30 minute Conference Call/video to review a rundown of this Sunday’s upcoming worship service \nJoin Hangouts Meetmeet.google.com/ozt-xtpx-ozr \nMeeting IDmeet.google.com/ozt-xtpx-ozr \nPhone Numbers‎(‪US‬)‪+1 224-999-1751‬ \nEvent will include a link to view full list of phone numbers for all supported countries.PIN: ‪432 230 524#‬This phone number has been selected based on the conference creator’s Country setting. Learn more \nAccess Worship Files Here – https://drive.google.com/drive/u/2/folders/0AI4GQDIZbEt0Uk9PVA\nJoin with Google Meet: https://meet.google.com/ozt-xtpx-ozr\nOr dial: (US) +1 224-999-1751 PIN: 432230524#\nLearn more about Meet at: https://support.google.com/a/users/answer/9282720
URL:https://gethsemaneumc.org/event/pre-sunday-coordination-meeting-162/
ORGANIZER;CN="rparquet@gethsemaneumc.org":MAILTO:rparquet@gethsemaneumc.org
END:VEVENT
BEGIN:VEVENT
DTSTART;TZID=America/New_York:20251220T100000
DTEND;TZID=America/New_York:20251220T120000
DTSTAMP:20260425T123408
CREATED:20250921T123656Z
LAST-MODIFIED:20251219T182214Z
UID:41264-1766224800-1766232000@gethsemaneumc.org
SUMMARY:UNITED WOMEN OF FAITH
DESCRIPTION:
URL:https://gethsemaneumc.org/event/united-women-of-faith-34/
END:VEVENT
BEGIN:VEVENT
DTSTART;TZID=America/New_York:20251220T100000
DTEND;TZID=America/New_York:20251220T120000
DTSTAMP:20260425T123408
CREATED:20250921T123656Z
LAST-MODIFIED:20251219T182215Z
UID:41265-1766224800-1766232000@gethsemaneumc.org
SUMMARY:United Methodist Women Meeting/ZOOM
DESCRIPTION:
URL:https://gethsemaneumc.org/event/united-methodist-women-meeting-zoom-24/
LOCATION:GUMC – Fellowship Hall
END:VEVENT
BEGIN:VEVENT
DTSTART;TZID=America/New_York:20251221T100000
DTEND;TZID=America/New_York:20251221T120000
DTSTAMP:20260425T123408
CREATED:20231221T081934Z
LAST-MODIFIED:20240219T110436Z
UID:28818-1766311200-1766318400@gethsemaneumc.org
SUMMARY:Sunday Worship Service
DESCRIPTION:Join with Google Meet: https://meet.google.com/kgx-ydwy-nnw\nOr dial: (US) +1 650-667-3903 PIN: 458295612#\nMore phone numbers: https://tel.meet/kgx-ydwy-nnw?pin=8959722004571&hs=7\nLearn more about Meet at: https://support.google.com/a/users/answer/9282720
URL:https://gethsemaneumc.org/event/sunday-worship-service-150/
LOCATION:Gethsemane United Methodist Church-1-Sanctuary (500)
END:VEVENT
BEGIN:VEVENT
DTSTART;TZID=America/New_York:20251221T120000
DTEND;TZID=America/New_York:20251221T133000
DTSTAMP:20260425T123408
CREATED:20231221T051920Z
LAST-MODIFIED:20251220T183642Z
UID:28815-1766318400-1766323800@gethsemaneumc.org
SUMMARY:Children Choir
DESCRIPTION:
URL:https://gethsemaneumc.org/event/children-choir-69/
END:VEVENT
BEGIN:VEVENT
DTSTART;TZID=America/New_York:20251225T193000
DTEND;TZID=America/New_York:20251225T203000
DTSTAMP:20260425T123408
CREATED:20250923T123754Z
LAST-MODIFIED:20251225T192144Z
UID:41299-1766691000-1766694600@gethsemaneumc.org
SUMMARY:Pre-Sunday Coordination Meeting
DESCRIPTION:30 minute Conference Call/video to review a rundown of this Sunday’s upcoming worship service \nJoin Hangouts Meetmeet.google.com/ozt-xtpx-ozr \nMeeting IDmeet.google.com/ozt-xtpx-ozr \nPhone Numbers‎(‪US‬)‪+1 224-999-1751‬ \nEvent will include a link to view full list of phone numbers for all supported countries.PIN: ‪432 230 524#‬This phone number has been selected based on the conference creator’s Country setting. Learn more \nAccess Worship Files Here – https://drive.google.com/drive/u/2/folders/0AI4GQDIZbEt0Uk9PVA\nJoin with Google Meet: https://meet.google.com/ozt-xtpx-ozr\nOr dial: (US) +1 224-999-1751 PIN: 432230524#\nLearn more about Meet at: https://support.google.com/a/users/answer/9282720
URL:https://gethsemaneumc.org/event/pre-sunday-coordination-meeting-163/
ORGANIZER;CN="rparquet@gethsemaneumc.org":MAILTO:rparquet@gethsemaneumc.org
END:VEVENT
BEGIN:VEVENT
DTSTART;TZID=America/New_York:20251227T090000
DTEND;TZID=America/New_York:20251227T110000
DTSTAMP:20260425T123408
CREATED:20250927T125753Z
LAST-MODIFIED:20251226T193705Z
UID:41321-1766826000-1766833200@gethsemaneumc.org
SUMMARY:G-MEN Meeting
DESCRIPTION:The United Methodist Men is a fellowship of men who meet regularly to provide support for each other and the church in doing God’s will in the life of the Church.  We seek knowledge and discernment for being men who serve the Lord.
URL:https://gethsemaneumc.org/event/g-men-meeting-38/
LOCATION:Gethsemane United Methodist Church\, 910 Addison Rd S\, Capitol Heights\, MD\, United States
END:VEVENT
BEGIN:VEVENT
DTSTART;TZID=America/New_York:20251228T100000
DTEND;TZID=America/New_York:20251228T120000
DTSTAMP:20260425T123408
CREATED:20231228T083452Z
LAST-MODIFIED:20240219T110437Z
UID:28877-1766916000-1766923200@gethsemaneumc.org
SUMMARY:Sunday Worship Service
DESCRIPTION:Join with Google Meet: https://meet.google.com/kgx-ydwy-nnw\nOr dial: (US) +1 650-667-3903 PIN: 458295612#\nMore phone numbers: https://tel.meet/kgx-ydwy-nnw?pin=8959722004571&hs=7\nLearn more about Meet at: https://support.google.com/a/users/answer/9282720
URL:https://gethsemaneumc.org/event/sunday-worship-service-151/
LOCATION:Gethsemane United Methodist Church-1-Sanctuary (500)
END:VEVENT
END:VCALENDAR