BEGIN:VCALENDAR
VERSION:2.0
PRODID:-//Gethsemane United Methodist Church - ECPv6.15.12.2//NONSGML v1.0//EN
CALSCALE:GREGORIAN
METHOD:PUBLISH
X-WR-CALNAME:Gethsemane United Methodist Church
X-ORIGINAL-URL:https://gethsemaneumc.org
X-WR-CALDESC:Events for Gethsemane United Methodist Church
REFRESH-INTERVAL;VALUE=DURATION:PT1H
X-Robots-Tag:noindex
X-PUBLISHED-TTL:PT1H
BEGIN:VTIMEZONE
TZID:America/New_York
BEGIN:DAYLIGHT
TZOFFSETFROM:-0500
TZOFFSETTO:-0400
TZNAME:EDT
DTSTART:20250309T070000
END:DAYLIGHT
BEGIN:STANDARD
TZOFFSETFROM:-0400
TZOFFSETTO:-0500
TZNAME:EST
DTSTART:20251102T060000
END:STANDARD
BEGIN:DAYLIGHT
TZOFFSETFROM:-0500
TZOFFSETTO:-0400
TZNAME:EDT
DTSTART:20260308T070000
END:DAYLIGHT
BEGIN:STANDARD
TZOFFSETFROM:-0400
TZOFFSETTO:-0500
TZNAME:EST
DTSTART:20261101T060000
END:STANDARD
BEGIN:DAYLIGHT
TZOFFSETFROM:-0500
TZOFFSETTO:-0400
TZNAME:EDT
DTSTART:20270314T070000
END:DAYLIGHT
BEGIN:STANDARD
TZOFFSETFROM:-0400
TZOFFSETTO:-0500
TZNAME:EST
DTSTART:20271107T060000
END:STANDARD
END:VTIMEZONE
BEGIN:VEVENT
DTSTART;TZID=America/New_York:20260905T100000
DTEND;TZID=America/New_York:20260905T130000
DTSTAMP:20260425T123407
CREATED:20260210T205153Z
LAST-MODIFIED:20260425T083636Z
UID:42291-1788602400-1788613200@gethsemaneumc.org
SUMMARY:Food Pantry
DESCRIPTION:The Food Pantry provides free\, nutritious groceries to individuals and families experiencing food insecurity. The pantry offers fresh produce\, shelf-stable items\, and other essential foods in a welcoming and dignified environment. Services are designed to be accessible and responsive to community needs\, with regular distribution hours and no-cost participation. The pantry also serves as a connection point for additional resources related to food access\, health\, and community support.\nServices are provided in part by funds from the Capital Area Food Bank.\nFor more information email KCoates@Gethsemaneumc.org
URL:https://gethsemaneumc.org/event/food-pantry-333/
LOCATION:Gethsemane United Methodist Church 910 Addison Rd S\, Capitol Heights\, MD\, United States
END:VEVENT
BEGIN:VEVENT
DTSTART;TZID=America/New_York:20260905T100000
DTEND;TZID=America/New_York:20260905T130000
DTSTAMP:20260425T123407
CREATED:20260210T215344Z
LAST-MODIFIED:20260425T073636Z
UID:42404-1788602400-1788613200@gethsemaneumc.org
SUMMARY:One Love Life Center Workshops
DESCRIPTION:One Love Life Center is a community-rooted organization committed to holistic personal development for young people and emerging adults. Our work focuses on supporting individuals along a path toward greater mental\, emotional\, and spiritual health\, while helping them identify their value\, strengthen life skills\, and build sustainable pathways toward purpose\, wellness\, and civic engagement. OLLC exists to walk alongside individuals—not simply to offer programs\, but to foster long-term growth\, accountability\, and community impact.\nFor more information email raimon@\n-onelovelifecenter.org
URL:https://gethsemaneumc.org/event/one-love-life-center-workshops-30/
LOCATION:Gethsemane United Methodist Church-1-Fellowship Hall (200)
END:VEVENT
BEGIN:VEVENT
DTSTART;TZID=America/New_York:20260912T100000
DTEND;TZID=America/New_York:20260912T130000
DTSTAMP:20260425T123407
CREATED:20260210T205153Z
LAST-MODIFIED:20260425T083636Z
UID:42292-1789207200-1789218000@gethsemaneumc.org
SUMMARY:Food Pantry
DESCRIPTION:The Food Pantry provides free\, nutritious groceries to individuals and families experiencing food insecurity. The pantry offers fresh produce\, shelf-stable items\, and other essential foods in a welcoming and dignified environment. Services are designed to be accessible and responsive to community needs\, with regular distribution hours and no-cost participation. The pantry also serves as a connection point for additional resources related to food access\, health\, and community support.\nServices are provided in part by funds from the Capital Area Food Bank.\nFor more information email KCoates@Gethsemaneumc.org
URL:https://gethsemaneumc.org/event/food-pantry-334/
LOCATION:Gethsemane United Methodist Church 910 Addison Rd S\, Capitol Heights\, MD\, United States
END:VEVENT
BEGIN:VEVENT
DTSTART;TZID=America/New_York:20260912T100000
DTEND;TZID=America/New_York:20260912T130000
DTSTAMP:20260425T123407
CREATED:20260210T215344Z
LAST-MODIFIED:20260425T073636Z
UID:42405-1789207200-1789218000@gethsemaneumc.org
SUMMARY:One Love Life Center Workshops
DESCRIPTION:One Love Life Center is a community-rooted organization committed to holistic personal development for young people and emerging adults. Our work focuses on supporting individuals along a path toward greater mental\, emotional\, and spiritual health\, while helping them identify their value\, strengthen life skills\, and build sustainable pathways toward purpose\, wellness\, and civic engagement. OLLC exists to walk alongside individuals—not simply to offer programs\, but to foster long-term growth\, accountability\, and community impact.\nFor more information email raimon@\n-onelovelifecenter.org
URL:https://gethsemaneumc.org/event/one-love-life-center-workshops-31/
LOCATION:Gethsemane United Methodist Church-1-Fellowship Hall (200)
END:VEVENT
BEGIN:VEVENT
DTSTART;TZID=America/New_York:20260917T100000
DTEND;TZID=America/New_York:20260917T120000
DTSTAMP:20260425T123407
CREATED:20260210T215344Z
LAST-MODIFIED:20260425T073636Z
UID:42406-1789639200-1789646400@gethsemaneumc.org
SUMMARY:Green Team Meeting
DESCRIPTION:Join us as we launch the Sacred Grounds Green Team\, a new community of congregants and neighbors coming together to care for Creation\, learn from one another\, and take meaningful steps toward climate action. \nBuilding on the Sacred Grounds garden installation project\, The Capital Market and Gethsemane United Methodist Church are inviting community members of all ages to gather every third Thursday for conversation\, education\, and fellowship rooted in environmental stewardship and faith. \nThis kick-off gathering will introduce the vision of the Green Team and offer space to reflect on where we each fit in the climate movement. \nWhere: 910 Addison Road South\, Capitol Heights\, MD 20743When: February 20\, 2026 | 10:00 a.m. – 12:00 p.m.Cost: Free and open to all \nPlease RSVP to let us know you’re coming.Questions? Contact kennedy@thecapitalmarketmd.com
URL:https://gethsemaneumc.org/event/green-team-meeting-8/
LOCATION:Gethsemane United Methodist Church\, 910 Addison Rd S\, Capitol Heights\, MD 20743\, USA\, Gethsemane United Methodist Church-1-Fellowship Hall (200)
END:VEVENT
BEGIN:VEVENT
DTSTART;TZID=America/New_York:20260917T190000
DTEND;TZID=America/New_York:20260917T200000
DTSTAMP:20260425T123407
CREATED:20250108T232626Z
LAST-MODIFIED:20260425T073636Z
UID:39616-1789671600-1789675200@gethsemaneumc.org
SUMMARY:Men's Bible Study
DESCRIPTION:Join with Google Meet: https://meet.google.com/ids-cgao-sca\nOr dial: (US) +1 512-520-0559 PIN: 930332197#\nMore phone numbers: https://tel.meet/ids-cgao-sca?pin=6956896719146&hs=7\nLearn more about Meet at: https://support.google.com/a/users/answer/9282720
URL:https://gethsemaneumc.org/event/mens-bible-study-178/
END:VEVENT
BEGIN:VEVENT
DTSTART;TZID=America/New_York:20260919T100000
DTEND;TZID=America/New_York:20260919T130000
DTSTAMP:20260425T123407
CREATED:20260210T205153Z
LAST-MODIFIED:20260425T083636Z
UID:42293-1789812000-1789822800@gethsemaneumc.org
SUMMARY:Food Pantry
DESCRIPTION:The Food Pantry provides free\, nutritious groceries to individuals and families experiencing food insecurity. The pantry offers fresh produce\, shelf-stable items\, and other essential foods in a welcoming and dignified environment. Services are designed to be accessible and responsive to community needs\, with regular distribution hours and no-cost participation. The pantry also serves as a connection point for additional resources related to food access\, health\, and community support.\nServices are provided in part by funds from the Capital Area Food Bank.\nFor more information email KCoates@Gethsemaneumc.org
URL:https://gethsemaneumc.org/event/food-pantry-335/
LOCATION:Gethsemane United Methodist Church 910 Addison Rd S\, Capitol Heights\, MD\, United States
END:VEVENT
BEGIN:VEVENT
DTSTART;TZID=America/New_York:20260919T100000
DTEND;TZID=America/New_York:20260919T130000
DTSTAMP:20260425T123407
CREATED:20260210T215344Z
LAST-MODIFIED:20260425T073636Z
UID:42407-1789812000-1789822800@gethsemaneumc.org
SUMMARY:One Love Life Center Workshops
DESCRIPTION:One Love Life Center is a community-rooted organization committed to holistic personal development for young people and emerging adults. Our work focuses on supporting individuals along a path toward greater mental\, emotional\, and spiritual health\, while helping them identify their value\, strengthen life skills\, and build sustainable pathways toward purpose\, wellness\, and civic engagement. OLLC exists to walk alongside individuals—not simply to offer programs\, but to foster long-term growth\, accountability\, and community impact.\nFor more information email raimon@\n-onelovelifecenter.org
URL:https://gethsemaneumc.org/event/one-love-life-center-workshops-32/
LOCATION:Gethsemane United Methodist Church-1-Fellowship Hall (200)
END:VEVENT
BEGIN:VEVENT
DTSTART;TZID=America/New_York:20260926T100000
DTEND;TZID=America/New_York:20260926T130000
DTSTAMP:20260425T123407
CREATED:20260210T205153Z
LAST-MODIFIED:20260425T083636Z
UID:42294-1790416800-1790427600@gethsemaneumc.org
SUMMARY:Food Pantry
DESCRIPTION:The Food Pantry provides free\, nutritious groceries to individuals and families experiencing food insecurity. The pantry offers fresh produce\, shelf-stable items\, and other essential foods in a welcoming and dignified environment. Services are designed to be accessible and responsive to community needs\, with regular distribution hours and no-cost participation. The pantry also serves as a connection point for additional resources related to food access\, health\, and community support.\nServices are provided in part by funds from the Capital Area Food Bank.\nFor more information email KCoates@Gethsemaneumc.org
URL:https://gethsemaneumc.org/event/food-pantry-336/
LOCATION:Gethsemane United Methodist Church 910 Addison Rd S\, Capitol Heights\, MD\, United States
END:VEVENT
BEGIN:VEVENT
DTSTART;TZID=America/New_York:20260926T100000
DTEND;TZID=America/New_York:20260926T130000
DTSTAMP:20260425T123407
CREATED:20260210T215344Z
LAST-MODIFIED:20260425T073636Z
UID:42408-1790416800-1790427600@gethsemaneumc.org
SUMMARY:One Love Life Center Workshops
DESCRIPTION:One Love Life Center is a community-rooted organization committed to holistic personal development for young people and emerging adults. Our work focuses on supporting individuals along a path toward greater mental\, emotional\, and spiritual health\, while helping them identify their value\, strengthen life skills\, and build sustainable pathways toward purpose\, wellness\, and civic engagement. OLLC exists to walk alongside individuals—not simply to offer programs\, but to foster long-term growth\, accountability\, and community impact.\nFor more information email raimon@\n-onelovelifecenter.org
URL:https://gethsemaneumc.org/event/one-love-life-center-workshops-33/
LOCATION:Gethsemane United Methodist Church-1-Fellowship Hall (200)
END:VEVENT
END:VCALENDAR